{"text_format":"1","workbook":"xlsx","n_sheets":10,"sheets":["FORS","ÅRSTOT","BETONG","TØMRERE","MALERE","RØRLEGGERE","BLIKK OG VENTILASJON","TAKTEKKERE","MURERE","ISOLATØR"],"not_rendered":{"charts":0,"images":0,"macros":0,"external_links":0,"defined_names":0,"comments":0,"pivot_tables":0},"unopened":[],"bounds":{"document_bytes":16777216,"sheet_cells":100000,"rows_first":2000,"rows_last":500,"rows_between":2000,"halvings":0,"cell_chars":16384,"cell_head_chars":4096},"cells_cut":0,"cells_raw":0,"read":"whole","date_system":"1900"}

{"sheet":"FORS","index":0,"n_rows":15,"n_cols":9,"rows_kept":15,"cut":false,"hidden":false,"merged":[]}
[]
[]
[]
["STATISTIKK "]
[]
[]
["FOR "]
[]
[]
["MÅLEVIRKSOMHETEN"]
[]
[]
[]
[2015]
["NB: Alle timefortjenester er før eventuelt trekk av målegebyr",null,null,null,null,null,null,null,"Passord dokumentbeskyttelse:<Retur>"]

{"sheet":"ÅRSTOT","index":1,"n_rows":68,"n_cols":13,"rows_kept":68,"cut":false,"hidden":false,"merged":[]}
[]
[{"$f":"\"MÅLESTATISTIKK ALLE BYGGFAG - 1. HALVÅR \"&FORS!$A$14","v":"MÅLESTATISTIKK ALLE BYGGFAG - 1. HALVÅR 2015"}]
[]
[null,"Målesum i kroner",null,"Timer",null,{"$f":"\"Fortjeneste 1. halvår  \"&FORS!$A$14-0","v":"Fortjeneste 1. halvår  2015"},null,null,{"$f":"\" 1. halvår  \"&FORS!$A$14-1","v":" 1. halvår  2014"},null,null,"Endringer i %"]
[null,"Innmålt m/","Innmålt m/","Innmålt m/","Innmålt m/","Innmålt m/","Innmålt m/","Gjennom-","Innmålt m/","Innmålt m/","Gjen.snitt","Innmålt m/","Gjen.snitt"]
[null,"overskudd","underskudd","overskudd","underskudd","overskudd","underskudd","snitt","overskudd","underskudd","fortjeneste","overskudd","fortjeneste"]
["Agder",{"$f":"BETONG!B7+TØMRERE!B7+MALERE!B7+TAKTEKKERE!B7+MURERE!B7","v":10755402},{"$f":"BETONG!C7+TØMRERE!C7+MALERE!C7+TAKTEKKERE!C7+MURERE!C7","v":0},{"$f":"BETONG!D7+TØMRERE!D7+MALERE!D7+TAKTEKKERE!D7+MURERE!D7","v":40504},{"$f":"BETONG!E7+TØMRERE!E7+MALERE!E7+TAKTEKKERE!E7+MURERE!E7","v":0},{"$f":"IF(D7=0,0,B7/D7)","v":265.53925538218448},0,{"$f":"IF(D7+E7=0,0,(B7+C7)/(D7+E7))","v":265.53925538218448},11478088,667399,264.21612861120781,{"$f":"IF(I7=0,0,(B7-I7)/I7)","v":-6.2962228552351229E-2},{"$f":"(H7-K7)/K7","v":5.0077441446568279E-3}]
["Bergen",{"$f":"BETONG!B8+TØMRERE!B8+MALERE!B8+RØRLEGGERE!B7+MURERE!B8+TAKTEKKERE!B11","v":49166471.149999999},{"$f":"BETONG!C8+TØMRERE!C8+MALERE!C8+RØRLEGGERE!C7+MURERE!C8+TAKTEKKERE!C11","v":0},{"$f":"BETONG!D8+TØMRERE!D8+MALERE!D8+RØRLEGGERE!D7+MURERE!D8+TAKTEKKERE!D11","v":180045.15000000002},{"$f":"BETONG!E8+TØMRERE!E8+MALERE!E8+RØRLEGGERE!E7+MURERE!E8+TAKTEKKERE!E11","v":0},{"$f":"IF(D8=0,0,B8/D8)","v":273.07856473778935},{"$f":"IF(E8=0,0,C8/E8)","v":0},{"$f":"IF(D8+E8=0,0,(B8+C8)/(D8+E8))","v":273.07856473778935},14441101.77,0,266.05501594273841,{"$f":"IF(I8=0,0,(B8-I8)/I8)","v":2.4046205014729978},{"$f":"(H8-K8)/K8","v":2.639885878551744E-2}]
["Drammen - Bærum",{"$f":"BETONG!B9+TØMRERE!B9","v":0},{"$f":"BETONG!C9+TØMRERE!C9","v":0},{"$f":"BETONG!D9+TØMRERE!D9","v":0},{"$f":"BETONG!E9+TØMRERE!E9","v":0},0,0,0,713571.21,0,260.42744890510949,-1,-1]
["Glåmdal",{"$f":"BETONG!B10+TØMRERE!B10+TAKTEKKERE!B9+MURERE!B9+MALERE!B9","v":1966967.18},{"$f":"BETONG!C10+TØMRERE!C10+TAKTEKKERE!C9+MURERE!C9+MALERE!C9","v":0},{"$f":"BETONG!D10+TØMRERE!D10+TAKTEKKERE!D9+MURERE!D9+MALERE!D9","v":6746},{"$f":"BETONG!E10+TØMRERE!E10+TAKTEKKERE!E9+MURERE!E9+MALERE!E9","v":0},291.57533056626147,0,291.57533056626147,2029751.5,0,268.45013887051977,-3.0932022959460834E-2,8.614334040965263E-2]
["Haugesund",{"$f":"BETONG!B11+'BLIKK OG VENTILASJON'!B7+TAKTEKKERE!B8","v":6789716},{"$f":"BETONG!C11++'BLIKK OG VENTILASJON'!C7+TAKTEKKERE!C8","v":0},{"$f":"BETONG!D11++'BLIKK OG VENTILASJON'!D7+TAKTEKKERE!D8","v":26677.119999999999},{"$f":"BETONG!E11++'BLIKK OG VENTILASJON'!E7+TAKTEKKERE!E8","v":0},254.51458028452848,0,254.51458028452848,12504112,0,258.55578533031633,-0.45700134483760224,-1.5629915380253556E-2]
["Hamar og Omegn",{"$f":"BETONG!B12+TØMRERE!B11+MALERE!B10+TAKTEKKERE!B10+MURERE!B10","v":9555534.2400000002},{"$f":"BETONG!C12+TØMRERE!C11+MALERE!C10+TAKTEKKERE!C10+MURERE!C10","v":823660.05},{"$f":"BETONG!D12+TØMRERE!D11+MALERE!D10+TAKTEKKERE!D10+MURERE!D10","v":34689.51},{"$f":"BETONG!E12+TØMRERE!E11+MALERE!E10+TAKTEKKERE!E10+MURERE!E10","v":4628.47},275.45889924648691,177.95514500472078,263.98086295379369,7815785.8499999996,823915.31,229.20256132110134,0.22259417330376327,0.15173609506034133]
["Nordland",{"$f":"BETONG!B13+TØMRERE!B12+MALERE!B11+RØRLEGGERE!B8+MURERE!B11+TAKTEKKERE!B12","v":7370371},{"$f":"BETONG!C13+TØMRERE!C12+MALERE!C11+RØRLEGGERE!C8+MURERE!C11+TAKTEKKERE!C12","v":675503},{"$f":"BETONG!D13+TØMRERE!D12+MALERE!D11+RØRLEGGERE!D8+MURERE!D11+TAKTEKKERE!D12","v":22863},{"$f":"BETONG!E13+TØMRERE!E12+MALERE!E11+RØRLEGGERE!E8+MURERE!E11+TAKTEKKERE!E12","v":3374},322.37112364956482,200.20835803200947,306.66135610016391,15005956,0,293.68161891341788,-0.50883695780528748,4.4196627745274969E-2]
["Sandnes",{"$f":"BETONG!B14+MALERE!B12","v":40738774.359999999},{"$f":"BETONG!C14+MALERE!C12","v":0},{"$f":"BETONG!D14+MALERE!D12","v":126828.81},{"$f":"BETONG!E14+MALERE!E12","v":0},321.21072775184126,0,321.21072775184126,49143063.810000002,0,310.94850661958225,-0.17101679867769731,3.3002960020045782E-2]
["Stavanger",{"$f":"BETONG!B15+TØMRERE!B13+RØRLEGGERE!B9+'BLIKK OG VENTILASJON'!B8+TAKTEKKERE!B13+MURERE!B12","v":7357788},{"$f":"BETONG!C15+TØMRERE!C13+RØRLEGGERE!C9+'BLIKK OG VENTILASJON'!C8+TAKTEKKERE!C13+MURERE!C12","v":204969},{"$f":"BETONG!D15+TØMRERE!D13+RØRLEGGERE!D9+'BLIKK OG VENTILASJON'!D8+TAKTEKKERE!D13+MURERE!D12","v":26209.5},{"$f":"BETONG!E15+TØMRERE!E13+RØRLEGGERE!E9+'BLIKK OG VENTILASJON'!E8+TAKTEKKERE!E13+MURERE!E12","v":1211},280.72981170949464,169.25598678777868,275.80667748582266,9579072,194536,280.28700889016346,-0.23188926860556011,-1.5984798660777452E-2]
["Telemark",{"$f":"BETONG!B16+TØMRERE!B14+MALERE!B13+TAKTEKKERE!B14+MURERE!B14","v":11658182.199999999},{"$f":"BETONG!C16+TØMRERE!C14+MALERE!C13+TAKTEKKERE!C14+MURERE!C14","v":424120},{"$f":"BETONG!D16+TØMRERE!D14+MALERE!D13+TAKTEKKERE!D14+MURERE!D14","v":43646.68},{"$f":"BETONG!E16+TØMRERE!E14+MALERE!E13+TAKTEKKERE!E14+MURERE!E14","v":2209},267.10352769099501,191.99637845178813,263.48540028192798,33694106.799999997,515577,259.44714722294185,-0.65399936940901482,1.5564838936217228E-2]
["Tromsø ",{"$f":"BETONG!B17+MALERE!B14+RØRLEGGERE!B10+TØMRERE!B16+MURERE!B13","v":1444903},{"$f":"BETONG!C17+MALERE!C14+RØRLEGGERE!C10+TØMRERE!C16+MURERE!C13","v":0},{"$f":"BETONG!D17+MALERE!D14+RØRLEGGERE!D10+TØMRERE!D16+MURERE!D13","v":5813.3},{"$f":"BETONG!E17+MALERE!E14+RØRLEGGERE!E10+TØMRERE!E16+MURERE!E13","v":0},248.55125316085528,0,248.55125316085528,7329526,0,253.17879101899828,-0.80286542403969918,-1.8277746882027549E-2]
["Trondheim",{"$f":"BETONG!B18+TØMRERE!B15+MALERE!B15+RØRLEGGERE!B11+TAKTEKKERE!B15+MURERE!B15","v":128528278.5},{"$f":"BETONG!C18+TØMRERE!C15+MALERE!C15+RØRLEGGERE!C11+TAKTEKKERE!C15+MURERE!C15","v":5172886.41},{"$f":"BETONG!D18+TØMRERE!D15+MALERE!D15+RØRLEGGERE!D11+TAKTEKKERE!D15+MURERE!D15","v":456529.33},{"$f":"BETONG!E18+TØMRERE!E15+MALERE!E15+RØRLEGGERE!E11+TAKTEKKERE!E15+MURERE!E15","v":28906.37},281.5334526261434,178.95316534037309,275.42507670943854,105934403.31,3221500,257.07372777230307,0.21328175251889278,7.1385548014419195E-2]
["Vestfold",{"$f":"BETONG!B19+TØMRERE!B17+MALERE!B16+MURERE!B16+TAKTEKKERE!B16","v":8514783},{"$f":"BETONG!C19+TØMRERE!C17+MALERE!C16+MURERE!C16+TAKTEKKERE!C16","v":435336},{"$f":"BETONG!D19+TØMRERE!D17+MALERE!D16+MURERE!D16+TAKTEKKERE!D16","v":33955.82},{"$f":"BETONG!E19+TØMRERE!E17+MALERE!E16+MURERE!E16+TAKTEKKERE!E16","v":3100},250.76063543745963,140.43096774193549,241.53072310908246,4478468,0,226.40250745665031,0.90127137226390808,6.6820000460148493E-2]
["Østfold",{"$f":"BETONG!B20+TØMRERE!B18+MURERE!B18","v":16445912.5},{"$f":"BETONG!C20+TØMRERE!C18+MURERE!C18","v":3802314},{"$f":"BETONG!D20+TØMRERE!D18+MURERE!D18","v":57968},{"$f":"BETONG!E20+TØMRERE!E18+MURERE!E18","v":18829.5},283.70674337565555,201.93388034732735,263.65736514860509,11663200.5,0,250.96993921136155,0.41006857423054677,5.0553568196701301E-2]
["Oslo",{"$f":"BETONG!B21+TØMRERE!B19+MALERE!B17+RØRLEGGERE!B12+'BLIKK OG VENTILASJON'!B9+TAKTEKKERE!B17+MURERE!B17+ISOLATØR!B7","v":70571022.039999992},{"$f":"BETONG!C21+TØMRERE!C19+MALERE!C17+RØRLEGGERE!C12+'BLIKK OG VENTILASJON'!C9+TAKTEKKERE!C17+MURERE!C17+ISOLATØR!C7","v":288977.45},{"$f":"BETONG!D21+TØMRERE!D19+MALERE!D17+RØRLEGGERE!D12+'BLIKK OG VENTILASJON'!D9+TAKTEKKERE!D17+MURERE!D17+ISOLATØR!D7","v":241793.5},{"$f":"BETONG!E21+TØMRERE!E19+MALERE!E17+RØRLEGGERE!E12+'BLIKK OG VENTILASJON'!E9+TAKTEKKERE!E17+MURERE!E17+ISOLATØR!E7","v":1716.7},291.86484351316307,168.33311003669832,290.99396858940605,89338612.760000005,582505.85,276.57628716947437,-0.2100725558658206,5.2129130691154046E-2]
["Landet i alt",{"$f":"SUM(B7:B21)","v":370864105.16999996},{"$f":"SUM(C7:C21)","v":11827765.91},{"$f":"SUM(D7:D21)","v":1304269.72},{"$f":"SUM(E7:E21)","v":63975.039999999994},284.34617432504677,184.88094591265596,279.69547720394701,375148819.50999999,6005433.1600000001,268.91023940561394,-1.1421372311917456E-2,4.0107203883988328E-2]
[]
[]
[{"$f":"\"MÅLESTATISTIKK FOR ALLE BYGGFAG - 2. HALVÅR \"&FORS!$A$14","v":"MÅLESTATISTIKK FOR ALLE BYGGFAG - 2. HALVÅR 2015"}]
[]
[null,"Målesum i kroner",null,"Timer",null,{"$f":"\"Fortjeneste 2. halvår  \"&FORS!$A$14-0","v":"Fortjeneste 2. halvår  2015"},null,null,{"$f":"\" 2. halvår  \"&FORS!$A$14-1","v":" 2. halvår  2014"},null,null,"Endringer i %"]
[null,"Innmålt m/","Innmålt m/","Innmålt m/","Innmålt m/","Innmålt m/","Innmålt m/","Gjennom-","Innmålt m/","Innmålt m/","Gjen.snitt","Innmålt m/","Gjen.snitt"]
[null,"overskudd","underskudd","overskudd","underskudd","overskudd","underskudd","snitt","overskudd","underskudd","fortjeneste","overskudd","fortjeneste"]
["Agder",{"$f":"BETONG!B30+TØMRERE!B28+MALERE!B26+TAKTEKKERE!B26+MURERE!B27","v":10547945},{"$f":"BETONG!C30+TØMRERE!C28+MALERE!C26+TAKTEKKERE!C26+MURERE!C27","v":489063},{"$f":"BETONG!D30+TØMRERE!D28+MALERE!D26+TAKTEKKERE!D26+MURERE!D27","v":38341},{"$f":"BETONG!E30+TØMRERE!E28+MALERE!E26+TAKTEKKERE!E26+MURERE!E27","v":2469},{"$f":"IF(D30=0,0,B30/D30)","v":275.10876085652433},198.08140947752128,{"$f":"IF(D30+E30=0,0,(B30+C30)/(D30+E30))","v":270.44861553540801},13192298,16475,266.71458282852757,{"$f":"IF(I30=0,0,(B30-I30)/I30)","v":-0.20044673035736457},{"$f":"(H30-K30)/K30","v":1.4000107033071654E-2}]
["Bergen",{"$f":"BETONG!B31+TØMRERE!B29+MALERE!B27+RØRLEGGERE!B21+MURERE!B28+TAKTEKKERE!B30","v":26273018.129999999},{"$f":"BETONG!C31+TØMRERE!C29+MALERE!C27+RØRLEGGERE!C21+MURERE!C28+TAKTEKKERE!C30","v":0},{"$f":"BETONG!D31+TØMRERE!D29+MALERE!D27+RØRLEGGERE!D21+MURERE!D28+TAKTEKKERE!D30","v":97931.82},{"$f":"BETONG!E31+TØMRERE!E29+MALERE!E27+RØRLEGGERE!E21+MURERE!E28+TAKTEKKERE!E30","v":0},268.27866703590308,0,268.27866703590308,28455483,0,271.24564696493616,{"$f":"IF(I31=0,0,(B31-I31)/I31)","v":-7.6697516257235948E-2},{"$f":"(H31-K31)/K31","v":-1.0938350392832714E-2}]
["Drammen - Bærum",{"$f":"BETONG!B32+TØMRERE!B30","v":4188998.7300000004},{"$f":"BETONG!C32+TØMRERE!C30","v":0},{"$f":"BETONG!D32+TØMRERE!D30","v":11612.28},{"$f":"BETONG!E32+TØMRERE!E30","v":0},360.73869472661704,0,360.73869472661704,3063199.76,0,264.86239035040313,0.36752385028915019,0.36198534736990445]
["Glåmdal",{"$f":"BETONG!B33+TØMRERE!B31+TAKTEKKERE!B28+MURERE!B29+MALERE!B28","v":0},{"$f":"BETONG!C33+TØMRERE!C31+TAKTEKKERE!C28+MURERE!C29+MALERE!C28","v":0},{"$f":"BETONG!D33+TØMRERE!D31+TAKTEKKERE!D28+MURERE!D29+MALERE!D28","v":0},{"$f":"BETONG!E33+TØMRERE!E31+TAKTEKKERE!E28+MURERE!E29+MALERE!E28","v":0},0,0,0,1750464.09,0,244.63197400600939,-1,-1]
["Haugesund",{"$f":"BETONG!B34+TAKTEKKERE!B27","v":10138026},{"$f":"BETONG!C34+TAKTEKKERE!C27","v":0},{"$f":"BETONG!D34+TAKTEKKERE!D27","v":39537.08},{"$f":"BETONG!E34+TAKTEKKERE!E27","v":0},256.4181775690061,0,256.4181775690061,12609917,0,253.53956429512118,-0.19602753927722125,1.1353704428292716E-2]
["Hamar og Omegn",{"$f":"BETONG!B35+TØMRERE!B32+MALERE!B29+TAKTEKKERE!B29+MURERE!B30","v":14044132.870000001},{"$f":"BETONG!C35+TØMRERE!C32+MALERE!C29+TAKTEKKERE!C29+MURERE!C30","v":385742},{"$f":"BETONG!D35+TØMRERE!D32+MALERE!D29+TAKTEKKERE!D29+MURERE!D30","v":51751.15},{"$f":"BETONG!E35+TØMRERE!E32+MALERE!E29+TAKTEKKERE!E29+MURERE!E30","v":2281},271.37817942209983,169.11091626479615,267.0609048501679,9200637.9900000002,699810,248.70685796968931,0.52643032855594407,7.3797912250234202E-2]
["Nordland",{"$f":"BETONG!B36+TØMRERE!B33+MALERE!B30+RØRLEGGERE!B22+MURERE!B31+TAKTEKKERE!B31+'BLIKK OG VENTILASJON'!B18","v":485125},{"$f":"BETONG!C36+TØMRERE!C33+MALERE!C30+RØRLEGGERE!C22+MURERE!C31+TAKTEKKERE!C31+'BLIKK OG VENTILASJON'!C18","v":0},{"$f":"BETONG!D36+TØMRERE!D33+MALERE!D30+RØRLEGGERE!D22+MURERE!D31+TAKTEKKERE!D31+'BLIKK OG VENTILASJON'!D18","v":2001},{"$f":"BETONG!E36+TØMRERE!E33+MALERE!E30+RØRLEGGERE!E22+MURERE!E31+TAKTEKKERE!E31+'BLIKK OG VENTILASJON'!E18","v":0},242.44127936031984,0,242.44127936031984,5166009,0,320.0154246422598,-0.90609288524274734,-0.24240751947709668]
["Sandnes",{"$f":"BETONG!B37+MALERE!B31","v":33858607.240000002},{"$f":"BETONG!C37++MALERE!C31","v":0},{"$f":"BETONG!D37++MALERE!D31","v":107364.58},{"$f":"BETONG!E37++MALERE!E31","v":0},315.36105520088654,0,315.36105520088654,50325400.009999998,0,314.80292623961776,-0.32720639610868335,1.772947182974877E-3]
["Stavanger",{"$f":"BETONG!B38+TØMRERE!B34+RØRLEGGERE!B23+'BLIKK OG VENTILASJON'!B19+TAKTEKKERE!B32+MURERE!B32","v":5573603.7799999993},{"$f":"BETONG!C38+TØMRERE!C34+RØRLEGGERE!C23+'BLIKK OG VENTILASJON'!C19+TAKTEKKERE!C32+MURERE!C32","v":262724.06},{"$f":"BETONG!D38+TØMRERE!D34+RØRLEGGERE!D23+'BLIKK OG VENTILASJON'!D19+TAKTEKKERE!D32+MURERE!D32","v":16759.5},{"$f":"BETONG!E38+TØMRERE!E34+RØRLEGGERE!E23+'BLIKK OG VENTILASJON'!E19+TAKTEKKERE!E32+MURERE!E32","v":1380.3},332.56384617679521,190.33837571542418,321.74157598209456,5817919,525653,278.45889118124751,-4.1993575366037351E-2,0.15543653361987486]
["Telemark",{"$f":"BETONG!B39+TØMRERE!B35+MALERE!B32+TAKTEKKERE!B33+MURERE!B34","v":11346916.300000001},{"$f":"BETONG!C39+TØMRERE!C35+MALERE!C32+TAKTEKKERE!C33+MURERE!C34","v":0},{"$f":"BETONG!D39+TØMRERE!D35+MALERE!D32+TAKTEKKERE!D33+MURERE!D34","v":45658.250000000007},{"$f":"BETONG!E39+TØMRERE!E35+MALERE!E32+TAKTEKKERE!E33+MURERE!E34","v":0},248.51842328604357,0,248.51842328604357,12609511.93,591722.14,259.37746719574722,-0.10013041242271135,-4.1865795156016891E-2]
["Tromsø",{"$f":"BETONG!B40+MALERE!B33+RØRLEGGERE!B24+TØMRERE!B37+MURERE!B33","v":0},{"$f":"BETONG!C40+MALERE!C33+RØRLEGGERE!C24+TØMRERE!C37+MURERE!C33","v":0},{"$f":"BETONG!D40+MALERE!D33+RØRLEGGERE!D24+TØMRERE!D37+MURERE!D33","v":0},{"$f":"BETONG!E40+MALERE!E33+RØRLEGGERE!E24+TØMRERE!E37+MURERE!E33","v":0},0,0,0,2958447,0,262.93567137118276,-1,-1]
["Trondheim",{"$f":"BETONG!B41+TØMRERE!B36+MALERE!B34+RØRLEGGERE!B25+TAKTEKKERE!B34+MURERE!B35","v":145175352.40000001},{"$f":"BETONG!C41+TØMRERE!C36+MALERE!C34+RØRLEGGERE!C25+TAKTEKKERE!C34+MURERE!C35","v":11017593.27},{"$f":"BETONG!D41+TØMRERE!D36+MALERE!D34+RØRLEGGERE!D25+TAKTEKKERE!D34+MURERE!D35","v":524932.15},{"$f":"BETONG!E41+TØMRERE!E36+MALERE!E34+RØRLEGGERE!E25+TAKTEKKERE!E34+MURERE!E35","v":63214.55},276.5602228783282,174.28888238546347,265.56800483620839,157439054.87,8263898,271.8585923281691,-7.7894919276073768E-2,-2.3139189525292401E-2]
["Vestfold",{"$f":"BETONG!B42+TØMRERE!B38+MALERE!B35+MURERE!B36+TAKTEKKERE!B35","v":2656616},{"$f":"BETONG!C42+TØMRERE!C38+MALERE!C35+MURERE!C36+TAKTEKKERE!C35","v":1644948},{"$f":"BETONG!D42+TØMRERE!D38+MALERE!D35+MURERE!D36+TAKTEKKERE!D35","v":10374.5},{"$f":"BETONG!E42+TØMRERE!E38+MALERE!E35+MURERE!E36+TAKTEKKERE!E35","v":8055},256.07171429948431,204.2145251396648,233.40644076073687,918513,0,270.98775630623987,1.8923009255176573,-0.13868270676787636]
["Østfold",{"$f":"BETONG!B43+TØMRERE!B39+MURERE!B38","v":9240390.6799999997},{"$f":"BETONG!C43+TØMRERE!C39+MURERE!C38","v":0},{"$f":"BETONG!D43+TØMRERE!D39+MURERE!D38","v":31840},{"$f":"BETONG!E43+TØMRERE!E39+MURERE!E38","v":0},290.21327512562812,0,290.21327512562812,11501993,872161,282.59880786534814,-0.19662699499121589,2.6944442256487153E-2]
["Oslo",{"$f":"BETONG!B44+TØMRERE!B40+MALERE!B36+RØRLEGGERE!B26+TAKTEKKERE!B36+MURERE!B37","v":54529578.5},{"$f":"BETONG!C44+RØRLEGGERE!C26+TAKTEKKERE!C36","v":6405994.0499999998},{"$f":"BETONG!D44+TØMRERE!D40+MALERE!D36+RØRLEGGERE!D26+'BLIKK OG VENTILASJON'!D20+TAKTEKKERE!D36+MURERE!D37+ISOLATØR!D8","v":191246.8},{"$f":"BETONG!E44+TØMRERE!E40+MALERE!E36+RØRLEGGERE!E26+'BLIKK OG VENTILASJON'!E20+TAKTEKKERE!E36+MURERE!E37+ISOLATØR!E8","v":34347.4},285.12674983319982,186.50593785846962,270.11143260775322,81324662.100000009,415305.15,309.50021885392493,-0.32948287651108488,-0.12726577833136227]
["Landet i alt",{"$f":"SUM(B30:B44)","v":328058310.63},{"$f":"SUM(C30:C44)","v":20206064.379999999},{"$f":"SUM(D30:D44)","v":1169350.1100000001},{"$f":"SUM(E30:E44)","v":111747.25},280.54755186194831,180.81934347377674,271.84848387323188,396333509.75,11385024.290000001,282.26993393882248,-0.17226703632268381,-3.6920156249617697E-2]
[]
[]
[{"$f":"\"MÅLESTATISTIKK FOR ALLE BYGGFAG - GJENNOMSNITT HELE ÅRET  \"&FORS!$A$14","v":"MÅLESTATISTIKK FOR ALLE BYGGFAG - GJENNOMSNITT HELE ÅRET  2015"}]
[]
[null,"Målesum i kroner",null,"Timer",null,{"$f":"\"Fortjeneste hele  \"&FORS!$A$14-0","v":"Fortjeneste hele  2015"},null,null,{"$f":"\" Hele året  \"&FORS!$A$14-1","v":" Hele året  2014"},null,null,"Endringer i %"]
[null,"Innmålt m/","Innmålt m/","Innmålt m/","Innmålt m/","Innmålt m/","Innmålt m/","Gjennom-","Innmålt m/","Innmålt m/","Gjen.snitt","Innmålt m/","Gjen.snitt"]
[null,"overskudd","underskudd","overskudd","underskudd","overskudd","underskudd","snitt","overskudd","underskudd","fortjeneste","overskudd","fortjeneste"]
["Agder",{"$f":"B7+B30","v":21303347},489063,78845,2469,{"$f":"IF(D53=0,0,B53/D53)","v":270.19274525968672},198.08140947752128,{"$f":"IF(D53+E53=0,0,(B53+C53)/(D53+E53))","v":268.00317288535797},24670386,683874,265.51187534034267,{"$f":"IF(I53=0,0,(B53-I53)/I53)","v":-0.13648100195919108},{"$f":"(H53-K53)/K53","v":9.3829985638942334E-3}]
["Bergen",{"$f":"B8+B31","v":75439489.280000001},0,277976.97000000003,0,271.38755156587251,0,271.38755156587251,42896584.769999996,0,269.47575800331333,{"$f":"IF(I54=0,0,(B54-I54)/I54)","v":0.75863625704671711},{"$f":"(H54-K54)/K54","v":7.0944918263693172E-3}]
["Drammen - Bærum",{"$f":"B9+B32","v":4188998.7300000004},0,11612.28,0,360.73869472661704,0,360.73869472661704,3776770.9699999997,0,264.01293021792696,0.10914820180372249,0.36636752763907704]
["Glåmdal",{"$f":"B10+B33","v":1966967.18},0,6746,0,291.57533056626147,0,291.57533056626147,3780215.59,0,256.8692005571977,-0.47966798898895607,0.13511207234569048]
["Haugesund",{"$f":"B11+B34","v":16927742},0,66214.2,0,255.65123493147996,0,255.65123493147996,25114029,0,256.01254148068131,-0.32596470283601248,-1.4112845687624602E-3]
["Hamar og Omegn",{"$f":"B12+B35","v":23599667.109999999},1209402.05,86440.66,6909.47,273.01581350720829,175.03542963497924,265.76362732435399,17016423.84,1523725.31,239.22060065048382,0.3868758401824105,0.11095627467573826]
["Nordland",{"$f":"B13+B36","v":7855496},675503,24864,3374,315.93854568854567,200.20835803200947,302.11059565125009,20171965,0,300.00394116509761,-0.61057358566703834,7.0220893697964743E-3]
["Sandnes",74597381.599999994,0,234193.39,0,318.52897983158272,0,318.52897983158272,99468463.819999993,0,312.88675413245261,-0.25003987459791455,1.8032804599780586E-2]
["Stavanger",12931391.779999999,467693.06,42969,2591.3000000000002,300.94700318834509,180.48587967429475,294.09562360212726,15396991,720189,279.56462160240068,-0.16013513419602574,5.1977256336793239E-2]
["Telemark",23005098.5,424120,89304.930000000008,2209,257.60166320045261,191.99637845178813,256.01805648604534,46303618.729999997,1107299.1400000001,259.42774155259218,-0.50316845354691353,-1.3143101220173934E-2]
["Tromsø",1444903,0,5813.3,0,248.55125316085528,0,248.55125316085528,10287973,0,255.90954091379447,-0.85955416096057013,-2.8753471741086431E-2]
["Trondheim",273703630.89999998,16190479.68,981461.48,92120.92,278.87353347784978,175.75247489929541,270.02502144222933,263373458.18000001,11485398,265.78798020253271,3.9222527552263499E-2,1.5941432853614979E-2]
["Vestfold",11171399,2080284,44330.32,11155,252.00357227288231,186.48892873151053,238.83223526511156,5396981,0,232.92466714140826,1.0699348394963777,2.5362569779339098E-2]
["Østfold",25686303.18,3802314,89808,18829.5,286.01353086584714,201.93388034732735,271.4404987228167,23165193.5,872161,266.31384508001929,0.10883179887964241,1.9250421025827639E-2]
["Oslo",125100600.53999999,6694971.5,433040.3,36064.1,288.88904921782108,185.64088664350422,{"$f":"IF(D67+E67=0,0,(B67+C67)/(D67+E67))","v":280.95147272121091},170663274.86000001,997811,291.33347927635162,-0.26697410065156896,-3.5636160255006634E-2]
["Landet i alt",{"$f":"SUM(B53:B67)","v":698922415.79999983},{"$f":"SUM(C53:C67)","v":32033830.289999999},{"$f":"SUM(D53:D67)","v":2473619.83},{"$f":"SUM(E53:E67)","v":175722.29},282.55045796588712,182.29804704912505,{"$f":"IF(D68+E68=0,0,(B68+C68)/(D68+E68))","v":275.90103994949499},771482329.26000011,17390457.449999999,275.65316502873225,-9.4052592921472597E-2,8.992275519016927E-4]

{"sheet":"BETONG","index":2,"n_rows":68,"n_cols":13,"rows_kept":68,"cut":false,"hidden":false,"merged":[]}
[]
[{"$f":"\"MÅLESTATISTIKK FOR BETONGFAGENE - 1. HALVÅR \"&FORS!$A$14","v":"MÅLESTATISTIKK FOR BETONGFAGENE - 1. HALVÅR 2015"}]
[]
[null,"Målesum i kroner",null,"Timer",null,{"$f":"\"Fortjeneste 1. halvår  \"&FORS!$A$14-0","v":"Fortjeneste 1. halvår  2015"},null,null,{"$f":"\" 1. halvår  \"&FORS!$A$14-1","v":" 1. halvår  2014"},null,null,"Endringer i %"]
[null,"Innmålt m/","Innmålt m/","Innmålt m/","Innmålt m/","Innmålt m/","Innmålt m/","Gjennom-","Innmålt m/","Innmålt m/","Gjen.snitt","Innmålt m/","Gjen.snitt"]
[null,"overskudd","underskudd","overskudd","underskudd","overskudd","underskudd","snitt","overskudd","underskudd","fortjeneste","overskudd","fortjeneste"]
["Agder",3299282,null,12218,null,{"$f":"IF(D7=0,0,B7/D7)","v":270.03453920445247},{"$f":"IF(E7=0,0,C7/E7)","v":0},{"$f":"IF(D7+E7=0,0,(B7+C7)/(D7+E7))","v":270.03453920445247},5922934,417010,260.30316965018886,{"$f":"IF(I7=0,0,(B7-I7)/I7)","v":-0.44296492245228464},{"$f":"IF(K7=0,0,(H7-K7)/K7)","v":3.7384752430564758E-2}]
["Bergen",37393459.100000001,null,132150.41,null,282.96135517097525,0,282.96135517097525,8158613.0599999996,null,281.60434973198164,{"$f":"IF(I8=0,0,(B8-I8)/I8)","v":3.58331076924489},{"$f":"IF(K8=0,0,(H8-K8)/K8)","v":4.8188369259393442E-3}]
["Drammen - Bærum",null,null,null,null,0,0,0,713571.21,null,260.42744890510949,-1,-1]
["Glåmdal",null,null,null,null,0,0,0,null,null,0,0,0]
["Haugesund",6789716,null,26677.119999999999,null,254.51458028452848,0,254.51458028452848,12504112,null,258.55578533031633,-0.45700134483760224,-1.5629915380253556E-2]
["Hamar og Omegn",3604653.76,null,12817.48,null,281.22952093547246,0,281.22952093547246,1588497.52,571180.31000000006,210.9748521490408,1.2692221515083006,0.33300020391435586]
["Nordland",null,null,null,null,0,0,0,null,null,0,0,0]
["Sandnes",40738774.359999999,null,126828.81,null,321.21072775184126,0,321.21072775184126,49143063.810000002,null,310.94850661958225,-0.17101679867769731,3.3002960020045782E-2]
["Stavanger",null,null,null,null,0,0,0,1014882,null,290.79713467048708,-1,-1]
["Telemark",1165010,null,3506.95,null,332.20034502915638,0,332.20034502915638,5542798.7999999998,null,287.88525722595892,-0.78981557115152723,0.15393316153183517]
["Tromsø",1444903,null,5813.3,null,248.55125316085528,0,248.55125316085528,5598848,null,254.9253051765038,-0.74192851815230565,-2.5003606492636284E-2]
["Trondheim",23961984.460000001,null,83587.91,null,286.66806551330211,0,286.66806551330211,26963863.309999999,null,291.91138413617489,-0.11132970136689208,-1.7962021722410119E-2]
["Vestfold",2687384,null,10311,null,260.63272233536998,0,260.63272233536998,null,null,0,0,0]
["Østfold",3241423.5,2724456,12186,13485,265.99569177744951,202.03604004449389,232.39762767324996,4665152.5,null,259.67284517547523,-0.30518380696022263,-0.10503684928546883]
["Oslo",17793000,null,61264,null,290.43157482371379,0,290.43157482371379,20557146,null,251.59281832868263,-0.13446156387661984,0.15437148306948864]
["Landet i alt",{"$f":"SUM(B7:B21)","v":142119590.18000001},{"$f":"SUM(C7:C21)","v":2724456},{"$f":"SUM(D7:D21)","v":487360.98},{"$f":"SUM(E7:E21)","v":13485},{"$f":"IF(D22=0,0,B22/D22)","v":291.61052282027174},{"$f":"IF(E22=0,0,C22/E22)","v":202.03604004449389},{"$f":"IF(D22+E22=0,0,(B22+C22)/(D22+E22))","v":289.19877959288004},142373482.20999998,988190.31,281.40031477759766,-1.7832817323768359E-3,2.7713063581488305E-2]
[]
[]
[{"$f":"\"MÅLESTATISTIKK FOR BETONGFAGENE - 2. HALVÅR \"&FORS!$A$14","v":"MÅLESTATISTIKK FOR BETONGFAGENE - 2. HALVÅR 2015"}]
[]
[null,"Målesum i kroner",null,"Timer",null,{"$f":"\"Fortjeneste 2. halvår  \"&FORS!$A$14-0","v":"Fortjeneste 2. halvår  2015"},null,null,{"$f":"\" 2. halvår  \"&FORS!$A$14-1","v":" 2. halvår  2014"},null,null,"Endringer i %"]
[null,"Innmålt m/","Innmålt m/","Innmålt m/","Innmålt m/","Innmålt m/","Innmålt m/","Gjennom-","Innmålt m/","Innmålt m/","Gjen.snitt","Innmålt m/","Gjen.snitt"]
[null,"overskudd","underskudd","overskudd","underskudd","overskudd","underskudd","snitt","overskudd","underskudd","fortjeneste","overskudd","fortjeneste"]
["Agder",4355976,83831,15595,478,{"$f":"IF(D30=0,0,B30/D30)","v":279.31875601154218},{"$f":"IF(E30=0,0,C30/E30)","v":175.37866108786611},{"$f":"IF(D30+E30=0,0,(B30+C30)/(D30+E30))","v":276.22764885211222},1997180,null,269.37955219854331,{"$f":"IF(I30=0,0,(B30-I30)/I30)","v":1.1810632992519452},{"$f":"IF(K30=0,0,(H30-K30)/K30)","v":2.5421738946694812E-2}]
["Bergen",20581258.77,null,73921.25,null,{"$f":"IF(D31=0,0,B31/D31)","v":278.42141156974481},{"$f":"IF(E31=0,0,C31/E31)","v":0},{"$f":"IF(D31+E31=0,0,(B31+C31)/(D31+E31))","v":278.42141156974481},22246339,null,285.14754616112856,{"$f":"IF(I31=0,0,(B31-I31)/I31)","v":-7.4847381854605405E-2},{"$f":"IF(K31=0,0,(H31-K31)/K31)","v":-2.3588260470539038E-2}]
["Drammen - Bærum",{"$f":"902749.82+432079.03+1684173.31+293420.7+48499.71","v":3360922.5700000003},null,{"$f":"2529.6+1476+4334.6+914.5+160","v":9414.7000000000007},null,{"$f":"IF(D32=0,0,B32/D32)","v":356.98668783923017},{"$f":"IF(E32=0,0,C32/E32)","v":0},{"$f":"IF(D32+E32=0,0,(B32+C32)/(D32+E32))","v":356.98668783923017},1723423.11,null,300.95575133152886,0.95014361273129277,0.18617665972423428]
["Glåmdal",null,null,null,null,0,0,0,null,null,0,0,0]
["Haugesund",10138026,null,39537.08,null,256.4181775690061,0,256.4181775690061,12609917,null,253.53956429512118,-0.19602753927722125,1.1353704428292716E-2]
["Hamar og Omegn",5237487.46,null,19435.72,null,269.47740860642153,0,269.47740860642153,2420497.31,null,235.13191493082036,1.1638063543231121,0.14606904250197672]
["Nordland",null,null,null,null,0,0,0,null,null,0,0,0]
["Sandnes",33858607.240000002,null,107364.58,null,315.36105520088654,0,315.36105520088654,50325400.009999998,null,314.80292623961776,-0.32720639610868335,1.772947182974877E-3]
["Stavanger",null,null,null,null,0,0,0,null,null,0,0,0]
["Telemark",484919,null,1536.3,null,315.6408253596303,0,315.6408253596303,3298930,null,252.38929522293969,-0.85300718717887314,0.25061098601990811]
["Tromsø",null,null,null,null,0,0,0,2958447,null,262.93567137118276,-1,-1]
["Trondheim",32689747.890000001,null,112528.95,null,290.50078126562101,0,290.50078126562101,27557674.870000001,null,282.68077088503475,0.18623026232111139,2.7663750725254101E-2]
["Vestfold",179975,null,785,null,229.26751592356689,0,229.26751592356689,null,null,0,0,0]
["Østfold",2590331.5,null,9187.5,null,281.94084353741499,0,281.94084353741499,6747092,null,275.32408389782097,-0.61608178753157661,2.4032622013734375E-2]
["Oslo",7182385,1482017,23120,7699,310.65679065743944,192.49473957656838,281.13832376131609,2285055,null,271.22314540059347,2.1432000542656522,3.6557272227184065E-2]
["Landet i alt",{"$f":"SUM(B30:B44)","v":120659636.43000001},{"$f":"SUM(C30:C44)","v":1565848},{"$f":"SUM(D30:D44)","v":412426.08},{"$f":"SUM(E30:E44)","v":8177},{"$f":"IF(D45=0,0,B45/D45)","v":292.56063639331444},{"$f":"IF(E45=0,0,C45/E45)","v":191.49419102360278},{"$f":"IF(D45+E45=0,0,(B45+C45)/(D45+E45))","v":290.59579028760322},134169955.30000001,0,288.04776416186121,-0.10069556064016967,8.8458458726664961E-3]
[]
[]
[{"$f":"\"MÅLESTATISTIKK FOR BETONGFAGENE - GJENNOMSNITT HELE ÅRET  \"&FORS!$A$14","v":"MÅLESTATISTIKK FOR BETONGFAGENE - GJENNOMSNITT HELE ÅRET  2015"}]
[]
[null,"Målesum i kroner",null,"Timer",null,{"$f":"\"Fortjeneste hele  \"&FORS!$A$14-0","v":"Fortjeneste hele  2015"},null,null,{"$f":"\" Hele året  \"&FORS!$A$14-1","v":" Hele året  2014"},null,null,"Endringer i %"]
[null,"Innmålt m/","Innmålt m/","Innmålt m/","Innmålt m/","Innmålt m/","Innmålt m/","Gjennom-","Innmålt m/","Innmålt m/","Gjen.snitt","Innmålt m/","Gjen.snitt"]
[null,"overskudd","underskudd","overskudd","underskudd","overskudd","underskudd","snitt","overskudd","underskudd","fortjeneste","overskudd","fortjeneste"]
["Agder",{"$f":"B7+B30","v":7655258},{"$f":"C30","v":83831},{"$f":"D7+D30","v":27813},{"$f":"E7+E30","v":478},{"$f":"IF(D53=0,0,B53/D53)","v":275.24028332074931},{"$f":"IF(E53=0,0,C53/E53)","v":175.37866108786611},{"$f":"IF(D53+E53=0,0,(B53+C53)/(D53+E53))","v":273.55303806864373},7920114,417010,262.42127793515897,{"$f":"IF(I53=0,0,(B53-I53)/I53)","v":-3.3440932794654217E-2},{"$f":"IF(K53=0,0,(H53-K53)/K53)","v":4.2419426584132711E-2}]
["Bergen",{"$f":"B8+B31","v":57974717.870000005},null,{"$f":"D8+D31","v":206071.66},null,281.33280369556883,{"$f":"IF(E54=0,0,C54/E54)","v":0},281.33280369556883,30404952.059999999,0,284.18807101750053,{"$f":"IF(I54=0,0,(B54-I54)/I54)","v":0.90675248412149634},{"$f":"IF(K54=0,0,(H54-K54)/K54)","v":-1.004710476308443E-2}]
["Drammen - Bærum",null,null,null,null,0,0,0,2436994.3200000003,0,287.83964093781378,-1,-1]
["Glåmdalen",null,null,null,null,0,0,0,0,0,0,0,0]
["Haugesund",{"$f":"B11+B34","v":16927742},null,{"$f":"D11+D34","v":66214.2},null,255.65123493147996,0,255.65123493147996,25114029,0,256.01254148068131,-0.32596470283601248,-1.4112845687624602E-3]
["Hamar og Omegn",{"$f":"B12+B35","v":8842141.2199999988},null,{"$f":"D12+D35","v":32253.200000000001},null,274.14771929606979,0,274.14771929606979,4008994.83,571180.31000000006,223.08724082320919,1.2055756105826654,0.22888121384460847]
["Nordland",null,null,null,null,0,0,0,0,0,0,0,0]
["Sandnes",{"$f":"B14+B37","v":74597381.599999994},null,{"$f":"D14+D37","v":234193.39},null,318.52897983158272,0,318.52897983158272,99468463.819999993,0,312.88675413245261,-0.25003987459791455,1.8032804599780586E-2]
["Stavanger",null,null,null,null,0,0,0,1014882,0,290.79713467048708,-1,-1]
["Telemark",{"$f":"B16+B39","v":1649929},null,{"$f":"D16+D39","v":5043.25},null,327.15590145243641,0,327.15590145243641,8841728.8000000007,0,273.53194964778822,-0.81339294188711153,0.19604273604489986]
["Tromsø",null,null,null,null,0,0,0,8557295,0,257.63887843489096,-1,-1]
["Trondheim",{"$f":"B18+B41","v":56651732.350000001},null,{"$f":"D18+D41","v":196116.86},null,{"$f":"IF(D64=0,0,B64/D64)","v":288.8672210538146},0,288.8672210538146,54521538.18,0,287.17168927298627,3.9070690980274207E-2,5.9042442001187483E-3]
["Vestfold",null,null,null,null,0,0,0,0,0,0,0,0]
["Østfold",{"$f":"B20+B43","v":5831755},2724456,21373.5,13485,272.84979062858213,202.03604004449389,245.45551300256753,11412244.5,0,268.70358946587714,-0.48899140743085201,-8.6519411629452411E-2]
["Oslo",24975385,1482017,84384,7699,295.97299251042853,192.49473957656838,287.32124279182909,22842201,0,253.42772347530871,9.3387848220055497E-2,0.13374037714473888]
["Landet i alt",{"$f":"SUM(B53:B67)","v":255106042.03999999},{"$f":"SUM(C53:C67)","v":4290304},{"$f":"SUM(D53:D67)","v":873463.05999999994},{"$f":"SUM(E53:E67)","v":21662},{"$f":"IF(D68=0,0,B68/D68)","v":292.06277142389973},{"$f":"IF(E68=0,0,C68/E68)","v":198.05668913304405},{"$f":"IF(D68+E68=0,0,(B68+C68)/(D68+E68))","v":289.78782701045151},276543437.50999999,988190.31,284.57521732198865,-7.7519089453080253E-2,1.8317159651203726E-2]

{"sheet":"TØMRERE","index":3,"n_rows":62,"n_cols":13,"rows_kept":62,"cut":false,"hidden":false,"merged":[]}
[]
[{"$f":"\"MÅLESTATISTIKK FOR TØMRERE - 1. HALVÅR \"&FORS!$A$14","v":"MÅLESTATISTIKK FOR TØMRERE - 1. HALVÅR 2015"}]
[]
[null,"Målesum i kroner",null,"Timer",null,{"$f":"\"Fortjeneste 1. halvår  \"&FORS!$A$14-0","v":"Fortjeneste 1. halvår  2015"},null,null,{"$f":"\" 1. halvår  \"&FORS!$A$14-1","v":" 1. halvår  2014"},null,null,"Endringer i %"]
[null,"Innmålt m/","Innmålt m/","Innmålt m/","Innmålt m/","Innmålt m/","Innmålt m/","Gjennom-","Innmålt m/","Innmålt m/","Gjen.snitt","Innmålt m/","Gjen.snitt"]
[null,"overskudd","underskudd","overskudd","underskudd","overskudd","underskudd","snitt","overskudd","underskudd","fortjeneste","overskudd","fortjeneste"]
["Agder",7095854,null,27164,null,{"$f":"IF(D7=0,0,B7/D7)","v":261.22272124871154},{"$f":"IF(E7=0,0,C7/E7)","v":0},{"$f":"IF(D7+E7=0,0,(B7+C7)/(D7+E7))","v":261.22272124871154},4801424,245971,266.25494540275361,{"$f":"IF(I7=0,0,(B7-I7)/I7)","v":0.47786448353655081},{"$f":"IF(K7=0,0,(H7-K7)/K7)","v":-1.8900021355209073E-2}]
["Bergen",7962792.8700000001,null,32890.94,null,{"$f":"IF(D8=0,0,B8/D8)","v":242.09684703447209},{"$f":"IF(E8=0,0,C8/E8)","v":0},{"$f":"IF(D8+E8=0,0,(B8+C8)/(D8+E8))","v":242.09684703447209},2728953.81,null,242.5945890445665,{"$f":"IF(I8=0,0,(B8-I8)/I8)","v":1.9178921390391728},{"$f":"IF(K8=0,0,(H8-K8)/K8)","v":-2.0517440725068025E-3}]
["Drammen - Bærum",null,null,null,null,0,0,0,null,null,0,0,0]
["Glåmdal",1966967.18,null,6746,null,291.57533056626147,0,291.57533056626147,2029751.5,null,268.45013887051977,-3.0932022959460834E-2,8.614334040965263E-2]
["Hamar og Omegn",3854583.54,387453.05,14005.13,1892.47,275.22654484463908,204.73405126633446,266.83503107387281,3907961.82,null,240.82860021630415,-1.3658854016132583E-2,0.10798730231463605]
["Nordland",7370371,675503,22863,3374,322.37112364956482,200.20835803200947,306.66135610016391,14903879,null,293.4181005630586,-0.50547297116408418,4.5134419150325046E-2]
["Stavanger",1494422,null,4847,null,308.31896018155561,0,308.31896018155561,858542,null,290.04797297297296,0.74065101066692141,6.2992983613387177E-2]
["Telemark",9273831,424120,36635.43,2209,253.1383144677161,191.99637845178813,249.66130279167439,26086871,504992,250.2184718114153,-0.64450197955898969,-2.2267301678704134E-3]
["Trondheim",70962050,2099348,247977,10496,{"$f":"IF(D15=0,0,B15/D15)","v":286.16383777527756},{"$f":"IF(E15=0,0,C15/E15)","v":200.0141006097561},{"$f":"IF(D15+E15=0,0,(B15+C15)/(D15+E15))","v":282.66549310759729},49950988,893493,247.20547752057837,0.42063356184266065,0.14344348653871183]
["Tromsø",null,null,null,null,0,0,0,1730678,null,247.68909306885348,-1,-1]
["Vestfold",5105559,435336,21310.5,3100,239.57950306187089,140.43096774193549,226.98818131541753,4028383,null,219.90190512582564,0.26739662043057971,3.2224714858824E-2]
["Østfold",10848517,1077858,37206.5,5344.5,291.5758536814804,201.67611563289364,280.28424713872766,6282869,null,245.61165731709701,0.72668203013623234,0.1411683394850701]
["Oslo",38108787.009999998,null,130990.6,null,290.92764679297596,0,290.92764679297596,38445770.200000003,null,305.46893408613823,-8.7651564332558232E-3,-4.7603162451412551E-2]
["Landet i alt",{"$f":"SUM(B7:B19)","v":164043734.59999999},{"$f":"SUM(C7:C19)","v":5099618.05},{"$f":"SUM(D7:D19)","v":582636.1},{"$f":"SUM(E7:E19)","v":26415.97},{"$f":"IF(D20=0,0,B20/D20)","v":281.55436060347103},{"$f":"IF(E20=0,0,C20/E20)","v":193.05056940933835},{"$f":"IF(D20+E20=0,0,(B20+C20)/(D20+E20))","v":277.71575039552863},155756071.32999998,1644456,263.89791290982248,5.3209246992632214E-2,5.2360540988544667E-2]
[null,null,null,null,null,null,null,null,null,null,null,0,0]
[null,null,null,null,null,null,null,null,null,null,null,0,0]
[{"$f":"\"MÅLESTATISTIKK FOR TØMRERE - 2. HALVÅR \"&FORS!$A$14","v":"MÅLESTATISTIKK FOR TØMRERE - 2. HALVÅR 2015"}]
[]
[null,"Målesum i kroner",null,"Timer",null,{"$f":"\"Fortjeneste 2. halvår  \"&FORS!$A$14-0","v":"Fortjeneste 2. halvår  2015"},null,null,{"$f":"\" 2. halvår  \"&FORS!$A$14-1","v":" 2. halvår  2014"},null,null,"Endringer i %"]
[null,"Innmålt m/","Innmålt m/","Innmålt m/","Innmålt m/","Innmålt m/","Innmålt m/","Gjennom-","Innmålt m/","Innmålt m/","Gjen.snitt","Innmålt m/","Gjen.snitt"]
[null,"overskudd","underskudd","overskudd","underskudd","overskudd","underskudd","snitt","overskudd","underskudd","fortjeneste","overskudd","fortjeneste"]
["Agder",5990442,405232,22167,1991,{"$f":"IF(D28=0,0,B28/D28)","v":270.24143997834619},{"$f":"IF(E28=0,0,C28/E28)","v":203.53189352084379},{"$f":"IF(D28+E28=0,0,(B28+C28)/(D28+E28))","v":264.74352181471977},10801098,null,265.28547218469851,{"$f":"IF(I28=0,0,(B28-I28)/I28)","v":-0.44538583021837225},{"$f":"IF(K28=0,0,(H28-K28)/K28)","v":-2.0428950199029971E-3}]
["Bergen",2803231.02,null,11095.05,null,{"$f":"IF(D29=0,0,B29/D29)","v":252.65600605675505},0,{"$f":"IF(D29+E29=0,0,(B29+C29)/(D29+E29))","v":252.65600605675505},1459051,null,248.78739566726063,{"$f":"IF(I29=0,0,(B29-I29)/I29)","v":0.92127007212222189},{"$f":"IF(K29=0,0,(H29-K29)/K29)","v":1.5549864892144589E-2}]
["Drammen - Bærum",{"$f":"744498.59+83577.57","v":828076.15999999992},null,{"$f":"2008.38+189.2","v":2197.58},null,{"$f":"IF(D30=0,0,B30/D30)","v":376.81274856888029},0,{"$f":"IF(D30+E30=0,0,(B30+C30)/(D30+E30))","v":376.81274856888029},1339776.6499999999,null,229.46292442731749,-0.38192969701330443,0.64215090306772393]
["Glåmdal",null,null,null,null,0,0,0,1750464.09,null,244.63197400600939,-1,-1]
["Hamar og Omegn",5061732.59,null,18427.53,null,274.6831827162946,0,274.6831827162946,3805328.68,null,278.46265885818951,0.33016961625506674,-1.3572649767090179E-2]
["Nordland",485125,null,2001,null,242.44127936031984,0,242.44127936031984,4876365,null,316.03143227478938,-0.90051503527730181,-0.23285706863006872]
["Stavanger",null,null,null,null,0,0,0,1298351,null,323.45565520677627,-1,-1]
["Telemark",9681769,null,40442.550000000003,null,{"$f":"IF(D35=0,0,B35/D35)","v":239.39561179994831},{"$f":"IF(E35=0,0,C35/E35)","v":0},{"$f":"IF(D35+E35=0,0,(B35+C35)/(D35+E35))","v":239.39561179994831},7961008,590570,255.51192901007246,0.21614863343938356,-6.307461758268372E-2]
["Trondheim",69545888,5171885,254376,28262,273.39799352140142,182.99784162479654,264.3585540514722,85406499,4641226,277.37460841601387,-0.18570730782443148,-4.6925904425324495E-2]
["Tromsø",null,null,null,null,0,0,0,null,null,0,0,0]
["Vestfold",2476641,1644948,9589.5,8055,258.26591584545599,204.2145251396648,233.59058063419195,null,null,0,0,0]
["Østfold",3383309.49,null,11879.5,null,284.80234774190836,0,284.80234774190836,3086076,872161,276.77075831206514,9.6314377870149737E-2,2.901892338202661E-2]
["Oslo",8924526.8499999996,null,27905.9,null,{"$f":"IF(D40=0,0,B40/D40)","v":319.80788471255181},{"$f":"IF(E40=0,0,C40/E40)","v":0},{"$f":"IF(D40+E40=0,0,(B40+C40)/(D40+E40))","v":319.80788471255181},34676104.700000003,null,303.86689257694576,-0.74263179422226167,5.2460444112283289E-2]
["Landet i alt",{"$f":"SUM(B28:B40)","v":109180741.10999998},{"$f":"SUM(C28:C40)","v":7222065},{"$f":"SUM(D28:D40)","v":400081.61000000004},{"$f":"SUM(E28:E40)","v":38308},{"$f":"IF(D41=0,0,B41/D41)","v":272.89617513286845},{"$f":"IF(E41=0,0,C41/E41)","v":188.52628693745433},{"$f":"IF(D41+E41=0,0,(B41+C41)/(D41+E41))","v":265.5236425653427},156460122.12,6103957,280.66401741399181,-0.30218167012383013,-5.3944837632379485E-2]
[]
[]
[{"$f":"\"MÅLESTATISTIKK FOR TØMRERE - GJENNOMSNITT HELE ÅRET  \"&FORS!$A$14","v":"MÅLESTATISTIKK FOR TØMRERE - GJENNOMSNITT HELE ÅRET  2015"}]
[]
[null,"Målesum i kroner",null,"Timer",null,{"$f":"\"Fortjeneste hele  \"&FORS!$A$14-0","v":"Fortjeneste hele  2015"},null,null,{"$f":"\" Hele året  \"&FORS!$A$14-1","v":" Hele året  2014"},null,null,"Endringer i %"]
[null,"Innmålt m/","Innmålt m/","Innmålt m/","Innmålt m/","Innmålt m/","Innmålt m/","Gjennom-","Innmålt m/","Innmålt m/","Gjen.snitt","Innmålt m/","Gjen.snitt"]
[null,"overskudd","underskudd","overskudd","underskudd","overskudd","underskudd","snitt","overskudd","underskudd","fortjeneste","overskudd","fortjeneste"]
["Vest-Agder",{"$f":"B7+B28","v":13086296},{"$f":"C7+C28","v":405232},49331,1991,{"$f":"IF(D49=0,0,B49/D49)","v":265.27530356165494},{"$f":"IF(E49=0,0,C49/E49)","v":203.53189352084379},{"$f":"IF(D49+E49=0,0,(B49+C49)/(D49+E49))","v":262.88001247028564},15602522,245971,265.59346091969434,{"$f":"IF(I49=0,0,(B49-I49)/I49)","v":-0.16127046640280335},{"$f":"IF(K49=0,0,(H49-K49)/K49)","v":-1.0216548404514931E-2}]
["Bergen",{"$f":"B8+B29","v":10766023.890000001},0,43985.990000000005,0,{"$f":"IF(D50=0,0,B50/D50)","v":244.76029503939776},{"$f":"IF(E50=0,0,C50/E50)","v":0},{"$f":"IF(D50+E50=0,0,(B50+C50)/(D50+E50))","v":244.76029503939776},4188004.81,0,244.71678855745813,{"$f":"IF(I50=0,0,(B50-I50)/I50)","v":1.5706808799008996},{"$f":"IF(K50=0,0,(H50-K50)/K50)","v":1.7778298822933094E-4}]
["Drammen - Bærum",{"$f":"B9+B30","v":828076.15999999992},0,2197.58,0,376.81274856888029,0,376.81274856888029,1339776.6499999999,0,229.46292442731749,-0.38192969701330443,{"$f":"IF(K51=0,0,(H51-K51)/K51)","v":0.64215090306772393}]
["Glåmdal",{"$f":"B10+B31","v":1966967.18},0,6746,0,291.57533056626147,0,{"$f":"IF(D52+E52=0,0,(B52+C52)/(D52+E52))","v":291.57533056626147},3780215.59,0,256.8692005571977,-0.47966798898895607,0.13511207234569048]
["Hamar og Omegn",{"$f":"B11+B32","v":8916316.129999999},387453.05,32432.659999999996,1892.47,274.9178183349747,204.73405126633446,271.04833047973892,7713290.5,0,258.03309777925267,0.15596788815357063,5.0440167608346055E-2]
["Nordland",{"$f":"B12+B33","v":7855496},675503,24864,3374,315.93854568854567,200.20835803200947,302.11059565125009,19780244,0,298.68694129016671,-0.60286152182955888,1.1462350333412757E-2]
["Stavanger",{"$f":"B13+B34","v":1494422},0,4847,0,308.31896018155561,0,308.31896018155561,2156893,0,309.27631201605965,-0.30714133709924413,-3.0954580008517641E-3]
["Telemark",{"$f":"B14+B35","v":18955600},424120,77077.98000000001,2209,245.92756582359834,191.99637845178813,244.42499890902639,34047879,1095562,251.48625344283818,-0.44326634854406055,-2.8078093482818482E-2]
["Trondheim",{"$f":"B15+B36","v":140507938},7271233,502353,38758,279.69960963704807,187.60599102120852,273.10324683844902,135357487,5534719,265.67394403379092,3.8050728586590858E-2,2.7963987329194685E-2]
["Tromsø",{"$f":"B16+B37","v":0},0,0,0,0,0,0,1730678,0,247.68909306885348,-1,-1]
["Vestfold",{"$f":"B17+B38","v":7582200},{"$f":"C17+C38","v":2080284},30900,11155,245.37864077669903,186.48892873151053,229.75826893353943,4028383,0,219.90190512582564,0.88219441895172335,4.4821639003418727E-2]
["Østfold",{"$f":"B18+B39","v":14231826.49},1077858,49086,5344.5,289.93657030517869,201.67611563289364,281.27032619579097,9368945,872161,256.78516624040918,0.51904259124159657,9.5352704028308727E-2]
["Oslo",{"$f":"B19+B40","v":47033313.859999999},0,158896.5,0,295.99968444868199,0,295.99968444868199,73121874.900000006,0,304.70710780279393,-0.35678189427826068,-2.857637098425473E-2]
["Landet i alt",{"$f":"B20+B41","v":273224475.70999998},12321683.050000001,982717.71,{"$f":"E20+E41","v":64723.97},278.02946149204939,190.37279465397441,{"$f":"IF(D62+E62=0,0,(B62+C62)/(D62+E62))","v":272.61294276546261},312216193.45000005,7748413,272.1580893957215,-0.12488691668788925,1.6712836673384299E-3]

{"sheet":"MALERE","index":4,"n_rows":57,"n_cols":13,"rows_kept":57,"cut":false,"hidden":false,"merged":[]}
[]
[{"$f":"\"MÅLESTATISTIKK FOR MALERE - 1. HALVÅR \"&FORS!$A$14","v":"MÅLESTATISTIKK FOR MALERE - 1. HALVÅR 2015"}]
[]
[null,"Målesum i kroner",null,"Timer",null,{"$f":"\"Fortjeneste 1. halvår  \"&FORS!$A$14-0","v":"Fortjeneste 1. halvår  2015"},null,null,{"$f":"\" 1. halvår  \"&FORS!$A$14-1","v":" 1. halvår  2014"},null,null,"Endringer i %"]
[null,"Innmålt m/","Innmålt m/","Innmålt m/","Innmålt m/","Innmålt m/","Innmålt m/","Gjennom-","Innmålt m/","Innmålt m/","Gjen.snitt","Innmålt m/","Gjen.snitt"]
[null,"overskudd","underskudd","overskudd","underskudd","overskudd","underskudd","snitt","overskudd","underskudd","fortjeneste","overskudd","fortjeneste"]
["Agder",null,null,null,null,{"$f":"IF(D7=0,0,B7/D7)","v":0},{"$f":"IF(E7=0,0,C7/E7)","v":0},{"$f":"IF(D7+E7=0,0,(B7+C7)/(D7+E7))","v":0},null,null,0,{"$f":"IF(I7=0,0,(B7-I7)/I7)","v":0},{"$f":"IF(K7=0,0,(H7-K7)/K7)","v":0}]
["Bergen",2190258.2799999998,null,9192.7800000000007,null,{"$f":"IF(D8=0,0,B8/D8)","v":238.25853332724157},{"$f":"IF(E8=0,0,C8/E8)","v":0},{"$f":"IF(D8+E8=0,0,(B8+C8)/(D8+E8))","v":238.25853332724157},2041004.18,null,230.62454717002453,{"$f":"IF(I8=0,0,(B8-I8)/I8)","v":7.312777771969084E-2},{"$f":"IF(K8=0,0,(H8-K8)/K8)","v":3.310135998484582E-2}]
["Glåmdal",null,null,null,null,0,0,0,null,null,0,0,0]
["Hamar og Omegn",1131851,312564,4719,1966,239.84975630430176,158.98474059003053,216.06806282722513,1578143,212200,223.73694076480879,-0.28279566553854751,-3.4276315352166839E-2]
["Nordland",null,null,null,null,0,0,0,null,null,0,0,0]
["Sandnes",null,null,null,null,0,0,0,null,null,0,0,0]
["Telemark",184665.2,null,562,null,328.58576512455517,0,328.58576512455517,83177,null,292.36203866432339,1.2201473965158638,0.12390023898356443]
["Tromsø",null,null,null,null,0,0,0,null,null,0,0,0]
["Trondheim",13944578,575160,53969.42,3562.37,258.37924513548597,161.45431271877993,252.37765068668992,16692982,1155287,233.7629531642917,-0.16464427985365346,7.9630656913012049E-2]
["Vestfold",552798,null,1654.5,null,334.11786038077969,0,334.11786038077969,150243,null,359.0035842293907,2.6793594377109082,-6.9318872963423955E-2]
["Oslo",2192426,null,8179,null,268.05550800831395,0,268.05550800831395,2105399,null,279.83930565154975,4.1335157848939798E-2,-4.2109158382163607E-2]
["Landet i alt",{"$f":"SUM(B7:B17)","v":20196576.48},{"$f":"SUM(C7:C17)","v":887724},{"$f":"SUM(D7:D17)","v":78276.7},{"$f":"SUM(E7:E17)","v":5528.37},{"$f":"IF(D18=0,0,B18/D18)","v":258.0151753970211},{"$f":"IF(E18=0,0,C18/E18)","v":160.5760830045746},{"$f":"IF(D18+E18=0,0,(B18+C18)/(D18+E18))","v":251.58740968774327},22650948.18,1367487,236.79697112801375,-0.10835624542053936,6.2460421217692561E-2]
[]
[]
[{"$f":"\"MÅLESTATISTIKK FOR MALERE - 2. HALVÅR \"&FORS!$A$14","v":"MÅLESTATISTIKK FOR MALERE - 2. HALVÅR 2015"}]
[]
[null,"Målesum i kroner",null,"Timer",null,{"$f":"\"Fortjeneste 2. halvår  \"&FORS!$A$14-0","v":"Fortjeneste 2. halvår  2015"},null,null,{"$f":"\" 2. halvår  \"&FORS!$A$14-1","v":" 2. halvår  2014"},null,null,"Endringer i %"]
[null,"Innmålt m/","Innmålt m/","Innmålt m/","Innmålt m/","Innmålt m/","Innmålt m/","Gjennom-","Innmålt m/","Innmålt m/","Gjen.snitt","Innmålt m/","Gjen.snitt"]
[null,"overskudd","underskudd","overskudd","underskudd","overskudd","underskudd","snitt","overskudd","underskudd","fortjeneste","overskudd","fortjeneste"]
["Agder",null,null,null,null,{"$f":"IF(D26=0,0,B26/D26)","v":0},{"$f":"IF(E26=0,0,C26/E26)","v":0},{"$f":"IF(D26+E26=0,0,(B26+C26)/(D26+E26))","v":0},null,null,0,{"$f":"IF(I26=0,0,(B26-I26)/I26)","v":0},{"$f":"IF(K26=0,0,(H26-K26)/K26)","v":0}]
["Bergen",2828479.11,null,12739.52,null,{"$f":"IF(D27=0,0,B27/D27)","v":222.02399383964229},{"$f":"IF(E27=0,0,C27/E27)","v":0},{"$f":"IF(D27+E27=0,0,(B27+C27)/(D27+E27))","v":222.02399383964229},3456691,null,215.71153102105512,{"$f":"IF(I27=0,0,(B27-I27)/I27)","v":-0.18173793665676224},{"$f":"IF(K27=0,0,(H27-K27)/K27)","v":2.9263446366114842E-2}]
["Glåmdal",null,null,null,null,0,0,0,null,null,0,0,0]
["Hamar og Omegn",2383637,272041,9886,1516,241.1123811450536,179.44656992084433,232.91334853534468,1770744,578631,211.63633906855239,0.34612174317687933,0.10053570932305879]
["Nordland",null,null,null,null,0,0,0,null,null,0,0,0]
["Sandnes",null,null,null,null,0,0,0,null,null,0,0,0]
["Telemark",265061.8,null,963,null,275.2458982346833,0,275.2458982346833,292705,null,336.85682390986619,-9.4440477613979987E-2,-0.18289944362732674]
["Tromsø",null,null,null,null,0,0,0,null,null,0,0,0]
["Trondheim",22479509,3033398,84633.8,16195.55,{"$f":"IF(D34=0,0,B34/D34)","v":265.60911834278977},187.2982393311743,253.03056104199817,18656349,3061305,250.16015665495595,0.20492541171908824,1.1474266827396265E-2]
["Vestfold",null,null,null,null,{"$f":"IF(D35=0,0,B35/D35)","v":0},{"$f":"IF(E35=0,0,C35/E35)","v":0},{"$f":"IF(D35+E35=0,0,(B35+C35)/(D35+E35))","v":0},688462,null,266.32959381044486,-1,-1]
["Oslo*",2619437,null,9069,null,288.83416032638661,0,288.83416032638661,2476921,null,300.08735158710925,5.7537563773733598E-2,-3.7499718669269114E-2]
["Landet i alt",{"$f":"SUM(B26:B36)","v":30576123.91},{"$f":"SUM(C26:C36)","v":3305439},{"$f":"SUM(D26:D36)","v":117291.32},{"$f":"SUM(E26:E36)","v":17711.55},{"$f":"IF(D37=0,0,B37/D37)","v":260.68530825639954},{"$f":"IF(E37=0,0,C37/E37)","v":186.62618460834881},{"$f":"IF(D37+E37=0,0,(B37+C37)/(D37+E37))","v":250.96920465468622},27341872,3639936,246.57517282534064,0.11828933695542135,1.7820252456876722E-2]
["* inklusive Buskerud"]
[]
[{"$f":"\"MÅLESTATISTIKK FOR MALERE - GJENNOMSNITT HELE ÅRET  \"&FORS!$A$14","v":"MÅLESTATISTIKK FOR MALERE - GJENNOMSNITT HELE ÅRET  2015"}]
[]
[null,"Målesum i kroner",null,"Timer",null,{"$f":"\"Fortjeneste hele  \"&FORS!$A$14-0","v":"Fortjeneste hele  2015"},null,null,{"$f":"\" Hele året  \"&FORS!$A$14-1","v":" Hele året  2014"},null,null,"Endringer i %"]
[null,"Innmålt m/","Innmålt m/","Innmålt m/","Innmålt m/","Innmålt m/","Innmålt m/","Gjennom-","Innmålt m/","Innmålt m/","Gjen.snitt","Innmålt m/","Gjen.snitt"]
[null,"overskudd","underskudd","overskudd","underskudd","overskudd","underskudd","snitt","overskudd","underskudd","fortjeneste","overskudd","fortjeneste"]
["Agder",{"$f":" B7+B26","v":0},{"$f":" C7+C26","v":0},0,0,null,0,null,0,0,0,{"$f":"IF(I45=0,0,(B45-I45)/I45)","v":0},{"$f":"IF(K45=0,0,(H45-K45)/K45)","v":0}]
["Bergen",{"$f":" B8+B27","v":5018737.3899999997},0,21932.300000000003,0,{"$f":"IF(D46=0,0,B46/D46)","v":228.82859481221755},{"$f":"IF(E46=0,0,C46/E46)","v":0},{"$f":"IF(D46+E46=0,0,(B46+C46)/(D46+E46))","v":228.82859481221755},5497695.1799999997,0,221.01731411686666,{"$f":"IF(I46=0,0,(B46-I46)/I46)","v":-8.7119742786467128E-2},{"$f":"IF(K46=0,0,(H46-K46)/K46)","v":3.5342392638164723E-2}]
["Glåmdal",0,0,0,0,{"$f":"IF(D47=0,0,B47/D47)","v":0},{"$f":"IF(E47=0,0,C47/E47)","v":0},{"$f":"IF(D47+E47=0,0,(B47+C47)/(D47+E47))","v":0},0,0,0,0,0]
["Hamar og Omegn",3515488,584605,14605,3482,240.70441629578912,167.89345203905802,226.68728921324708,3348887,790831,216.70512484950007,4.9748170063665928E-2,4.6063351619762334E-2]
["Nordland",0,0,0,0,0,0,0,0,0,0,0,0]
["Sandnes",0,0,0,0,0,0,0,0,0,0,0,0]
["Telemark",449727,0,1525,0,294.90295081967213,0,294.90295081967213,375882,0,325.8819347511336,0.19645793094641403,-9.5061986038346077E-2]
["Tromsø",0,0,0,0,0,0,0,0,0,0,0,0]
["Trondheim",36424087,3608558,138603.22,19757.919999999998,262.79394519117233,182.63855709507885,252.79336205839385,35349331,4216592,242.48728603210208,3.0403856865070515E-2,4.250151088303817E-2]
["Vestfold",552798,0,1654.5,0,334.11786038077969,0,334.11786038077969,838705,0,279.24255035791577,-0.34089101650759207,0.19651485761223764]
["Oslo*",4811863,0,17248,0,278.9809253246753,0,278.9809253246753,4582320,0,290.43200486766045,5.009318423855165E-2,-3.9427746773992779E-2]
["Landet i alt",{"$f":"SUM(B45:B55)","v":50772700.390000001},{"$f":" C18+C37","v":4193163},195568.02000000002,23239.919999999998,{"$f":"IF(B56=0,0,B56/D56)","v":259.6165793875706},{"$f":"IF(E56=0,0,C56/E56)","v":180.42932161556496},{"$f":"IF(D56+C56=0,0,(B56+C56)/(D56+E56))","v":251.20598178475606},49992820.18,5007423,242.20749568993668,1.5599844281479399E-2,3.7151971986609564E-2]
["* inklusive Buskerud"]

{"sheet":"RØRLEGGERE","index":5,"n_rows":41,"n_cols":13,"rows_kept":41,"cut":false,"hidden":false,"merged":[]}
[]
[{"$f":"\"MÅLESTATISTIKK FOR RØRLEGGERE - 1. HALVÅR \"&FORS!$A$14","v":"MÅLESTATISTIKK FOR RØRLEGGERE - 1. HALVÅR 2015"}]
[]
[null,"Målesum i kroner",null,"Timer",null,{"$f":"\"Fortjeneste 1. halvår  \"&FORS!$A$14-0","v":"Fortjeneste 1. halvår  2015"},null,null,{"$f":"\" 1. halvår  \"&FORS!$A$14-1","v":" 1. halvår  2014"},null,null,"Endringer i %"]
[null,"Innmålt m/","Innmålt m/","Innmålt m/","Innmålt m/","Innmålt m/","Innmålt m/","Gjennom-","Innmålt m/","Innmålt m/","Gjen.snitt","Innmålt m/","Gjen.snitt"]
[null,"overskudd","underskudd","overskudd","underskudd","overskudd","underskudd","snitt","overskudd","underskudd","fortjeneste","overskudd","fortjeneste"]
["Bergen",null,null,null,null,{"$f":"IF(D7=0,0,B7/D7)","v":0},0,{"$f":"IF(D7+E7=0,0,(B7+C7)/(D7+E7))","v":0},null,null,0,{"$f":"IF(I7=0,0,(B7-I7)/I7)","v":0},{"$f":"IF(K7=0,0,(H7-K7)/K7)","v":0}]
["Nordland",null,null,null,null,0,0,0,null,null,0,{"$f":"IF(I8=0,0,(B8-I8)/I8)","v":0},{"$f":"IF(K8=0,0,(H8-K8)/K8)","v":0}]
["Stavanger",null,null,null,null,0,0,0,null,null,0,0,0]
["Tromsø",null,null,null,null,0,0,0,null,null,0,0,0]
["Trondheim",12502745.039999999,1684944.41,47441,10016,263.54303324128915,168.2252805511182,246.92708373218233,3853253,null,271.94377986209622,2.2447246625124277,-9.1992161551185184E-2]
["Oslo",null,null,null,null,0,0,0,11955493.789999999,null,266.12709887810524,-1,-1]
["Landet i alt",{"$f":"SUM(B7:B12)","v":12502745.039999999},{"$f":"SUM(C7:C12)","v":1684944.41},{"$f":"SUM(D7:D12)","v":47441},{"$f":"SUM(E7:E12)","v":10016},263.54303324128915,168.2252805511182,246.92708373218233,15808746.789999999,0,267.52181364046345,-0.20912484676465617,-7.6983366806713777E-2]
[]
[]
[{"$f":"\"MÅLESTATISTIKK FOR RØRLEGGERE - 2. HALVÅR \"&FORS!$A$14","v":"MÅLESTATISTIKK FOR RØRLEGGERE - 2. HALVÅR 2015"}]
[]
[null,"Målesum i kroner",null,"Timer",null,{"$f":"\"Fortjeneste 2. halvår  \"&FORS!$A$14-0","v":"Fortjeneste 2. halvår  2015"},null,null,{"$f":"\" 2. halvår  \"&FORS!$A$14-1","v":" 2. halvår  2014"},null,null,"Endringer i %"]
[null,"Innmålt m/","Innmålt m/","Innmålt m/","Innmålt m/","Innmålt m/","Innmålt m/","Gjennom-","Innmålt m/","Innmålt m/","Gjen.snitt","Innmålt m/","Gjen.snitt"]
[null,"overskudd","underskudd","overskudd","underskudd","overskudd","underskudd","snitt","overskudd","underskudd","fortjeneste","overskudd","fortjeneste"]
["Bergen",null,null,null,null,{"$f":"IF(D21=0,0,B21/D21)","v":0},0,{"$f":"IF(D21+E21=0,0,(B21+C21)/(D21+E21))","v":0},1158463,null,260.15337974399279,{"$f":"IF(I21=0,0,(B21-I21)/I21)","v":-1},{"$f":"IF(K21=0,0,(H21-K21)/K21)","v":-1}]
["Nordland",null,null,null,null,{"$f":"IF(D22=0,0,B22/D22)","v":0},{"$f":"IF(E22=0,0,C22/E22)","v":0},{"$f":"IF(D22+E22=0,0,(B22+C22)/(D22+E22))","v":0},289644,null,406.2328190743338,{"$f":"IF(I22=0,0,(B22-I22)/I22)","v":-1},{"$f":"IF(K22=0,0,(H22-K22)/K22)","v":-1}]
["Stavanger",null,null,null,null,0,0,0,null,null,0,0,0]
["Tromsø",null,null,null,null,0,0,0,null,null,0,0,0]
["Trondheim",13370610.51,2437110.27,50693.4,16593,{"$f":"IF(D25=0,0,B25/D25)","v":263.75446330291516},{"$f":"IF(E25=0,0,C25/E25)","v":146.8758072681251},234.93188489798831,17329000,null,250.82503473830477,-0.22842573085579088,-6.3363491036285025E-2]
["Oslo",21881534,4353473,82489,22980,{"$f":"B26/D26","v":265.26608396271018},{"$f":"IF(E26=0,0,C26/E26)","v":189.44617058311576},{"$f":"IF(D26+E26=0,0,(B26+C26)/(D26+E26))","v":248.74614341654893},28162116,null,335.49693536570112,{"$f":"IF(I26=0,0,(#REF!-I26)/I26)","v":{"$error":"#REF!"}},-0.25857402200884899]
["Landet i alt",{"$f":"SUM(B21:B26)","v":35252144.509999998},{"$f":"SUM(C21:C26)","v":6790583.2699999996},{"$f":"SUM(D21:D26)","v":133182.39999999999},{"$f":"SUM(E21:E26)","v":39573},264.69071371292301,171.59637303211784,243.36563592223456,46939223,0,296.71655009150072,-0.24898321154570457,-0.17980430870072445]
[]
[]
[{"$f":"\"MÅLESTATISTIKK FOR RØRLEGGERE - GJENNOMSNITT HELE ÅRET  \"&FORS!$A$14","v":"MÅLESTATISTIKK FOR RØRLEGGERE - GJENNOMSNITT HELE ÅRET  2015"}]
[]
[null,"Målesum i kroner",null,"Timer",null,{"$f":"\"Fortjeneste hele  \"&FORS!$A$14-0","v":"Fortjeneste hele  2015"},null,null,{"$f":"\" Hele året  \"&FORS!$A$14-1","v":" Hele året  2014"},null,null,"Endringer i %"]
[null,"Innmålt m/","Innmålt m/","Innmålt m/","Innmålt m/","Innmålt m/","Innmålt m/","Gjennom-","Innmålt m/","Innmålt m/","Gjen.snitt","Innmålt m/","Gjen.snitt"]
[null,"overskudd","underskudd","overskudd","underskudd","overskudd","underskudd","snitt","overskudd","underskudd","fortjeneste","overskudd","fortjeneste"]
["Bergen",{"$f":"B7+B21","v":0},0,{"$f":"D7+D21","v":0},0,0,0,{"$f":"IF(D35+E35=0,0,(B35+C35)/(D35+E35))","v":0},1158463,0,260.15337974399279,{"$f":"IF(I35=0,0,(B35-I35)/I35)","v":-1},{"$f":"IF(K35=0,0,(H35-K35)/K35)","v":-1}]
["Nordland",{"$f":"B8+B22","v":0},0,0,0,0,0,{"$f":"IF(D36+E36=0,0,(B36+C36)/(D36+E36))","v":0},289644,0,406.2328190743338,{"$f":"IF(I36=0,0,(B36-I36)/I36)","v":-1},{"$f":"IF(K36=0,0,(H36-K36)/K36)","v":-1}]
["Stavanger",{"$f":"B9+B23","v":0},0,0,0,0,0,0,0,0,0,0,0]
["Tromsø",{"$f":"B10+B24","v":0},0,0,0,0,0,0,0,0,0,0,0]
["Trondheim",{"$f":"B11+B25","v":25873355.549999997},{"$f":"C11+C25","v":4122054.6799999997},{"$f":"D11+D25","v":98134.399999999994},26609,{"$f":"(F11+F25)/2","v":263.64874827210213},{"$f":"(G11+G25)/2","v":157.55054390962164},{"$f":"IF(D39+E39=0,0,(B39+C39)/(D39+E39))","v":240.45689174737902},21182253,0,254.41916804892784,0.22146381454324038,-5.4879026641827998E-2]
["Oslo",{"$f":"B12+B26","v":21881534},{"$f":"C12+C26","v":4353473},{"$f":"D12+D26","v":82489},{"$f":"E12+E26","v":22980},{"$f":"F12+F26","v":265.26608396271018},189.44617058311576,{"$f":"IF(D40+E40=0,0,(B26+C26)/(D40+E40))","v":248.74614341654893},40117609.789999999,0,311.31381005777342,{"$f":"IF(I40=0,0,(B26-I40)/I40)","v":-0.45456536133280934},-0.20097941247647583]
["Landet i alt",{"$f":"B13+B27","v":47754889.549999997},{"$f":"C13+C27","v":8475527.6799999997},180623.4,49589,{"$f":"(F13+F27)/2","v":264.11687347710608},{"$f":"(G13+G27)/2","v":169.91082679161804},{"$f":"IF(D41+E41=0,0,(B41+C41)/(D41+E41))","v":244.2545111818477},62747969.789999999,0,288.77682508256294,-0.23894128033429082,-0.15417550867520635]

{"sheet":"BLIKK OG VENTILASJON","index":6,"n_rows":32,"n_cols":13,"rows_kept":32,"cut":false,"hidden":false,"merged":[]}
[]
[{"$f":"\"MÅLESTATISTIKK FOR BLIKK- OG VENTILASJONSARBEID - 1. HALVÅR \"&FORS!$A$14","v":"MÅLESTATISTIKK FOR BLIKK- OG VENTILASJONSARBEID - 1. HALVÅR 2015"}]
[]
[null,"Målesum i kroner",null,"Timer",null,{"$f":"\"Fortjeneste 1. halvår  \"&FORS!$A$14-0","v":"Fortjeneste 1. halvår  2015"},null,null,{"$f":"\" 1. halvår  \"&FORS!$A$14-1","v":" 1. halvår  2014"},null,null,"Endringer i %"]
[null,"Innmålt m/","Innmålt m/","Innmålt m/","Innmålt m/","Innmålt m/","Innmålt m/","Gjennom-","Innmålt m/","Innmålt m/","Gjen.snitt","Innmålt m/","Gjen.snitt"]
[null,"overskudd","underskudd","overskudd","underskudd","overskudd","underskudd","snitt","overskudd","underskudd","fortjeneste","overskudd","fortjeneste"]
["Nordland",null,null,null,null,{"$f":"IF(D7=0,0,B7/D7)","v":0},0,{"$f":"IF(D7+E7=0,0,(B7+C7)/(D7+E7))","v":0},null,null,null,{"$f":"IF(I7=0,0,(B7-I7)/I7)","v":0},{"$f":"IF(K7=0,0,(H7-K7)/K7)","v":0}]
["Stavanger",null,null,null,null,null,0,{"$f":"IF(D8+E8=0,0,(B8+C8)/(D8+E8))","v":0},null,null,null,{"$f":"IF(I8=0,0,(B8-I8)/I8)","v":0},{"$f":"IF(K8=0,0,(H8-K8)/K8)","v":0}]
["Oslo",null,null,null,null,null,0,{"$f":"IF(D9+E9=0,0,(B9+C9)/(D9+E9))","v":0},null,null,null,0,0]
["Landet i alt",{"$f":"SUM(B7:B9)","v":0},{"$f":"SUM(C7:C9)","v":0},{"$f":"SUM(D7:D9)","v":0},{"$f":"SUM(E7:E9)","v":0},0,0,{"$f":"IF(D10+E10=0,0,(B10+C10)/(D10+E10))","v":0},null,null,null,0,0]
[null,null,null,null,null,null,null,null,null,null,null,0,0]
[null,null,null,null,null,null,null,null,null,null,null,0,0]
[{"$f":"\"MÅLESTATISTIKK FOR BLIKK- OG VENTILASJONSARBEID - 2. HALVÅR \"&FORS!$A$14","v":"MÅLESTATISTIKK FOR BLIKK- OG VENTILASJONSARBEID - 2. HALVÅR 2015"},null,null,null,null,null,null,null,null,null,null,0,0]
[]
[null,"Målesum i kroner",null,"Timer",null,{"$f":"\"Fortjeneste 2. halvår  \"&FORS!$A$14-0","v":"Fortjeneste 2. halvår  2015"},null,null,{"$f":"\" 2. halvår  \"&FORS!$A$14-1","v":" 2. halvår  2014"},null,null,"Endringer i %"]
[null,"Innmålt m/","Innmålt m/","Innmålt m/","Innmålt m/","Innmålt m/","Innmålt m/","Gjennom-","Innmålt m/","Innmålt m/","Gjen.snitt","Innmålt m/","Gjen.snitt"]
[null,"overskudd","underskudd","overskudd","underskudd","overskudd","underskudd","snitt","overskudd","underskudd","fortjeneste","overskudd","fortjeneste"]
["Nordland",null,null,null,null,{"$f":"IF(D18=0,0,B18/D18)","v":0},0,{"$f":"IF(D18+E18=0,0,(B18+C18)/(D18+E18))","v":0},null,null,null,{"$f":"IF(I18=0,0,(B18-I18)/I18)","v":0},{"$f":"IF(K18=0,0,(H18-K18)/K18)","v":0}]
["Stavanger",null,null,null,null,0,0,{"$f":"IF(D19+E19=0,0,(B19+C19)/(D19+E19))","v":0},null,null,null,{"$f":"IF(I19=0,0,(B19-I19)/I19)","v":0},{"$f":"IF(K19=0,0,(H19-K19)/K19)","v":0}]
["Oslo",null,null,null,null,0,0,{"$f":"IF(D20+E20=0,0,(B20+C20)/(D20+E20))","v":0},null,null,null,0,0]
["Landet i alt",{"$f":"SUM(B18:B20)","v":0},{"$f":"SUM(C18:C20)","v":0},{"$f":"SUM(D18:D20)","v":0},{"$f":"SUM(C18:C20)","v":0},0,0,{"$f":"IF(D21+E21=0,0,(B21+C21)/(D21+E21))","v":0},null,null,null,0,0]
[]
[]
[{"$f":"\"MÅLESTATISTIKK FOR BLIKK- OG VENTILASJONSARBEID - GJENNOMSNITT HELE ÅRET  \"&FORS!$A$14","v":"MÅLESTATISTIKK FOR BLIKK- OG VENTILASJONSARBEID - GJENNOMSNITT HELE ÅRET  2015"}]
[]
[null,"Målesum i kroner",null,"Timer",null,{"$f":"\"Fortjeneste hele  \"&FORS!$A$14-0","v":"Fortjeneste hele  2015"},null,null,{"$f":"\" Hele året  \"&FORS!$A$14-1","v":" Hele året  2014"},null,null,"Endringer i %"]
[null,"Innmålt m/","Innmålt m/","Innmålt m/","Innmålt m/","Innmålt m/","Innmålt m/","Gjennom-","Innmålt m/","Innmålt m/","Gjen.snitt","Innmålt m/","Gjen.snitt"]
[null,"overskudd","underskudd","overskudd","underskudd","overskudd","underskudd","snitt","overskudd","underskudd","fortjeneste","overskudd","fortjeneste"]
["Nordland",{"$f":"B7+B18","v":0},0,0,0,{"$f":"IF(D29=0,0,B29/D29)","v":0},0,{"$f":"IF(D29+E29=0,0,(B29+C29)/(D29+E29))","v":0},null,null,null,{"$f":"IF(I29=0,0,(B29-I29)/I29)","v":0},{"$f":"IF(K29=0,0,(H29-K29)/K29)","v":0}]
["Stavanger",0,0,0,0,0,0,{"$f":"IF(D30+E30=0,0,(B30+C30)/(D30+E30))","v":0},null,null,null,{"$f":"IF(I30=0,0,(B30-I30)/I30)","v":0},{"$f":"IF(K30=0,0,(H30-K30)/K30)","v":0}]
["Oslo",0,0,0,0,0,0,{"$f":"IF(D31+E31=0,0,(B31+C31)/(D31+E31))","v":0},null,null,null,0,0]
["Landet i alt",{"$f":"SUM(B29:B31)","v":0},{"$f":"SUM(C29:C31)","v":0},{"$f":"SUM(D29:D31)","v":0},{"$f":"SUM(E29:E31)","v":0},0,0,{"$f":"IF(D32+E32=0,0,(B32+C32)/(D32+E32))","v":0},null,null,null,0,0]

{"sheet":"TAKTEKKERE","index":7,"n_rows":56,"n_cols":13,"rows_kept":56,"cut":false,"hidden":false,"merged":[]}
[]
[{"$f":"\"MÅLESTATISTIKK FOR TAKTEKKERE - 1. HALVÅR \"&FORS!$A$14","v":"MÅLESTATISTIKK FOR TAKTEKKERE - 1. HALVÅR 2015"}]
[]
[null,"Målesum i kroner",null,"Timer",null,{"$f":"\"Fortjeneste 1. halvår  \"&FORS!$A$14-0","v":"Fortjeneste 1. halvår  2015"},null,null,{"$f":"\" 1. halvår  \"&FORS!$A$14-1","v":" 1. halvår  2014"},null,null,"Endringer i %"]
[null,"Innmålt m/","Innmålt m/","Innmålt m/","Innmålt m/","Innmålt m/","Innmålt m/","Gjennom-","Innmålt m/","Innmålt m/","Gjen.snitt","Innmålt m/","Gjen.snitt"]
[null,"overskudd","underskudd","overskudd","underskudd","overskudd","underskudd","snitt","overskudd","underskudd","fortjeneste","overskudd","fortjeneste"]
["Agder",360266,null,1122,null,{"$f":"IF(D7=0,0,B7/D7)","v":321.09269162210336},{"$f":"IF(E7=0,0,C7/E7)","v":0},{"$f":"IF(D7+E7=0,0,(B7+C7)/(D7+E7))","v":321.09269162210336},753730,4418,285.55480225988703,{"$f":"IF(I7=0,0,(B7-I7)/I7)","v":-0.52202247489153941},{"$f":"IF(K7=0,0,(H7-K7)/K7)","v":0.12445208093496832}]
["Haugesund",null,null,null,null,{"$f":"IF(D8=0,0,B8/D8)","v":0},{"$f":"IF(E8=0,0,C8/E8)","v":0},{"$f":"IF(D8+E8=0,0,(B8+C8)/(D8+E8))","v":0},null,null,0,{"$f":"IF(I8=0,0,(B8-I8)/I8)","v":0},{"$f":"IF(K8=0,0,(H8-K8)/K8)","v":0}]
["Glåmdal",null,null,null,null,0,0,0,null,null,0,0,0]
["Hamar og Omegn",856720,123643,2877,770,297.78241223496696,160.57532467532468,268.81354537976421,568606,40535,227.37625979843224,0.50670235628888893,0.18224103790811705]
["Bergen",689244.3,null,2231.6999999999998,null,308.84272079580592,0,308.84272079580592,878961.23,null,305.83202157272092,-0.21584220500829138,9.8442903643728239E-3]
["Nordland",null,null,null,null,{"$f":"IF(D12=0,0,B12/D12)","v":0},{"$f":"IF(E12=0,0,C12/E12)","v":0},{"$f":"IF(D12+E12=0,0,(B12+C12)/(D12+E12))","v":0},102077,null,338.00331125827813,{"$f":"IF(I12=0,0,(B12-I12)/I12)","v":-1},{"$f":"IF(K12=0,0,(H12-K12)/K12)","v":-1}]
["Stavanger",5278154,204969,19435,1211,271.57983020324156,169.25598678777868,265.57798120701347,7144853,194536,275.45089134922125,-0.26126485737355271,-3.5842723520871624E-2]
["Telemark",1034676,null,2942.3,null,351.65550759609829,0,351.65550759609829,1981260,10585,329.5846777529577,-0.47776869265013172,6.6965582240094051E-2]
["Trondheim",4620371,590487,14365,3155,321.64086320918898,187.15911251980984,297.423401826484,4142845,702532,270.31391910739188,0.11526523439810082,0.10028888933507675]
["Vestfold",169042,null,679.82,null,{"$f":"IF(D16=0,0,B16/D16)","v":248.65699744049894},{"$f":"IF(E16=0,0,C16/E16)","v":0},{"$f":"IF(D16+E16=0,0,(B16+C16)/(D16+E16))","v":248.65699744049894},299842,null,287.34259702922856,-0.43622974766710465,-0.13463231692304398]
["Oslo",4792814.03,288977.45,14184.9,1716.7,337.88141121897229,168.33311003669832,319.57736831513813,4905952.7699999996,582505.85,265.00850389898841,-2.3061522461415646E-2,0.20591363527318876]
["Landet i alt",{"$f":"SUM(B7:B17)","v":17801287.330000002},{"$f":"SUM(C7:C17)","v":1208076.45},{"$f":"SUM(D7:D17)","v":57837.72},{"$f":"SUM(E7:E17)","v":6852.7},{"$f":"IF(D18=0,0,B18/D18)","v":307.7798939861392},{"$f":"IF(E18=0,0,C18/E18)","v":176.29203817473405},{"$f":"IF(D18+E18=0,0,(B18+C18)/(D18+E18))","v":293.85129637433181},20778127,1535111.85,275.88932459583941,-0.14326795047503552,6.5105715144308546E-2]
[]
[]
[{"$f":"\"MÅLESTATISTIKK FOR  TAKTEKKERE  - 2. HALVÅR \"&FORS!$A$14","v":"MÅLESTATISTIKK FOR  TAKTEKKERE  - 2. HALVÅR 2015"}]
[]
[null,"Målesum i kroner",null,"Timer",null,{"$f":"\"Fortjeneste 2. halvår  \"&FORS!$A$14-0","v":"Fortjeneste 2. halvår  2015"},null,null,{"$f":"\" 2. halvår  \"&FORS!$A$14-1","v":" 2. halvår  2014"},null,null,"Endringer i %"]
[null,"Innmålt m/","Innmålt m/","Innmålt m/","Innmålt m/","Innmålt m/","Innmålt m/","Gjennom-","Innmålt m/","Innmålt m/","Gjen.snitt","Innmålt m/","Gjen.snitt"]
[null,"overskudd","underskudd","overskudd","underskudd","overskudd","underskudd","snitt","overskudd","underskudd","fortjeneste","overskudd","fortjeneste"]
["Agder",201527,null,579,null,{"$f":"IF(D26=0,0,B26/D26)","v":348.06044905008633},{"$f":"IF(E26=0,0,C26/E26)","v":0},{"$f":"IF(D26+E26=0,0,(B26+C26)/(D26+E26))","v":348.06044905008633},394020,16475,294.26164874551972,{"$f":"IF(I26=0,0,(B26-I26)/I26)","v":-0.48853611491802446},{"$f":"IF(K26=0,0,(H26-K26)/K26)","v":0.18282640817761586}]
["Haugesund",null,null,null,null,{"$f":"IF(D27=0,0,B27/D27)","v":0},{"$f":"IF(E27=0,0,C27/E27)","v":0},{"$f":"IF(D27+E27=0,0,(B27+C27)/(D27+E27))","v":0},null,null,0,{"$f":"IF(I27=0,0,(B27-I27)/I27)","v":0},{"$f":"IF(K27=0,0,(H27-K27)/K27)","v":0}]
["Glåmdal",null,null,null,null,0,0,0,null,null,0,0,0]
["Hamar og Omegn",1264367,113701,3731,765,338.88153310104531,148.62875816993463,306.50978647686833,1204068,121179,279.17568990941646,5.0079397509110779E-2,9.7910017080358611E-2]
["Bergen",60049.23,null,176,null,{"$f":"IF(D30=0,0,B30/D30)","v":341.18880681818183},{"$f":"IF(E30=0,0,C30/E30)","v":0},{"$f":"IF(D30+E30=0,0,(B30+C30)/(D30+E30))","v":341.18880681818183},134939,null,246.46392694063928,-0.5549898102105395,0.38433567562346349]
["Nordland",null,null,null,null,{"$f":"IF(D31=0,0,B31/D31)","v":0},{"$f":"IF(E31=0,0,C31/E31)","v":0},{"$f":"IF(D31+E31=0,0,(B31+C31)/(D31+E31))","v":0},null,null,0,0,0]
["Stavanger",4611714.68,262724.06,13745.5,1380.3,335.50723364010037,190.33837571542418,322.25989633606156,3576392,525653,259.32766468580098,0.28948803151332397,0.24267457822715788]
["Telemark",915166.5,null,2716.4,null,336.90417464290971,0,336.90417464290971,1056868.93,1152.1400000000001,303.35782034005211,-0.13407758140832085,0.11058344981927104]
["Trondheim",5479666,375200,16840,2164,{"$f":"IF(D34=0,0,B34/D34)","v":325.39584323040378},173.38262476894639,{"$f":"IF(D34+E34=0,0,(B34+C34)/(D34+E34))","v":308.08598189854769},5381763,561367,292.47687007874015,1.8191622336397942E-2,5.3368705072661914E-2]
["Vestfold",null,null,null,null,{"$f":"IF(D35=0,0,B35/D35)","v":0},0,{"$f":"IF(D35+E35=0,0,(B35+C35)/(D35+E35))","v":0},230051,null,285.95525170913612,-1,-1]
["Oslo",3681003.65,570504.05000000005,12324.9,3668.4,298.66397698967131,155.51849580198453,265.83054779188785,5602026.4000000004,415305.15,301.99149582193672,-0.34291569029378377,-0.11974161037756657]
["Landet i alt",{"$f":"SUM(B26:B36)","v":16213494.060000001},{"$f":"SUM(C26:C36)","v":1322129.1100000001},{"$f":"SUM(D26:D36)","v":50112.800000000003},{"$f":"SUM(E26:E36)","v":7977.7000000000007},{"$f":"IF(D37=0,0,B37/D37)","v":323.53997501636309},{"$f":"IF(E37=0,0,C37/E37)","v":165.72810584504305},{"$f":"IF(D37+E37=0,0,(B37+C37)/(D37+E37))","v":301.86731341613518},17580128.329999998,1641131.29,286.69106244742352,-7.7737445617383494E-2,5.2935905427797698E-2]
[]
[]
[{"$f":"\"MÅLESTATISTIKK FOR  TAKTEKKERE  - GJENNOMSNITT HELE ÅRET  \"&FORS!$A$14","v":"MÅLESTATISTIKK FOR  TAKTEKKERE  - GJENNOMSNITT HELE ÅRET  2015"}]
[]
[null,"Målesum i kroner",null,"Timer",null,{"$f":"\"Fortjeneste hele  \"&FORS!$A$14-0","v":"Fortjeneste hele  2015"},null,null,{"$f":"\" Hele året  \"&FORS!$A$14-1","v":" Hele året  2014"},null,null,"Endringer i %"]
[null,"Innmålt m/","Innmålt m/","Innmålt m/","Innmålt m/","Innmålt m/","Innmålt m/","Gjennom-","Innmålt m/","Innmålt m/","Gjen.snitt","Innmålt m/","Gjen.snitt"]
[null,"overskudd","underskudd","overskudd","underskudd","overskudd","underskudd","snitt","overskudd","underskudd","fortjeneste","overskudd","fortjeneste"]
["Agder",{"$f":"B7+B26","v":561793},{"$f":"C7+C26","v":0},1701,0,{"$f":"B45/D45","v":330.27219282774837},null,{"$f":"IF(D45+E45=0,0,(B45+C45)/(D45+E45))","v":330.27219282774837},1147750,20893,288.55382716049382,{"$f":"IF(I45=0,0,(B45-I45)/I45)","v":-0.51052668263994772},{"$f":"IF(K45=0,0,(H45-K45)/K45)","v":0.14457741239401675}]
["Haugesund",{"$f":"B8+B27","v":0},0,0,0,null,0,{"$f":"IF(D46+E46=0,0,(B46+C46)/(D46+E46))","v":0},0,0,0,{"$f":"IF(I46=0,0,(B46-I46)/I46)","v":0},{"$f":"IF(K46=0,0,(H46-K46)/K46)","v":0}]
["Glåmdal",{"$f":"B9+B28","v":0},0,0,0,null,null,0,0,0,0,0,0]
["Hamar og Omegn",{"$f":"B10+B29","v":2121087},237344,6608,1535,{"$f":"B48/D48","v":320.98774213075063},{"$f":"C48/E48","v":154.62149837133549},289.62679602112246,1772674,161714,260.48855373013737,0.19654657314317239,0.11185997186337759]
["Bergen",{"$f":"B11+B30","v":749293.53},0,2407.6999999999998,0,311.20718112721687,null,311.20718112721687,1013900.23,0,296.33208534268596,-0.26097903143783679,5.0197385029464407E-2]
["Nordland",{"$f":"B12+B31","v":0},0,0,0,null,null,0,102077,0,338.00331125827813,-1,-1]
["Stavanger",{"$f":"B13+B32","v":9889868.6799999997},467693.06,33180.5,2591.3000000000002,298.06267777761036,{"$f":"C51/E51","v":180.48587967429475},289.54544473579745,10721245,720189,269.44478722652661,-7.7544755296609702E-2,7.4600283479865137E-2]
["Telemark",{"$f":"B14+B33","v":1949842.5},0,5658.7000000000007,0,344.57428384611302,null,344.57428384611302,3038128.9299999997,11737.14,319.98762695148565,-0.35820942924894233,7.683627372990591E-2]
["Trondheim",{"$f":"B15+B34","v":10100037},965687,31205,5319,323.66726486140044,181.55423951870651,302.97130653816669,9524608,1263899,282.08934501241993,6.0414979808092892E-2,7.4026055556360562E-2]
["Vestfold",{"$f":"B16+B35","v":169042},0,679.82,0,248.65699744049894,null,248.65699744049894,529893,0,286.73863636363637,-0.68098842596524201,-0.132809583689458]
["Oslo",{"$f":"B17+B36","v":8473817.6799999997},859481.5,26509.8,5385.1,319.64849527344603,159.60362853057509,292.62669517697185,10507979.17,997811,283.14278398464415,-0.19358255827223916,3.3495154136939057E-2]
["Landet i alt",{"$f":"B18+B37","v":34014781.390000001},2530205.56,107950.52,14830.400000000001,315.09604020434546,170.60939421728341,297.64385989288888,38358255.329999998,3176243.14,280.78515650403898,-0.11323439772306239,6.0041291351551195E-2]

{"sheet":"MURERE","index":8,"n_rows":59,"n_cols":13,"rows_kept":59,"cut":false,"hidden":false,"merged":[]}
[]
[{"$f":"\"MÅLESTATISTIKK FOR MURERE - 1. HALVÅR \"&FORS!$A$14","v":"MÅLESTATISTIKK FOR MURERE - 1. HALVÅR 2015"}]
[]
[null,"Målesum i kroner",null,"Timer",null,{"$f":"\"Fortjeneste 1. halvår  \"&FORS!$A$14-0","v":"Fortjeneste 1. halvår  2015"},null,null,{"$f":"\" 1. halvår  \"&FORS!$A$14-1","v":" 1. halvår  2014"},null,null,"Endringer i %"]
[null,"Innmålt m/","Innmålt m/","Innmålt m/","Innmålt m/","Innmålt m/","Innmålt m/","Gjennom-","Innmålt m/","Innmålt m/","Gjen.snitt","Innmålt m/","Gjen.snitt"]
[null,"overskudd","underskudd","overskudd","underskudd","overskudd","underskudd","snitt","overskudd","underskudd","fortjeneste","overskudd","fortjeneste"]
["Agder",null,null,null,null,{"$f":"IF(D7=0,0,B7/D7)","v":0},{"$f":"IF(E7=0,0,C7/E7)","v":0},{"$f":"IF(D7+E7=0,0,(B7+C7)/(D7+E7))","v":0},null,null,0,{"$f":"IF(I7=0,0,(B7-I7)/I7)","v":0},{"$f":"IF(K7=0,0,(H7-K7)/K7)","v":0}]
["Bergen",930716.6,null,3579.32,null,{"$f":"IF(D8=0,0,B8/D8)","v":260.02609434194204},{"$f":"IF(E8=0,0,C8/E8)","v":0},{"$f":"IF(D8+E8=0,0,(B8+C8)/(D8+E8))","v":260.02609434194204},633569.49,null,271.47548633130515,{"$f":"IF(I8=0,0,(B8-I8)/I8)","v":0.46900476536520092},{"$f":"IF(K8=0,0,(H8-K8)/K8)","v":-4.2174680830630938E-2}]
["Glåmdal",null,null,null,null,0,0,0,null,null,0,0,0]
["Hamar og Omegn",107725.94,null,270.89999999999998,null,397.65943152454787,0,397.65943152454787,172577.51,null,313.89143324845401,-0.37578227893078309,0.26686933571006094]
["Nordland",null,null,null,null,0,0,0,null,null,0,0,0]
["Stavanger",585212,null,1927.5,null,303.61193255512319,0,303.61193255512319,560795,null,315.94084507042254,4.3539974500485919E-2,-3.9022850978800358E-2]
["Tromsø",null,null,null,null,0,null,0,null,null,0,0,0]
["Telemark",null,null,null,null,0,0,0,null,null,0,0,0]
["Trondheim",2536550,222947,9189,1677,{"$f":"IF(D15=0,0,B15/D15)","v":276.04200674719772},{"$f":"IF(E15=0,0,C15/E15)","v":132.94394752534288},{"$f":"IF(D15+E15=0,0,(B15+C15)/(D15+E15))","v":253.95702190318426},4330472,470188,264.99558401413117,-0.41425553611707916,-4.1655645515807048E-2]
["Vestfold",null,null,null,null,0,0,0,null,null,0,0,0]
["Oslo",7683995,null,27175,null,282.75970561177553,0,282.75970561177553,11368851,null,256.06673724041622,-0.32411859386669772,0.10424223254853203]
["Østfold",2355972,null,8575.5,null,274.73290187161098,0,274.73290187161098,715179,null,244.38031778575089,2.2942410221776646,0.12420224493066707]
["Landet i alt",{"$f":"SUM(B7:B18)","v":14200171.539999999},{"$f":"SUM(C7:C18)","v":222947},{"$f":"SUM(D7:D18)","v":50717.22},{"$f":"SUM(E7:E18)","v":1677},{"$f":"IF(D19=0,0,B19/D19)","v":279.98718265709357},{"$f":"IF(E19=0,0,C19/E19)","v":132.94394752534288},{"$f":"IF(D19+E19=0,0,(B19+C19)/(D19+E19))","v":275.2807187510378},17781444,470188,260.36899189861208,{"$f":"IF(I19=0,0,(B19-I19)/I19)","v":-0.20140504112039501},{"$f":"IF(K19=0,0,(H19-K19)/K19)","v":5.7271515873258655E-2}]
[]
[]
[{"$f":"\"MÅLESTATISTIKK FOR MURERE - 2. HALVÅR \"&FORS!$A$14","v":"MÅLESTATISTIKK FOR MURERE - 2. HALVÅR 2015"}]
[]
[null,"Målesum i kroner",null,"Timer",null,{"$f":"\"Fortjeneste 2. halvår  \"&FORS!$A$14-0","v":"Fortjeneste 2. halvår  2015"},null,null,{"$f":"\" 2. halvår  \"&FORS!$A$14-1","v":" 2. halvår  2014"},null,null,"Endringer i %"]
[null,"Innmålt m/","Innmålt m/","Innmålt m/","Innmålt m/","Innmålt m/","Innmålt m/","Gjennom-","Innmålt m/","Innmålt m/","Gjen.snitt","Innmålt m/","Gjen.snitt"]
[null,"overskudd","underskudd","overskudd","underskudd","overskudd","underskudd","snitt","overskudd","underskudd","fortjeneste","overskudd","fortjeneste"]
["Agder",null,null,null,null,{"$f":"IF(D27=0,0,B27/D27)","v":0},{"$f":"IF(E27=0,0,C27/E27)","v":0},{"$f":"IF(D27+E27=0,0,(B27+C27)/(D27+E27))","v":0},null,null,0,{"$f":"IF(I27=0,0,(B27-I27)/I27)","v":0},{"$f":"IF(K27=0,0,(H27-K27)/K27)","v":0}]
["Bergen",null,null,null,null,null,{"$f":"IF(E28=0,0,C28/E28)","v":0},{"$f":"IF(D28+E28=0,0,(B28+C28)/(D28+E28))","v":0},null,null,0,{"$f":"IF(I28=0,0,(B28-I28)/I28)","v":0},{"$f":"IF(K28=0,0,(H28-K28)/K28)","v":0}]
["Glåmdal",null,null,null,null,{"$f":"IF(D29=0,0,B29/D29)","v":0},0,0,null,null,0,0,0]
["Hamar og Omegn",96908.82,null,270.89999999999998,null,{"$f":"IF(D30=0,0,B30/D30)","v":357.72912513842749},0,357.72912513842749,null,null,0,0,0]
["Nordland",null,null,null,null,0,0,0,null,null,0,0,0]
["Stavanger",961889.1,null,3014,null,319.14037823490378,0,319.14037823490378,943176,null,319.82909460834179,1.9840517570421615E-2,-2.1533887474540262E-3]
["Tromsø",null,null,null,null,0,null,null,null,null,null,0,0]
["Telemark",null,null,null,null,0,0,0,null,null,0,0,0]
["Trondheim",1609931,null,5860,0,274.73225255972699,{"$f":"IF(E35=0,0,C35/E35)","v":0},{"$f":"IF(D35+E35=0,0,(B35+C35)/(D35+E35))","v":274.73225255972699},3107769,null,278.32428801719504,-0.48196568020338704,-1.2905936032597123E-2]
["Vestfold",null,null,null,null,0,0,0,null,null,0,0,0]
["Oslo",10240692,null,36338,null,281.81771148659806,0,281.81771148659806,8122439,null,275.88869263951631,0.26079026262924226,2.1490619243423534E-2]
["Østfold",3266749.69,null,10773,null,{"$f":"IF(D38=0,0,B38/D38)","v":303.23491042420869},0,303.23491042420869,1668825,null,335.13907018776985,0.95751483229218159,-9.5196778297696141E-2]
["Landet i alt",{"$f":"SUM(B30:B38)","v":16176170.609999999},null,{"$f":"SUM(D28:D38)","v":56255.9},null,{"$f":"IF(D39=0,0,B39/D39)","v":287.54620599794862},{"$f":"IF(E39=0,0,C39/E39)","v":0},{"$f":"IF(D39+E39=0,0,(B39+C39)/(D39+E39))","v":287.54620599794862},13842209,0,285.19761823819681,0.16861193253186679,8.2349487147198742E-3]
[]
[]
[{"$f":"\"MÅLESTATISTIKK FOR MURERE - GJENNOMSNITT HELE ÅRET  \"&FORS!$A$14","v":"MÅLESTATISTIKK FOR MURERE - GJENNOMSNITT HELE ÅRET  2015"}]
[]
[null,"Målesum i kroner",null,"Timer",null,{"$f":"\"Fortjeneste hele  \"&FORS!$A$14-0","v":"Fortjeneste hele  2015"},null,null,{"$f":"\" Hele året  \"&FORS!$A$14-1","v":" Hele året  2014"},null,null,"Endringer i %"]
[null,"Innmålt m/","Innmålt m/","Innmålt m/","Innmålt m/","Innmålt m/","Innmålt m/","Gjennom-","Innmålt m/","Innmålt m/","Gjen.snitt","Innmålt m/","Gjen.snitt"]
[null,"overskudd","underskudd","overskudd","underskudd","overskudd","underskudd","snitt","overskudd","underskudd","fortjeneste","overskudd","fortjeneste"]
["Agder",{"$f":"B7+B27","v":0},{"$f":"C7+C27","v":0},0,0,{"$f":"IF(D47=0,0,B47/D47)","v":0},{"$f":"IF(E47=0,0,C47/E47)","v":0},{"$f":"IF(D47+E47=0,0,(B47+C47)/(D47+E47))","v":0},0,0,0,{"$f":"IF(I47=0,0,(B47-I47)/I47)","v":0},{"$f":"IF(K47=0,0,(H47-K47)/K47)","v":0}]
["Bergen",{"$f":"B8+B28","v":930716.6},0,3579.32,0,{"$f":"IF(D48=0,0,B48/D48)","v":260.02609434194204},{"$f":"IF(E48=0,0,C48/E48)","v":0},{"$f":"IF(D48+E48=0,0,(B48+C48)/(D48+E48))","v":260.02609434194204},633569.49,0,271.47548633130515,{"$f":"IF(I48=0,0,(B48-I48)/I48)","v":0.46900476536520092},{"$f":"IF(K48=0,0,(H48-K48)/K48)","v":-4.2174680830630938E-2}]
["Glåmdal",0,0,0,0,0,0,0,0,0,0,0,0]
["Hamar og Omegn",204634.76,0,541.79999999999995,0,{"$f":"IF(D50=0,0,B50/D50)","v":377.69427833148768},0,377.69427833148768,172577.51,0,313.89143324845401,0.18575566422299172,0.20326405350646159]
["Nordland",0,0,0,0,0,0,0,0,0,0,0,0]
["Stavanger",1547101.1,0,4941.5,0,313.08329454619047,0,313.08329454619047,1503971,0,318.36812023708723,2.8677481148240286E-2,-1.6599732683539949E-2]
["Tromsø",0,0,0,0,0,0,0,0,0,0,0,0]
["Telemark",0,0,0,0,0,0,0,0,0,0,0,0]
["Trondheim",4146481,222947,15049,1677,275.53199548142732,{"$f":"IF(E55=0,0,C55/E55)","v":132.94394752534288},{"$f":"IF(D55+E55=0,0,(B55+C55)/(D55+E55))","v":261.23568097572644},7438241,470188,270.07817088996654,-0.44254548891330625,-3.2740483561119249E-2]
["Vestfold",0,0,0,0,0,0,0,0,0,0,0,0]
["Oslo",17924687,0,63513,0,282.2207579550643,0,282.2207579550643,19491290,0,263.97012418911413,-8.0374516001762833E-2,6.9139012689462556E-2]
["Østfold",5622721.6899999995,0,19348.5,0,290.6024596221929,0,290.6024596221929,2384004,0,301.54363774348599,1.3585202415767756,-3.6283896430938531E-2]
["Landet i alt",{"$f":"SUM(B47:B58)","v":30376342.149999999},{"$f":"SUM(C47:C58)","v":222947},{"$f":"SUM(D47:D58)","v":106973.12},{"$f":"SUM(E47:E58)","v":1677},{"$f":"IF(D59=0,0,B59/D59)","v":283.96238372780005},{"$f":"IF(E59=0,0,C59/E59)","v":132.94394752534288},{"$f":"IF(D59+E59=0,0,(B59+C59)/(D59+E59))","v":281.63143446137013},31623653,470188,270.5268193258965,-3.9442339251572277E-2,4.1048111840239397E-2]

{"sheet":"ISOLATØR","index":9,"n_rows":9,"n_cols":13,"rows_kept":9,"cut":false,"hidden":false,"merged":[]}
[]
[{"$f":"\"MÅLESTATISTIKK FOR ISOLATØRER -  \"&FORS!$A$14","v":"MÅLESTATISTIKK FOR ISOLATØRER -  2015"}]
[]
[null,"Målesum i kroner",null,"Timer",null,{"$f":"\"Fortjeneste \"&FORS!$A$14-0","v":"Fortjeneste 2015"},null,null,{"$f":"FORS!$A$14-1","v":2014},null,null,"Endringer i %"]
[null,"Innmålt m/","Innmålt m/","Innmålt m/","Innmålt m/","Innmålt m/","Innmålt m/","Gjennom-","Innmålt m/","Innmålt m/","Gjen.snitt","Innmålt m/","Gjen.snitt"]
[null,"overskudd","underskudd","overskudd","underskudd","overskudd","underskudd","snitt","overskudd","underskudd","fortjeneste","overskudd","fortjeneste"]
["Landet i alt 1. halvår",0,null,null,null,{"$f":"IF(D7=0,0,B7/D7)","v":0},0,{"$f":"IF(D7+E7=0,0,(B7+C7)/(D7+E7))","v":0},0,0,0,{"$f":"IF(I7=0,0,(B7-I7)/I7)","v":0},{"$f":"IF(K7=0,0,(H7-K7)/K7)","v":0}]
["Landet i alt 2. halvår",null,null,null,null,{"$f":"IF(D8=0,0,B8/D8)","v":0},{"$f":"IF(E8=0,0,C8/E8)","v":0},{"$f":"IF(D8+E8=0,0,(B8+C8)/(D8+E8))","v":0},null,0,null,{"$f":"IF(I8=0,0,(B8-I8)/I8)","v":0},{"$f":"IF(K8=0,0,(H8-K8)/K8)","v":0}]
[{"$f":"\"Landet i alt \"&FORS!A14","v":"Landet i alt 2015"},{"$f":"SUM(B7:B8)","v":0},{"$f":"SUM(C7:C8)","v":0},{"$f":"SUM(D7:D8)","v":0},{"$f":"SUM(E7:E8)","v":0},0,0,{"$f":"IF(D9+E9=0,0,(B9+C9)/(D9+E9))","v":0},{"$f":"SUM(I7:I8)","v":0},{"$f":"SUM(J7:J8)","v":0},null,0,0]