{"text_format":"1","workbook":"xlsx","n_sheets":10,"sheets":["FORS","ÅRSTOT","BETONG","TØMRERE","MALERE","RØRLEGGERE","TAKTEKKERE","MURERE","BLIKK OG VENTILASJON","ISOLATØR"],"not_rendered":{"charts":0,"images":0,"macros":0,"external_links":0,"defined_names":0,"comments":0,"pivot_tables":0},"unopened":[],"bounds":{"document_bytes":16777216,"sheet_cells":100000,"rows_first":2000,"rows_last":500,"rows_between":2000,"halvings":0,"cell_chars":16384,"cell_head_chars":4096},"cells_cut":0,"cells_raw":0,"read":"whole","date_system":"1900"}

{"sheet":"FORS","index":0,"n_rows":15,"n_cols":9,"rows_kept":15,"cut":false,"hidden":false,"merged":[]}
[]
[]
[]
["STATISTIKK "]
[]
[]
["FOR "]
[]
[]
["MÅLEVIRKSOMHETEN"]
[]
[]
[]
[2016]
["NB: Alle timefortjenester er før eventuelt trekk av målegebyr",null,null,null,null,null,null,null,"Passord dokumentbeskyttelse:<Retur>"]

{"sheet":"ÅRSTOT","index":1,"n_rows":68,"n_cols":13,"rows_kept":68,"cut":false,"hidden":false,"merged":[]}
[]
[{"$f":"\"MÅLESTATISTIKK ALLE BYGGFAG - 1. HALVÅR \"&FORS!$A$14","v":"MÅLESTATISTIKK ALLE BYGGFAG - 1. HALVÅR 2016"}]
[]
[null,"Målesum i kroner",null,"Timer",null,{"$f":"\"Fortjeneste 1. halvår  \"&FORS!$A$14-0","v":"Fortjeneste 1. halvår  2016"},null,null,{"$f":"\" 1. halvår  \"&FORS!$A$14-1","v":" 1. halvår  2015"},null,null,"Endringer i %"]
[null,"Innmålt m/","Innmålt m/","Innmålt m/","Innmålt m/","Innmålt m/","Innmålt m/","Gjennom-","Innmålt m/","Innmålt m/","Gjen.snitt","Innmålt m/","Gjen.snitt"]
[null,"overskudd","underskudd","overskudd","underskudd","overskudd","underskudd","snitt","overskudd","underskudd","fortjeneste","overskudd","fortjeneste"]
["Agder",{"$f":"BETONG!B7+TØMRERE!B7+MALERE!B7+TAKTEKKERE!B7+MURERE!B7","v":5824270},{"$f":"BETONG!C7+TØMRERE!C7+MALERE!C7+TAKTEKKERE!C7+MURERE!C7","v":288719},{"$f":"BETONG!D7+TØMRERE!D7+MALERE!D7+TAKTEKKERE!D7+MURERE!D7","v":21538.5},{"$f":"BETONG!E7+TØMRERE!E7+MALERE!E7+TAKTEKKERE!E7+MURERE!E7","v":1459},{"$f":"IF(D7=0,0,B7/D7)","v":270.41205283561993},197.88827964359149,{"$f":"IF(D7+E7=0,0,(B7+C7)/(D7+E7))","v":265.81102293727577},10755402,0,265.54000000000002,{"$f":"IF(I7=0,0,(B7-I7)/I7)","v":-0.45847956217722036},{"$f":"(H7-K7)/K7","v":1.0206482536557404E-3}]
["Bergen",{"$f":"BETONG!B8+TØMRERE!B8+MALERE!B8+RØRLEGGERE!B7+MURERE!B8+TAKTEKKERE!B11","v":30426194.630000003},{"$f":"BETONG!C8+TØMRERE!C8+MALERE!C8+RØRLEGGERE!C7+MURERE!C8+TAKTEKKERE!C11","v":0},{"$f":"BETONG!D8+TØMRERE!D8+MALERE!D8+RØRLEGGERE!D7+MURERE!D8+TAKTEKKERE!D11","v":112216.44},{"$f":"BETONG!E8+TØMRERE!E8+MALERE!E8+RØRLEGGERE!E7+MURERE!E8+TAKTEKKERE!E11","v":0},{"$f":"IF(D8=0,0,B8/D8)","v":271.13847694687161},{"$f":"IF(E8=0,0,C8/E8)","v":0},{"$f":"IF(D8+E8=0,0,(B8+C8)/(D8+E8))","v":271.13847694687161},49166471,{"$f":"C8","v":0},273.08,{"$f":"IF(I8=0,0,(B8-I8)/I8)","v":-0.38115968034394815},{"$f":"(H8-K8)/K8","v":-7.1097226202152426E-3}]
["Drammen - Bærum",{"$f":"BETONG!B9+TØMRERE!B9","v":0},{"$f":"BETONG!C9+TØMRERE!C9","v":0},{"$f":"BETONG!D9+TØMRERE!D9","v":0},{"$f":"BETONG!E9+TØMRERE!E9","v":0},0,0,0,null,0,null,{"$f":"IF(I32=0,0,(B9-I32)/I32)","v":-1},{"$f":"(H9-K32)/K32","v":-1}]
[null,{"$f":"BETONG!B10+TØMRERE!B10+TAKTEKKERE!B9+MURERE!B9+MALERE!B9","v":0},{"$f":"BETONG!C10+TØMRERE!C10+TAKTEKKERE!C9+MURERE!C9+MALERE!C9","v":0},{"$f":"BETONG!D10+TØMRERE!D10+TAKTEKKERE!D9+MURERE!D9+MALERE!D9","v":0},{"$f":"BETONG!E10+TØMRERE!E10+TAKTEKKERE!E9+MURERE!E9+MALERE!E9","v":0},0,0,0,1966967,0,291.58]
["Haugesund",{"$f":"BETONG!B11+'BLIKK OG VENTILASJON'!B7+TAKTEKKERE!B8","v":7182045},{"$f":"BETONG!C11++'BLIKK OG VENTILASJON'!C7+TAKTEKKERE!C8","v":0},{"$f":"BETONG!D11++'BLIKK OG VENTILASJON'!D7+TAKTEKKERE!D8","v":27760.92},{"$f":"BETONG!E11++'BLIKK OG VENTILASJON'!E7+TAKTEKKERE!E8","v":0},258.71062630489195,0,258.71062630489195,6789716,0,254.51,5.778282920817307E-2,1.6504759360700779E-2]
["Hamar og Omegn",{"$f":"BETONG!B12+TØMRERE!B11+MALERE!B10+TAKTEKKERE!B10+MURERE!B10","v":14511537.710000001},{"$f":"BETONG!C12+TØMRERE!C11+MALERE!C10+TAKTEKKERE!C10+MURERE!C10","v":627149.59000000008},{"$f":"BETONG!D12+TØMRERE!D11+MALERE!D10+TAKTEKKERE!D10+MURERE!D10","v":48975.33},{"$f":"BETONG!E12+TØMRERE!E11+MALERE!E10+TAKTEKKERE!E10+MURERE!E10","v":3481.5},296.30301031151805,180.13775384173491,288.59325468199279,9555534,823660,263.98,0.51865272103055682,9.3239088877917903E-2]
["Nordland",{"$f":"BETONG!B13+TØMRERE!B12+MALERE!B11+RØRLEGGERE!B8+MURERE!B11+TAKTEKKERE!B12","v":2541354},{"$f":"BETONG!C13+TØMRERE!C12+MALERE!C11+RØRLEGGERE!C8+MURERE!C11+TAKTEKKERE!C12","v":1693791},{"$f":"BETONG!D13+TØMRERE!D12+MALERE!D11+RØRLEGGERE!D8+MURERE!D11+TAKTEKKERE!D12","v":10750},{"$f":"BETONG!E13+TØMRERE!E12+MALERE!E11+RØRLEGGERE!E8+MURERE!E11+TAKTEKKERE!E12","v":8251},236.40502325581394,205.2831171979154,222.89063733487711,7370371,675503,306.66000000000003,-0.65519320533525383,-0.27316690362330565]
["Sandnes",{"$f":"BETONG!B14","v":26362513.16},{"$f":"BETONG!C14+MALERE!C12","v":0},{"$f":"BETONG!D14+MALERE!D12","v":88921.19},{"$f":"BETONG!E14+MALERE!E12","v":0},296.47053936187763,0,296.47053936187763,40738774,0,321.20999999999998,-0.35288889253270117,-7.7019584191408599E-2]
["Stavanger",{"$f":"BETONG!B15+TØMRERE!B13+RØRLEGGERE!B9+'BLIKK OG VENTILASJON'!B8+TAKTEKKERE!B13+MURERE!B12","v":4428838},{"$f":"BETONG!C15+TØMRERE!C13+RØRLEGGERE!C9+'BLIKK OG VENTILASJON'!C8+TAKTEKKERE!C13+MURERE!C12","v":95510},{"$f":"BETONG!D15+TØMRERE!D13+RØRLEGGERE!D9+'BLIKK OG VENTILASJON'!D8+TAKTEKKERE!D13+MURERE!D12","v":13864.5},{"$f":"BETONG!E15+TØMRERE!E13+RØRLEGGERE!E9+'BLIKK OG VENTILASJON'!E8+TAKTEKKERE!E13+MURERE!E12","v":559},319.43726784233115,170.85867620751341,313.67892675148198,7357788,204969,275.81,-0.39807480182902799,0.13730077499540255]
["Telemark",{"$f":"BETONG!B16+TØMRERE!B14+MALERE!B13+TAKTEKKERE!B14+MURERE!B14","v":15664087.529999999},{"$f":"BETONG!C16+TØMRERE!C14+MALERE!C10+TAKTEKKERE!C14+MURERE!C14","v":369108},{"$f":"BETONG!D16+TØMRERE!D14+MALERE!D13+TAKTEKKERE!D14+MURERE!D14","v":56053.93},{"$f":"BETONG!E16+TØMRERE!E14+MALERE!E13+TAKTEKKERE!E14+MURERE!E14","v":678},279.44673156726031,544.40707964601768,282.61325729619983,11658182,424120,263.49,0.34361322631607566,7.2576785821852147E-2]
["Tromsø ",{"$f":"BETONG!B17+MALERE!B14+RØRLEGGERE!B10+TØMRERE!B16+MURERE!B13","v":0},{"$f":"BETONG!C17+MALERE!C14+RØRLEGGERE!C10+TØMRERE!C16+MURERE!C13","v":0},{"$f":"BETONG!D17+MALERE!D14+RØRLEGGERE!D10+TØMRERE!D16+MURERE!D13","v":0},{"$f":"BETONG!E17+MALERE!E14+RØRLEGGERE!E10+TØMRERE!E16+MURERE!E13","v":0},0,0,0,1444903,0,248.55]
["Trondheim",{"$f":"BETONG!B18+TØMRERE!B15+MALERE!B15+RØRLEGGERE!B11+TAKTEKKERE!B15+MURERE!B15","v":136864761.50999999},{"$f":"BETONG!C18+TØMRERE!C15+MALERE!C15+RØRLEGGERE!C11+TAKTEKKERE!C15+MURERE!C15","v":11956559.82},{"$f":"BETONG!D18+TØMRERE!D15+MALERE!D15+RØRLEGGERE!D11+TAKTEKKERE!D15+MURERE!D15","v":474259.12631999998},{"$f":"BETONG!E18+TØMRERE!E15+MALERE!E15+RØRLEGGERE!E11+TAKTEKKERE!E15+MURERE!E15","v":63202.44425},288.58645814999528,189.17875664278603,276.89667406763408,128528279,5172886,275.43,6.4861076292789935E-2,5.3250338294088288E-3]
["Vestfold",{"$f":"BETONG!B19+TØMRERE!B17+MALERE!B16+TAKTEKKERE!B16+MURERE!B16","v":6838016},null,{"$f":"BETONG!D19+TØMRERE!D17+MALERE!D16+TAKTEKKERE!D16+MURERE!D16","v":22541},{"$f":"BETONG!E19+TØMRERE!E17","v":0},303.3590346479748,0,303.3590346479748,8514783,435336,241.53,-0.19692421991259201,0.25598904752194257]
["Østfold",{"$f":"BETONG!B20+TØMRERE!B18+MURERE!B18","v":10086148},{"$f":"BETONG!C20+TØMRERE!C59+MALERE!C17+RØRLEGGERE!C13+TAKTEKKERE!C17+MURERE!C17","v":7338219.54},{"$f":"BETONG!D20+TØMRERE!D18+MALERE!D17+TAKTEKKERE!D17+MURERE!D17","v":87323},{"$f":"BETONG!E20+TØMRERE!E18+MURERE!E18","v":3455},115.50391076806798,2123.941979739508,191.94482738108351,16445913,3802314,263.66000000000003,-0.3867079316301868,-0.27199868246573811]
["Oslo",{"$f":"BETONG!B21+TØMRERE!B19+MALERE!B17+RØRLEGGERE!B12+'BLIKK OG VENTILASJON'!B9+TAKTEKKERE!B17+MURERE!B17+ISOLATØR!B7","v":90144330.090000004},{"$f":"BETONG!C21+TØMRERE!C19+MALERE!C18+RØRLEGGERE!C14+TAKTEKKERE!C18+MURERE!C18","v":2866618.2199999997},{"$f":"BETONG!D21+TØMRERE!D19+MALERE!D18+TAKTEKKERE!D18+MURERE!D18","v":320104.84000000003},{"$f":"BETONG!E21+TØMRERE!E19+MALERE!E17+RØRLEGGERE!E12+'BLIKK OG VENTILASJON'!E9+TAKTEKKERE!E17+MURERE!E17+ISOLATØR!E7","v":17662},281.60876945815625,162.30428150832293,275.37027705265558,70571022,288977,290.99,0.2773561659628509,-5.3677868474327046E-2]
["Landet i alt",{"$f":"SUM(B7:B21)","v":350874095.63},{"$f":"SUM(C7:C21)","v":25235675.169999998},{"$f":"SUM(D7:D21)","v":1284308.7763199999},{"$f":"SUM(E7:E21)","v":98747.94425},273.20073030675593,255.55646106526413,271.94095889646064,{"$f":"SUM(I7:I21)","v":370864105},{"$f":"SUM(J7:J21)","v":11827765},279.7,-5.3901170537925217E-2,-2.7740583137430625E-2]
[]
[]
[{"$f":"\"MÅLESTATISTIKK FOR ALLE BYGGFAG - 2. HALVÅR \"&FORS!$A$14","v":"MÅLESTATISTIKK FOR ALLE BYGGFAG - 2. HALVÅR 2016"}]
[]
[null,"Målesum i kroner",null,"Timer",null,{"$f":"\"Fortjeneste 2. halvår  \"&FORS!$A$14-0","v":"Fortjeneste 2. halvår  2016"},null,null,{"$f":"\" 2. halvår  \"&FORS!$A$14-1","v":" 2. halvår  2015"},null,null,"Endringer i %"]
[null,"Innmålt m/","Innmålt m/","Innmålt m/","Innmålt m/","Innmålt m/","Innmålt m/","Gjennom-","Innmålt m/","Innmålt m/","Gjen.snitt","Innmålt m/","Gjen.snitt"]
[null,"overskudd","underskudd","overskudd","underskudd","overskudd","underskudd","snitt","overskudd","underskudd","fortjeneste","overskudd","fortjeneste"]
["Agder",{"$f":"BETONG!B30+TØMRERE!B28+TAKTEKKERE!B26","v":5272896},{"$f":"BETONG!C30+TØMRERE!C28+MALERE!C26+TAKTEKKERE!C26+MURERE!C27","v":1075528},{"$f":"BETONG!D30+TØMRERE!D28+MALERE!D26+TAKTEKKERE!D26+MURERE!D27","v":18780},{"$f":"BETONG!E30+TØMRERE!E28+MALERE!E26+TAKTEKKERE!E26+MURERE!E27","v":5107},{"$f":"IF(D30=0,0,B30/D30)","v":280.77188498402558},210.5987859800274,{"$f":"IF(D30+E30=0,0,(B30+C30)/(D30+E30))","v":265.76899568803117},10547945,489063,270.45,{"$f":"IF(I30=0,0,(B30-I30)/I30)","v":-0.50010205779419592},{"$f":"(H30-K30)/K30","v":-1.7308205997296433E-2}]
["Bergen",{"$f":"BETONG!B31+TØMRERE!B29+MALERE!B27+RØRLEGGERE!B21+MURERE!B28+TAKTEKKERE!B30","v":32001036.299999997},{"$f":"BETONG!C31+TØMRERE!C29+MALERE!C27+RØRLEGGERE!C21+MURERE!C28+TAKTEKKERE!C30","v":0},{"$f":"BETONG!D31+TØMRERE!D29+MALERE!D27+RØRLEGGERE!D21+MURERE!D28+TAKTEKKERE!D30","v":118365.49},{"$f":"BETONG!E31+TØMRERE!E29+MALERE!E27+RØRLEGGERE!E21+MURERE!E28+TAKTEKKERE!E30","v":0},270.35782388937855,0,270.35782388937855,26273018,0,268.27999999999997,{"$f":"IF(I31=0,0,(B31-I31)/I31)","v":0.21801904524253732},{"$f":"(H31-K31)/K31","v":7.7449824413992046E-3}]
["Drammen - Bærum",{"$f":"BETONG!B32+TØMRERE!B30","v":0},{"$f":"BETONG!C32+TØMRERE!C30","v":0},{"$f":"BETONG!D32+TØMRERE!D30","v":0},{"$f":"BETONG!E32+TØMRERE!E30","v":0},0,0,0,4188998.73,0,360.74,{"$f":"IF(I32=0,0,(B32-I32)/I32)","v":-1},-1]
[null,{"$f":"BETONG!B33+TØMRERE!B31+TAKTEKKERE!B28+MURERE!B29+MALERE!B28","v":0},{"$f":"BETONG!C33+TØMRERE!C31+TAKTEKKERE!C28+MURERE!C29+MALERE!C28","v":0},{"$f":"BETONG!D33+TØMRERE!D31+TAKTEKKERE!D28+MURERE!D29+MALERE!D28","v":0},{"$f":"BETONG!E33+TØMRERE!E31+TAKTEKKERE!E28+MURERE!E29+MALERE!E28","v":0},0,0,0,null,0,null,{"$f":"IF(I33=0,0,(B33-I33)/I33)","v":0}]
["Haugesund",{"$f":"BETONG!B34+TAKTEKKERE!B27","v":6280519},{"$f":"BETONG!C34+TAKTEKKERE!C27","v":0},{"$f":"BETONG!D34+TAKTEKKERE!D27","v":23786.47},{"$f":"BETONG!E34+TAKTEKKERE!E27","v":0},264.03745490608736,0,264.03745490608736,10138026,0,256.42,-0.38049882689194131,2.9706945269820394E-2]
["Hamar og Omegn",{"$f":"BETONG!B35+TØMRERE!B32+MALERE!B29+TAKTEKKERE!B29+MURERE!B30","v":7333330.1699999999},{"$f":"BETONG!C35+TØMRERE!C32+MALERE!C29+TAKTEKKERE!C29+MURERE!C30","v":2353971.34},{"$f":"BETONG!D35+TØMRERE!D32+MALERE!D29+TAKTEKKERE!D29+MURERE!D30","v":26746.36},{"$f":"BETONG!E35+TØMRERE!E32+MALERE!E29+TAKTEKKERE!E29+MURERE!E30","v":15703.25},274.18049297175389,149.90344928597582,228.20707916986751,14044133,385742,267.06,-0.4778367472025507,-0.14548386441298769]
["Nordland",{"$f":"BETONG!B36+TØMRERE!B33+MALERE!B30+RØRLEGGERE!B22+MURERE!B31+TAKTEKKERE!B31+'BLIKK OG VENTILASJON'!B18","v":845073},{"$f":"BETONG!C36+TØMRERE!C33+MALERE!C30+RØRLEGGERE!C22+MURERE!C31+TAKTEKKERE!C31+'BLIKK OG VENTILASJON'!C18","v":0},{"$f":"BETONG!D36+TØMRERE!D33+MALERE!D30+RØRLEGGERE!D22+MURERE!D31+TAKTEKKERE!D31+'BLIKK OG VENTILASJON'!D18","v":3016},{"$f":"BETONG!E36+TØMRERE!E33+MALERE!E30+RØRLEGGERE!E22+MURERE!E31+TAKTEKKERE!E31+'BLIKK OG VENTILASJON'!E18","v":0},280.19661803713529,0,280.19661803713529,485125,0,242.44,0.74196959546508634,0.15573592656795618]
["Sandnes",{"$f":"BETONG!B37+MALERE!B31","v":33046055.670000002},{"$f":"BETONG!C37++MALERE!C31","v":0},{"$f":"BETONG!D37++MALERE!D31","v":111644.78},{"$f":"BETONG!E37++MALERE!E31","v":0},295.99284149245494,0,295.99284149245494,33858607,0,315.36,-2.3998368568441054E-2,-6.1412856759085074E-2]
["Stavanger",{"$f":"BETONG!B38+TØMRERE!B34+RØRLEGGERE!B23+'BLIKK OG VENTILASJON'!B19+TAKTEKKERE!B32+MURERE!B32","v":3939581},{"$f":"BETONG!C38+TØMRERE!C34+RØRLEGGERE!C23+'BLIKK OG VENTILASJON'!C19+TAKTEKKERE!C32+MURERE!C32","v":130812},{"$f":"BETONG!D38+TØMRERE!D34+RØRLEGGERE!D23+'BLIKK OG VENTILASJON'!D19+TAKTEKKERE!D32+MURERE!D32","v":12664},{"$f":"BETONG!E38+TØMRERE!E34+RØRLEGGERE!E23+'BLIKK OG VENTILASJON'!E19+TAKTEKKERE!E32+MURERE!E32","v":677},311.08504421983577,193.22304283604137,305.10404017689831,5573604,262724,321.74,-0.29317170721134833,-5.1706221865797534E-2]
["Telemark",{"$f":"BETONG!B39+TØMRERE!B35+MALERE!B32+TAKTEKKERE!B33+MURERE!B34","v":23983474.039999999},{"$f":"BETONG!C39+TØMRERE!C35+MALERE!C32+TAKTEKKERE!C33+MURERE!C34","v":179280},{"$f":"BETONG!D39+TØMRERE!D35+MALERE!D32+TAKTEKKERE!D33+MURERE!D34","v":80737.7},{"$f":"BETONG!E39+TØMRERE!E35+MALERE!E32+TAKTEKKERE!E33+MURERE!E34","v":878},297.05421432614503,204.19134396355352,296.05522025786706,11346916,null,248.52,1.1136557316543103,0.19127321848489881]
[null,{"$f":"BETONG!B40+MALERE!B33+RØRLEGGERE!B24+TØMRERE!B37+MURERE!B33","v":0},{"$f":"BETONG!C40+MALERE!C33+RØRLEGGERE!C24+TØMRERE!C37+MURERE!C33","v":0},{"$f":"BETONG!D40+MALERE!D33+RØRLEGGERE!D24+TØMRERE!D37+MURERE!D33","v":0},{"$f":"BETONG!E40+MALERE!E33+RØRLEGGERE!E24+TØMRERE!E37+MURERE!E33","v":0},0,0,0,null,0,null,0]
["Trondheim",{"$f":"BETONG!B41+TØMRERE!B36+MALERE!B34+RØRLEGGERE!B25+TAKTEKKERE!B34+MURERE!B35","v":171118890.53},{"$f":"BETONG!C41+TØMRERE!C36+MALERE!C34+RØRLEGGERE!C25+TAKTEKKERE!C34+MURERE!C35","v":12366765.16},{"$f":"BETONG!D41+TØMRERE!D36+MALERE!D34+RØRLEGGERE!D25+TAKTEKKERE!D34+MURERE!D35","v":588911.74},{"$f":"BETONG!E41+TØMRERE!E36+MALERE!E34+RØRLEGGERE!E25+TAKTEKKERE!E34+MURERE!E35","v":64970.559999999998},290.5679729359785,190.34413679057101,280.60960770768679,145175352,11017593,265.57,0.178704843298744,5.6631425641777304E-2]
["Vestfold",{"$f":"BETONG!B42+TØMRERE!B38+MALERE!B35+MURERE!B36+TAKTEKKERE!B35","v":4474365},{"$f":"BETONG!C42+TØMRERE!C38+MALERE!C35+MURERE!C36+TAKTEKKERE!C35","v":1732422},{"$f":"BETONG!D42+TØMRERE!D38+MALERE!D35+MURERE!D36+TAKTEKKERE!D35","v":16746},{"$f":"BETONG!E42+TØMRERE!E38+MALERE!E35+MURERE!E36+TAKTEKKERE!E35","v":8357},{"$f":"IF(D42=0,0,B42/D42)","v":267.19007524184877},207.30190259662558,247.25279847030237,2656616,1644948,233.41,0.68423475579458981,5.9306792640856733E-2]
["Østfold",{"$f":"BETONG!B66+TØMRERE!B39+MURERE!B38","v":11588247.4},{"$f":"BETONG!C66+TØMRERE!C39+MURERE!C38","v":1888488.5},{"$f":"BETONG!D66+TØMRERE!D39+MURERE!D38","v":40663.5},{"$f":"BETONG!E43+TØMRERE!E39+MURERE!E38","v":6558},284.97909427373446,287.96713937175969,285.39406626218988,9240391,872161,290.20999999999998,0.25408626106838988,-1.6594651244995345E-2]
["Oslo",{"$f":"BETONG!B44+TØMRERE!B40+MALERE!B36+RØRLEGGERE!B26+'BLIKK OG VENTILASJON'!B20+TAKTEKKERE!B36+MURERE!B37+ISOLATØR!B8","v":96770586.75},{"$f":"BETONG!C44+TØMRERE!C40+MALERE!C36+RØRLEGGERE!C26+'BLIKK OG VENTILASJON'!C20+TAKTEKKERE!C36+MURERE!C37+ISOLATØR!C8","v":4434277.09},{"$f":"BETONG!D44+TØMRERE!D40+MALERE!D36+RØRLEGGERE!D26+'BLIKK OG VENTILASJON'!D20+TAKTEKKERE!D36+MURERE!D37+ISOLATØR!D8","v":311120.90000000002},{"$f":"BETONG!E44+TØMRERE!E40+MALERE!E36+RØRLEGGERE!E26+'BLIKK OG VENTILASJON'!E20+TAKTEKKERE!E36+MURERE!E37+ISOLATØR!E8","v":24683.5},311.03852794845989,179.64539429173334,301.38039835094474,54529579,6405994,270.11,0.77464393682555299,0.11576912498961434]
["Landet i alt",{"$f":"SUM(B30:B44)","v":396654054.86000001},{"$f":"SUM(C30:C44)","v":24161544.09},{"$f":"SUM(D30:D44)","v":1353182.94},{"$f":"SUM(E30:E44)","v":126934.31},{"$f":"IF(D45=0,0,B45/D45)","v":293.12670381434162},190.34683443743461,284.31234008657083,{"$f":"SUM(I30:I44)","v":328058310.73000002},{"$f":"SUM(J30:J44)","v":21078225},271.85000000000002,0.20909619383627187,4.5842707693841474E-2]
[]
[]
[{"$f":"\"MÅLESTATISTIKK FOR ALLE BYGGFAG - GJENNOMSNITT HELE ÅRET  \"&FORS!$A$14","v":"MÅLESTATISTIKK FOR ALLE BYGGFAG - GJENNOMSNITT HELE ÅRET  2016"}]
[]
[null,"Målesum i kroner",null,"Timer",null,{"$f":"\"Fortjeneste hele  \"&FORS!$A$14-0","v":"Fortjeneste hele  2016"},null,null,{"$f":"\" Hele året  \"&FORS!$A$14-1","v":" Hele året  2015"},null,null,"Endringer i %"]
[null,"Innmålt m/","Innmålt m/","Innmålt m/","Innmålt m/","Innmålt m/","Innmålt m/","Gjennom-","Innmålt m/","Innmålt m/","Gjen.snitt","Innmålt m/","Gjen.snitt"]
[null,"overskudd","underskudd","overskudd","underskudd","overskudd","underskudd","snitt","overskudd","underskudd","fortjeneste","overskudd","fortjeneste"]
["Agder",{"$f":"B7+B30","v":11097166},1364247,40318.5,6566,{"$f":"IF(D53=0,0,B53/D53)","v":275.23757084216925},207.7744441060006,{"$f":"IF(D53+E53=0,0,(B53+C53)/(D53+E53))","v":265.78961063891052},21303347,489063,268,{"$f":"IF(I53=0,0,(B53-I53)/I53)","v":-0.4790881451632929},{"$f":"(H53-K53)/K53","v":-8.2477214966025485E-3}]
["Bergen",{"$f":"B8+B31","v":62427230.93},0,230581.93,0,270.7377413746168,0,270.7377413746168,75439489,0,271.39,{"$f":"IF(I54=0,0,(B54-I54)/I54)","v":-0.17248603142049385},{"$f":"(H54-K54)/K54","v":-2.4033996292537798E-3}]
["Drammen - Bærum",{"$f":"B9+B32","v":0},0,0,0,0,0,0,4188999,0,360.74,-1,-1]
[null,{"$f":"B10+B33","v":0},0,0,0,0,0,0,1966967,0,291.58,-1,-1]
["Haugesund",{"$f":"B11+B34","v":13462564},0,51547.39,0,261.16868380726942,0,261.16868380726942,16927742,0,255.65,-0.20470408870834633,2.158687192360419E-2]
["Hamar og Omegn",{"$f":"B12+B35","v":21844867.880000003},2981120.9299999997,75721.69,19184.75,288.48891090518453,155.39013695773986,261.58381675679755,23599667,1209402,265.76,-7.435694410433831E-2,-1.5714115153531175E-2]
["Nordland",{"$f":"B13+B36","v":3386427},1693791,13766,8251,245.9993462153131,205.2831171979154,230.74070036789755,7855496,675503,302.11,-0.56890984350319829,-0.23623613793685236]
["Sandnes",59408568.829999998,0,200565.97,0,296.20462947926808,0,296.20462947926808,74597382,0,318.52999999999997,-0.20361053917414959,-7.0088753086779573E-2]
["Stavanger",8368419,226322,26528.5,1236,315.45013853025989,183.10841423948219,309.55864503232544,12931392,467693,294.10000000000002,-0.35286015612240351,5.256254686271819E-2]
["Telemark",39647561.57,548388,136791.63,1556,289.83909008175425,352.43444730077118,290.54310196712441,23005099,424120,256.02,0.72342494896457521,0.13484533226749643]
["Tromsø",0,0,0,0,0,0,0,1444903,0,248.55,-1,-1]
["Trondheim",{"$f":"B18+B41","v":307983652.03999996},24323324.98,1063170.86632,128173.00425,289.68405906948647,189.76948478602895,278.93455888685378,273703631,16190480,270.02999999999997,0.1252450357152915,3.2976183708676096E-2]
["Vestfold",{"$f":"B19+B42","v":11312381},1732422,39287,{"$f":"E19+E42","v":8357},287.94209280423547,{"$f":"IF(E65=0,0,C65/E65)","v":207.30190259662558},273.79739316598102,11171399,2080284,238.83,1.261990552839443E-2,0.14641122625290376]
["Østfold",21674395.399999999,9226708.0399999991,127986.5,10013,169.3490750977642,921.47288924398276,223.9218507313432,25686303,3802314,271.44,-0.15618859592211465,-0.17505949480053346]
["Oslo",{"$f":"B21+B44","v":186914916.84},7300895.3099999996,631225.74,42345.5,296.11421872625158,172.41254230083479,{"$f":"IF(D67+E67=0,0,(B67+C67)/(D67+E67))","v":288.33744764696308},125100601,6694972,280.95,0.49411685752013296,2.6294528019089148E-2]
["Landet i alt",{"$f":"SUM(B53:B67)","v":747528150.49000001},{"$f":"SUM(C53:C67)","v":49397219.260000005},{"$f":"SUM(D53:D67)","v":2637491.7163199997},{"$f":"SUM(E53:E67)","v":225682.25425},{"$f":"IF(D68=0,0,B68/D68)","v":283.42388560484278},218.87950128892336,{"$f":"IF(D68+E68=0,0,(B68+C68)/(D68+E68))","v":278.33634209497524},{"$f":"SUM(I53:I67)","v":698922417},{"$f":"SUM(J53:J67)","v":32033831},275.89999999999998,6.9543818180323166E-2,{"$f":"(H68-K68)/K68","v":8.8305258969744831E-3}]

{"sheet":"BETONG","index":2,"n_rows":68,"n_cols":13,"rows_kept":68,"cut":false,"hidden":false,"merged":[]}
[]
[{"$f":"\"MÅLESTATISTIKK FOR BETONGFAGENE - 1. HALVÅR \"&FORS!$A$14","v":"MÅLESTATISTIKK FOR BETONGFAGENE - 1. HALVÅR 2016"}]
[]
[null,"Målesum i kroner",null,"Timer",null,{"$f":"\"Fortjeneste 1. halvår  \"&FORS!$A$14-0","v":"Fortjeneste 1. halvår  2016"},null,null,{"$f":"\" 1. halvår  \"&FORS!$A$14-1","v":" 1. halvår  2015"},null,null,"Endringer i %"]
[null,"Innmålt m/","Innmålt m/","Innmålt m/","Innmålt m/","Innmålt m/","Innmålt m/","Gjennom-","Innmålt m/","Innmålt m/","Gjen.snitt","Innmålt m/","Gjen.snitt"]
[null,"overskudd","underskudd","overskudd","underskudd","overskudd","underskudd","snitt","overskudd","underskudd","fortjeneste","overskudd","fortjeneste"]
["Agder",1955415,211313,7079,1032,{"$f":"IF(D7=0,0,B7/D7)","v":276.22757451617463},{"$f":"IF(E7=0,0,C7/E7)","v":204.76065891472868},{"$f":"IF(D7+E7=0,0,(B7+C7)/(D7+E7))","v":267.1345086918999},3299282,null,270.02999999999997,{"$f":"IF(I7=0,0,(B7-I7)/I7)","v":-0.40732104742789493},{"$f":"IF(K7=0,0,(H7-K7)/K7)","v":-1.0722850454023913E-2}]
["Bergen",22683267,null,80950.66,null,280.21101989779947,0,280.21101989779947,37393459,null,282.95999999999998,{"$f":"IF(I8=0,0,(B8-I8)/I8)","v":-0.393389442789981},{"$f":"IF(K8=0,0,(H8-K8)/K8)","v":-9.7150837651982808E-3}]
["Drammen - Bærum",null,null,null,null,0,0,0,null,null,null,0,0]
["Glåmdal",null,null,null,null,0,0,0,null,null,0,0,0]
["Haugesund",7182045,null,27760.92,null,258.71062630489195,0,258.71062630489195,6789716,null,254.51,5.778282920817307E-2,1.6504759360700779E-2]
["Hamar og Omegn",3542121.95,null,14143.93,null,250.43406959734671,0,250.43406959734671,3604654,null,281.23,-1.734758731351187E-2,-0.10950442841323227]
["Nordland",null,null,null,null,{"$f":"IF(D13=0,0,B13/D13)","v":0},0,0,null,null,0,{"$f":"IF(I13=0,0,(B13-I13)/I13)","v":0},0]
["Sandnes",26362513.16,null,88921.19,null,{"$f":"IF(D14=0,0,B14/D14)","v":296.47053936187763},0,296.47053936187763,40738774,null,321.20999999999998,{"$f":"IF(I14=0,0,(B14-I14)/I14)","v":-0.35288889253270117},-7.7019584191408599E-2]
["Stavanger",null,null,null,null,0,0,0,null,null,null,0,0]
["Telemark",1181030.6000000001,null,3435.25,null,343.79756931809914,0,343.79756931809914,1165010,null,332.2,1.3751469944464075E-2,3.4911406737203936E-2]
["Tromsø",null,null,null,null,0,0,0,1444903,null,248.55]
["Trondheim",43448814,null,144563.99,null,300.55073881123508,0,300.55073881123508,23961984,null,286.67,0.81323942124324933,4.842061886920522E-2]
["Vestfold",1419315,null,5002,null,283.74950019992002,0,283.74950019992002,2687384,null,260.63,-0.47185999470116663,8.87062126382996E-2]
["Østfold",3461921.9,630518.5,11960,3205,289.45835284280935,196.72964118564744,269.8608902077151,3241424,2724456,232.4,6.8025009995606844E-2,0.16119143807106323]
["Oslo",11802983,null,39092,null,301.92834851120432,0,301.92834851120432,17793000,null,290.43,-0.33665019951666386,3.9590774063300319E-2]
["Landet i alt",{"$f":"SUM(B7:B21)","v":123039426.61000001},{"$f":"SUM(C7:C21)","v":841831.5},{"$f":"SUM(D7:D21)","v":422908.94},{"$f":"SUM(E7:E21)","v":4237},{"$f":"IF(D22=0,0,B22/D22)","v":290.93597929142857},{"$f":"IF(E22=0,0,C22/E22)","v":198.68574463063487},{"$f":"IF(D22+E22=0,0,(B22+C22)/(D22+E22))","v":290.02091910319928},{"$f":"SUM(I7:I21)","v":142119590},{"$f":"SUM(J7:J21)","v":2724456},289.2,-0.13425428113041971,2.8385861106476049E-3]
[]
[]
[{"$f":"\"MÅLESTATISTIKK FOR BETONGFAGENE - 2. HALVÅR \"&FORS!$A$14","v":"MÅLESTATISTIKK FOR BETONGFAGENE - 2. HALVÅR 2016"}]
[]
[null,"Målesum i kroner",null,"Timer",null,{"$f":"\"Fortjeneste 2. halvår  \"&FORS!$A$14-0","v":"Fortjeneste 2. halvår  2016"},null,null,{"$f":"\" 2. halvår  \"&FORS!$A$14-1","v":" 2. halvår  2015"},null,null,"Endringer i %"]
[null,"Innmålt m/","Innmålt m/","Innmålt m/","Innmålt m/","Innmålt m/","Innmålt m/","Gjennom-","Innmålt m/","Innmålt m/","Gjen.snitt","Innmålt m/","Gjen.snitt"]
[null,"overskudd","underskudd","overskudd","underskudd","overskudd","underskudd","snitt","overskudd","underskudd","fortjeneste","overskudd","fortjeneste"]
["Agder",1215187,null,4141,null,{"$f":"IF(D30=0,0,B30/D30)","v":293.45254769379375},{"$f":"IF(E30=0,0,#REF!/E30)","v":0},{"$f":"IF(D30+E30=0,0,(B30+C30)/(D30+E30))","v":293.45254769379375},4355976,83831,276.23,{"$f":"IF(I30=0,0,(B30-I30)/I30)","v":-0.72102991384709192},{"$f":"IF(K30=0,0,(H30-K30)/K30)","v":6.2348577974129266E-2}]
["Bergen",22819678.5,null,80537.98,null,null,{"$f":"IF(E31=0,0,C31/E31)","v":0},{"$f":"IF(D31+E31=0,0,(B31+C31)/(D31+E31))","v":283.34058663999275},20581258.77,null,278.42,{"$f":"IF(I31=0,0,(B31-I31)/I31)","v":0.10876009844756451},{"$f":"IF(K31=0,0,(H31-K31)/K31)","v":1.7673251346859903E-2}]
["Drammen - Bærum",null,null,null,null,{"$f":"IF(D32=0,0,B32/D32)","v":0},{"$f":"IF(E32=0,0,C32/E32)","v":0},{"$f":"IF(D32+E32=0,0,(B32+C32)/(D32+E32))","v":0},3360922.67,null,356.99,{"$f":"IF(I32=0,0,(B32-I32)/I32)","v":-1},-1]
[null,null,null,null,null,{"$f":"IF(D33=0,0,B33/D33)","v":0},0,0,null,null,0,0,0]
["Haugesund",6280519,null,23786.47,null,{"$f":"IF(D34=0,0,B34/D34)","v":264.03745490608736},0,264.03745490608736,10138026,null,256.42,-0.38049882689194131,2.9706945269820394E-2]
["Hamar og Omegn",1160879.45,null,3909.6,null,296.93049161039494,0,296.93049161039494,5237487,null,269.48,-0.77835182216204069,0.10186467125721731]
["Nordland",null,null,null,null,0,0,0,null,null,0,0,0]
["Sandnes",33046055.670000002,null,111644.78,null,295.99284149245494,0,{"$f":"IF(D37+E37=0,0,(B37+C37)/(D37+E37))","v":295.99284149245494},33858607.240000002,null,315.36,-2.3998375486634464E-2,-6.1412856759085074E-2]
["Stavanger",null,null,null,null,0,0,0,null,null,0,0,0]
["Telemark",9209474.4000000004,null,29981.4,null,307.1729272148732,0,307.1729272148732,484919,null,315.64,17.991778833165952,-2.6825094364233901E-2]
[null,null,null,null,null,0,0,0,null,null,null,0,0]
["Trondheim",25045308.059999999,null,85825.8,null,291.81560859322019,0,291.81560859322019,32689747.890000001,null,290.5,-0.23384823449000916,4.5287731264034093E-3]
["Vestfold",613416,null,2537,null,241.78793851005125,0,241.78793851005125,179975,null,229.27,2.4083400472287817,5.4599112444066983E-2]
["Østfold",3603657,72160,12316,350,292.59962650211105,206.17142857142858,290.21135322911732,2590332,null,281.94,0.39119502828208896,2.9337281794414853E-2]
["Oslo",12082961,null,37513,null,322.10063178098261,0,322.10063178098261,7182385,1482017,281.14,0.68230483328309466,0.14569478473707984]
["Landet i alt",{"$f":"SUM(B30:B44)","v":115077136.08000001},{"$f":"SUM(C30:C44)","v":72160},{"$f":"SUM(D30:D44)","v":392193.03},{"$f":"SUM(E30:E44)","v":350},{"$f":"IF(D45=0,0,B45/D45)","v":293.41963593794617},{"$f":"IF(E45=0,0,C45/E45)","v":206.17142857142858},{"$f":"IF(D45+E45=0,0,(B45+C45)/(D45+E45))","v":293.34184351712986},{"$f":"SUM(I30:I44)","v":120659636.57000001},1565848,290.60000000000002,-4.6266511724169984E-2,9.4351118965238703E-3]
[]
[]
[{"$f":"\"MÅLESTATISTIKK FOR BETONGFAGENE - GJENNOMSNITT HELE ÅRET  \"&FORS!$A$14","v":"MÅLESTATISTIKK FOR BETONGFAGENE - GJENNOMSNITT HELE ÅRET  2016"}]
[]
[null,"Målesum i kroner",null,"Timer",null,{"$f":"\"Fortjeneste hele  \"&FORS!$A$14-0","v":"Fortjeneste hele  2016"},null,null,{"$f":"\" Hele året  \"&FORS!$A$14-1","v":" Hele året  2015"},null,null,"Endringer i %"]
[null,"Innmålt m/","Innmålt m/","Innmålt m/","Innmålt m/","Innmålt m/","Innmålt m/","Gjennom-","Innmålt m/","Innmålt m/","Gjen.snitt","Innmålt m/","Gjen.snitt"]
[null,"overskudd","underskudd","overskudd","underskudd","overskudd","underskudd","snitt","overskudd","underskudd","fortjeneste","overskudd","fortjeneste"]
["Agder",{"$f":"B7+B30","v":3170602},{"$f":"C7+C30","v":211313},{"$f":"D7+D30","v":11220},{"$f":"E7+E30","v":1032},{"$f":"IF(D30=0,0,B30/D30)","v":293.45254769379375},{"$f":"IF(E53=0,0,C30/E53)","v":0},{"$f":"IF(D30+E53=0,0,(B30+C30)/(D30+E53))","v":234.90953025323796},{"$f":"I7+I30","v":7655258},{"$f":"J7+J30","v":83831},273.55,{"$f":"IF(I53=0,0,(B30-I53)/I53)","v":-0.8412611305850175},{"$f":"IF(K53=0,0,(H53-K53)/K53)","v":-0.14125560134074958}]
["Bergen",{"$f":"B8+B31","v":45502945.5},null,{"$f":"D8+D31","v":161488.64000000001},null,{"$f":"IF(D54=0,0,B54/D54)","v":281.7718045058773},{"$f":"IF(E54=0,0,C54/E54)","v":0},{"$f":"IF(D54+E54=0,0,(B54+C54)/(D54+E54))","v":281.7718045058773},{"$f":"I8+I31","v":57974717.769999996},0,281.33,{"$f":"IF(I54=0,0,(B54-I54)/I54)","v":-0.21512432918567354},{"$f":"IF(K54=0,0,(H54-K54)/K54)","v":1.5704137698692446E-3}]
["Drammen - Bærum",null,null,null,null,0,0,0,3360922.67,0,356.99,-1,-1]
[null,null,null,null,null,0,0,0,0,0,0,0,0]
["Haugesund",{"$f":"B11+B34","v":13462564},null,{"$f":"D11+D34","v":51547.39},null,261.16868380726942,0,261.16868380726942,16927742,0,255.65,-0.20470408870834633,2.158687192360419E-2]
["Hamar og Omegn",{"$f":"B12+B35","v":4703001.4000000004},null,{"$f":"D12+D35","v":18053.53},null,260.50314813778806,0,260.50314813778806,8842141,0,274.14999999999998,-0.46811508660628681,-4.9778777538617251E-2]
["Nordland",null,null,null,null,0,0,0,0,0,0,0,0]
["Sandnes",{"$f":"B14+B37","v":59408568.829999998},null,{"$f":"D14+D37","v":200565.97},null,{"$f":"IF(D60=0,0,B60/D60)","v":296.20462947926808},0,{"$f":"IF(D60+E60=0,0,(B60+C60)/(D60+E60))","v":296.20462947926808},74597381.24000001,0,318.52999999999997,{"$f":"IF(I60=0,0,(B14-I60)/I60)","v":-0.646602699427415},-7.0088753086779573E-2]
["Stavanger",null,null,null,null,0,0,0,0,0,null,0,0]
["Telemark",{"$f":"B16+B39","v":10390505},null,{"$f":"D16+D39","v":33416.65},null,310.93796056756139,0,310.93796056756139,1649929,0,327.16000000000003,5.2975467429204528,-4.9584421788845319E-2]
[null,null,null,null,null,0,0,0,1444903,0,248.55,-1,-1]
["Trondheim",{"$f":"B18+B41","v":68494122.060000002},null,{"$f":"D18+D41","v":230389.78999999998},null,297.29669036114842,0,297.29669036114842,56651731.890000001,0,288.87,0.20903844904502181,2.9171220137599669E-2]
["Vestfold",{"$f":"B19+B42","v":2032731},null,{"$f":"D19+D42","v":7539},null,{"$f":"IF(D65=0,0,B65/D65)","v":269.62873060087543},0,269.62873060087543,2867359,0,258.41000000000003,{"$f":"IF(I65=0,0,(B42-I65)/I65)","v":-0.78606934116028027},4.3414459970107205E-2]
["Østfold",{"$f":"B20+B43","v":7065578.9000000004},{"$f":"C20+C43","v":702678.5},{"$f":"D20+D43","v":24276},{"$f":"E20+E43","v":3555},{"$f":"IF(D66=0,0,B66/D66)","v":291.05202257373537},197.65921237693391,279.12246775178761,5831756,2724456,245.46,{"$f":"IF(I66=0,0,(B43-I66)/I66)","v":-0.38206313844406387},0.1371403395738108]
["Oslo",{"$f":"B21+B44","v":23885944},null,{"$f":"D21+D44","v":76605},null,311.80659225899092,0,311.80659225899092,24975385,1482017,287.32,-4.3620588831763757E-2,8.5224113389220812E-2]
["Landet i alt",{"$f":"SUM(B53:B67)","v":238116562.69},{"$f":"SUM(C53:C67)","v":913991.5},{"$f":"SUM(D53:D67)","v":815101.97},{"$f":"SUM(E53:E67)","v":4587},{"$f":"IF(D68=0,0,B68/D68)","v":292.13101115434677},{"$f":"IF(E68=0,0,C68/E68)","v":199.25692173533901},{"$f":"IF(D68+E68=0,0,(B68+C68)/(D68+E68))","v":291.611285424519},262779226.56999999,4290304,289.79000000000002,-9.3853171736276012E-2,6.2848456624416847E-3]

{"sheet":"TØMRERE","index":3,"n_rows":62,"n_cols":13,"rows_kept":62,"cut":false,"hidden":false,"merged":[]}
[]
[{"$f":"\"MÅLESTATISTIKK FOR TØMRERE - 1. HALVÅR \"&FORS!$A$14","v":"MÅLESTATISTIKK FOR TØMRERE - 1. HALVÅR 2016"}]
[]
[null,"Målesum i kroner",null,"Timer",null,{"$f":"\"Fortjeneste 1. halvår  \"&FORS!$A$14-0","v":"Fortjeneste 1. halvår  2016"},null,null,{"$f":"\" 1. halvår  \"&FORS!$A$14-1","v":" 1. halvår  2015"},null,null,"Endringer i %"]
[null,"Innmålt m/","Innmålt m/","Innmålt m/","Innmålt m/","Innmålt m/","Innmålt m/","Gjennom-","Innmålt m/","Innmålt m/","Gjen.snitt","Innmålt m/","Gjen.snitt"]
[null,"overskudd","underskudd","overskudd","underskudd","overskudd","underskudd","snitt","overskudd","underskudd","fortjeneste","overskudd","fortjeneste"]
["Agder",3858234,null,14424,null,{"$f":"IF(D7=0,0,B7/D7)","v":267.48710482529117},{"$f":"IF(E7=0,0,C7/E7)","v":0},{"$f":"IF(D7+E7=0,0,(B7+C7)/(D7+E7))","v":267.48710482529117},7095854,null,261.22000000000003,{"$f":"IF(I7=0,0,(B7-I7)/I7)","v":-0.45626925243952315},{"$f":"IF(K7=0,0,(H7-K7)/K7)","v":2.3991673016197614E-2}]
["Bergen",5272744.75,null,20267.78,null,{"$f":"IF(D8=0,0,B8/D8)","v":260.15403512372842},{"$f":"IF(E8=0,0,C8/E8)","v":0},{"$f":"IF(D8+E8=0,0,(B8+C8)/(D8+E8))","v":260.15403512372842},7962793,null,242.1,{"$f":"IF(I8=0,0,(B8-I8)/I8)","v":-0.3378272234378063},{"$f":"IF(K8=0,0,(H8-K8)/K8)","v":7.4572635785743191E-2}]
["Drammen - Bærum",null,null,null,null,0,0,0,null,null,0,0,0]
["Glåmdal",null,null,null,null,0,0,0,1966967,null,291.58]
["Hamar og Omegn",8561908.0500000007,396393.59,26674.5,2043.5,320.97726480346404,193.97777832150723,311.94030364231497,3854584,387453,266.83999999999997,1.2212275176776537,0.1690162780779306]
["Nordland",null,null,null,null,0,0,0,7370371,675503,306.66000000000003,-1,-1]
["Stavanger",null,null,null,null,0,0,0,1494422,null,308.32,-1,-1]
["Telemark",12825809,138352,47460.18,678,270.24358103993706,204.0589970501475,269.31140728627463,9273831,424120,249.66,0.38301086142285751,7.871267838770582E-2]
["Trondheim",63949242,7714029,223489,39750,{"$f":"IF(D15=0,0,B15/D15)","v":286.14044539104833},{"$f":"IF(E15=0,0,C15/E15)","v":194.06362264150943},{"$f":"IF(D15+E15=0,0,(B15+C15)/(D15+E15))","v":272.23652650253194},70962050,2099348,282.67,{"$f":"IF(I15=0,0,(B15-I15)/I15)","v":-9.8824766195452357E-2},-3.6910437957576224E-2]
["Tromsø",null,null,null,null,0,0,0,null,null,null,{"$f":"IF(I16=0,0,(B16-I16)/I16)","v":0},0]
["Vestfold",4939638,null,16135,null,306.1442826154323,0,306.1442826154323,5105559,435336,226.99,-3.2498106475706189E-2,0.34871264203459312]
["Østfold",4100973.4,43460,15110,250,271.40790205162142,173.84,269.8198828125,10848517,1077858,280.27999999999997,-0.62197843262816477,-3.7320241142785697E-2]
["Oslo",43848096.32,null,141045.70000000001,null,310.87864656632564,0,310.87864656632564,38108787,null,290.93,0.15060330626634746,6.856854420762945E-2]
["Landet i alt",{"$f":"SUM(B7:B19)","v":147356645.52000001},{"$f":"SUM(C7:C19)","v":8292234.5899999999},{"$f":"SUM(D7:D19)","v":504606.16},{"$f":"SUM(E7:E19)","v":42721.5},{"$f":"IF(D20=0,0,B20/D20)","v":292.02308097071193},{"$f":"IF(E20=0,0,C20/E20)","v":194.09979963250353},{"$f":"IF(D20+E20=0,0,(B20+C20)/(D20+E20))","v":284.37970796140661},{"$f":"SUM(I7:I19)","v":164043735},{"$f":"SUM(J7:J19)","v":5099618},277.72000000000003,-0.10172341833109316,2.3979936487853164E-2]
[null,null,null,null,null,null,null,null,null,null,null,0,0]
[null,null,null,null,null,null,null,null,null,null,null,0,0]
[{"$f":"\"MÅLESTATISTIKK FOR TØMRERE - 2. HALVÅR \"&FORS!$A$14","v":"MÅLESTATISTIKK FOR TØMRERE - 2. HALVÅR 2016"}]
[]
[null,"Målesum i kroner",null,"Timer",null,{"$f":"\"Fortjeneste 2. halvår  \"&FORS!$A$14-0","v":"Fortjeneste 2. halvår  2016"},null,null,{"$f":"\" 2. halvår  \"&FORS!$A$14-1","v":" 2. halvår  2015"},null,null,"Endringer i %"]
[null,"Innmålt m/","Innmålt m/","Innmålt m/","Innmålt m/","Innmålt m/","Innmålt m/","Gjennom-","Innmålt m/","Innmålt m/","Gjen.snitt","Innmålt m/","Gjen.snitt"]
[null,"overskudd","underskudd","overskudd","underskudd","overskudd","underskudd","snitt","overskudd","underskudd","fortjeneste","overskudd","fortjeneste"]
["Agder",3894027,1075528,14044,5107,{"$f":"IF(D28=0,0,B28/D28)","v":277.27335516946738},{"$f":"IF(E28=0,0,C28/E28)","v":210.5987859800274},{"$f":"IF(D28+E28=0,0,(B28+C28)/(D28+E28))","v":259.49323795102083},5990442,405232,264.74,{"$f":"IF(I28=0,0,(B28-I28)/I28)","v":-0.34995998625810915},{"$f":"IF(K28=0,0,(H28-K28)/K28)","v":-1.9818546683459917E-2}]
["Bergen",6037250.9699999997,null,24510.99,null,{"$f":"IF(D29=0,0,B29/D29)","v":246.30792024312356},0,{"$f":"IF(D29+E29=0,0,(B29+C29)/(D29+E29))","v":246.30792024312356},2803231,null,252.66,{"$f":"IF(I29=0,0,(B29-I29)/I29)","v":1.1536758725913061},{"$f":"IF(K29=0,0,(H29-K29)/K29)","v":-2.5140820695307667E-2}]
["Drammen - Bærum",null,null,null,null,{"$f":"IF(D30=0,0,B30/D30)","v":0},0,{"$f":"IF(D30+E30=0,0,(B30+C30)/(D30+E30))","v":0},828076,null,376.81,-1,-1]
[null,null,null,null,null,0,0,0,null,null,null,0,0]
["Hamar og Omegn",3223014.72,2315729.34,12639.76,15494.25,254.99018335791186,149.45733675395709,196.87005371790229,5061733,null,274.68,-0.36325864679152375,-0.28327488816840579]
["Nordland",null,null,null,null,0,0,0,485125,null,242.44,-1,-1]
["Stavanger",null,null,null,null,0,0,0,null,null,null,0,0]
["Telemark",13084266.380000001,179280,45857.1,878,{"$f":"IF(D35=0,0,B35/D35)","v":285.32694784449956},{"$f":"IF(E35=0,0,C35/E35)","v":204.19134396355352},{"$f":"IF(D35+E35=0,0,(B35+C35)/(D35+E35))","v":283.80267464924651},9681769,null,239.4,0.35143343948817629,0.18547483145048665]
["Trondheim",95137382,4282432,320141,21126,297.17337673087798,202.7090788601723,291.32560136198344,69545888,5171885,264.36,0.3679799731653437,0.10200333394607138]
[null,null,null,null,null,0,0,0,null,null,0,0,0]
["Vestfold",3605981,1732422,13403,8357,{"$f":"IF(D38=0,0,B38/D38)","v":269.04282623293295},207.30190259662558,245.33102022058824,2476641,1644948,233.59,0.45599665030175951,5.0263368383013998E-2]
["Østfold",3816941,1185810,14230,6208,268.23197470133522,191.01320876288659,244.77693512085332,3383309,null,284.8,0.1281680153955787,-0.14053042443520605]
["Oslo",43016139.350000001,null,131030.2,null,{"$f":"IF(D40=0,0,B40/D40)","v":328.29179341861646},{"$f":"IF(E40=0,0,C40/E40)","v":0},{"$f":"IF(D40+E40=0,0,(B40+C40)/(D40+E40))","v":328.29179341861646},8924526.8499999996,null,319.81,3.8199910284319443,2.6521351485621032E-2]
["Landet i alt",{"$f":"SUM(B28:B40)","v":171815002.41999999},{"$f":"SUM(C28:C40)","v":10771201.34},{"$f":"SUM(D28:D40)","v":575856.04999999993},{"$f":"SUM(E28:E40)","v":57170.25},{"$f":"IF(D41=0,0,B41/D41)","v":298.36449998224384},{"$f":"IF(E41=0,0,C41/E41)","v":188.40570646446361},{"$f":"IF(D41+E41=0,0,(B41+C41)/(D41+E41))","v":288.43383562420712},{"$f":"SUM(I28:I40)","v":109180740.84999999},{"$f":"SUM(J28:J40)","v":7222065},265.52,0.57367500057589138,8.6297964839587002E-2]
[]
[]
[{"$f":"\"MÅLESTATISTIKK FOR TØMRERE - GJENNOMSNITT HELE ÅRET  \"&FORS!$A$14","v":"MÅLESTATISTIKK FOR TØMRERE - GJENNOMSNITT HELE ÅRET  2016"}]
[]
[null,"Målesum i kroner",null,"Timer",null,{"$f":"\"Fortjeneste hele  \"&FORS!$A$14-0","v":"Fortjeneste hele  2016"},null,null,{"$f":"\" Hele året  \"&FORS!$A$14-1","v":" Hele året  2015"},null,null,"Endringer i %"]
[null,"Innmålt m/","Innmålt m/","Innmålt m/","Innmålt m/","Innmålt m/","Innmålt m/","Gjennom-","Innmålt m/","Innmålt m/","Gjen.snitt","Innmålt m/","Gjen.snitt"]
[null,"overskudd","underskudd","overskudd","underskudd","overskudd","underskudd","snitt","overskudd","underskudd","fortjeneste","overskudd","fortjeneste"]
["Agder",{"$f":"B7+B28","v":7752261},{"$f":"C7+C28","v":1075528},{"$f":"D7+D28","v":28468},{"$f":"E7+E28","v":5107},{"$f":"IF(D49=0,0,B49/D49)","v":272.31491499227201},{"$f":"IF(E49=0,0,C49/E49)","v":210.5987859800274},{"$f":"IF(D49+E49=0,0,(B49+C49)/(D49+E49))","v":262.92744601638123},{"$f":"I7+I28","v":13086296},{"$f":"J7+J28","v":405232},263,{"$f":"IF(I49=0,0,(B49-I49)/I49)","v":-0.40760464229144749},{"$f":"IF(K49=0,0,(H49-K49)/K49)","v":-2.758706601474333E-4}]
["Bergen",{"$f":"B8+B29","v":11309995.719999999},null,{"$f":"D8+D29","v":44778.770000000004},null,{"$f":"IF(D50=0,0,B50/D50)","v":252.57495281804296},{"$f":"IF(E50=0,0,C50/E50)","v":0},{"$f":"IF(D50+E50=0,0,(B50+C50)/(D50+E50))","v":252.57495281804296},{"$f":"I8+I29","v":10766024},0,245,{"$f":"IF(I50=0,0,(B50-I50)/I50)","v":5.052670512345122E-2},{"$f":"IF(K50=0,0,(H50-K50)/K50)","v":3.0918174767522281E-2}]
["Drammen - Bærum",null,null,null,null,0,0,0,828076,0,377,-1,-1]
[null,null,null,null,null,0,0,0,1966967,0,292,-1,-1]
["Hamar og Omegn",{"$f":"B11+B32","v":11784922.770000001},{"$f":"C11+C32","v":2712122.9299999997},{"$f":"D11+D32","v":39314.26},{"$f":"E11+E32","v":17537.75},299.76203977895045,154.64486208322046,254.99618571093617,8916317,387453,271,0.32172541308255431,-5.9054665273298251E-2]
["Nordland",null,null,null,null,0,0,0,7855496,675503,302,-1,-1]
["Stavanger",null,null,null,null,0,0,0,1494422,0,308,-1,-1]
["Telemark",{"$f":"B14+B35","v":25910075.380000003},317632,93317.28,1556,277.6557072816525,{"$f":"IF(E56=0,0,C56/E56)","v":204.13367609254499},{"$f":"IF(D56+E56=0,0,(B56+C56)/(D56+E56))","v":276.44988536287565},18955600,424120,244,0.36688236616092357,0.13299133345440839]
["Trondheim",159086624,11996461,543630,60876,292.63768371870572,197.06388396083844,{"$f":"IF(D57+E57=0,0,(B57+C57)/(D57+E57))","v":283.01304701690304},140507938,7271233,273,0.13222517008256146,3.6677827900743754E-2]
[null,null,null,null,null,0,0,0,0,0,null,0,0]
["Vestfold",{"$f":"B17+B38","v":8545619},null,{"$f":"D17+D38","v":29538},null,{"$f":"IF(D59=0,0,B59/D59)","v":289.30933035412011},0,289.30933035412011,7582200,2080284,230,{"$f":"IF(I59=0,0,(B17-I59)/I59)","v":-0.34852180106037828},0.25786665371356571]
["Østfold",{"$f":"B18+B39","v":7917914.4000000004},{"$f":"C18+C39","v":1229270},{"$f":"D18+D39","v":29340},{"$f":"E18+E39","v":6458},{"$f":"IF(D60=0,0,B60/D60)","v":269.8675664621677},{"$f":"IF(E60=0,0,C60/E60)","v":190.34840507897181},{"$f":"IF(D60+E60=0,0,(B60+C60)/(D60+E60))","v":255.52221911838652},14231826,1077858,281,{"$f":"IF(I60=0,0,(B18-I60)/I60)","v":-0.71184488905359011},-9.0668259365172546E-2]
["Oslo",{"$f":"B19+B40","v":86864235.670000002},null,{"$f":"D19+D40","v":272075.90000000002},null,{"$f":"IF(D61=0,0,B61/D61)","v":319.26471866857736},0,{"$f":"IF(D61+E61=0,0,(B61+C61)/(D61+E61))","v":319.26471866857736},47033313.850000001,0,296,{"$f":"IF(I61=0,0,(B19-I61)/I61)","v":-6.7722583617186499E-2},7.8597022528977559E-2]
["Landet i alt",{"$f":"SUM(B49:B61)","v":319171647.94},{"$f":"SUM(C49:C61)","v":17331013.93},{"$f":"SUM(D49:D61)","v":1080462.21},{"$f":"SUM(E49:E61)","v":91534.75},{"$f":"IF(D62=0,0,B62/D62)","v":295.40287942139133},{"$f":"IF(E62=0,0,C62/E62)","v":189.33808122052008},{"$f":"IF(D62+E62=0,0,(B62+C62)/(D62+E62))","v":287.11905692144461},273224475.85000002,12321683,273,0.16816638387559732,5.1718157221408829E-2]

{"sheet":"MALERE","index":4,"n_rows":56,"n_cols":13,"rows_kept":56,"cut":false,"hidden":false,"merged":[]}
[]
[{"$f":"\"MÅLESTATISTIKK FOR MALERE - 1. HALVÅR \"&FORS!$A$14","v":"MÅLESTATISTIKK FOR MALERE - 1. HALVÅR 2016"}]
[]
[null,"Målesum i kroner",null,"Timer",null,{"$f":"\"Fortjeneste 1. halvår  \"&FORS!$A$14-0","v":"Fortjeneste 1. halvår  2016"},null,null,{"$f":"\" 1. halvår  \"&FORS!$A$14-1","v":" 1. halvår  2015"},null,null,"Endringer i %"]
[null,"Innmålt m/","Innmålt m/","Innmålt m/","Innmålt m/","Innmålt m/","Innmålt m/","Gjennom-","Innmålt m/","Innmålt m/","Gjen.snitt","Innmålt m/","Gjen.snitt"]
[null,"overskudd","underskudd","overskudd","underskudd","overskudd","underskudd","snitt","overskudd","underskudd","fortjeneste","overskudd","fortjeneste"]
["Agder",null,null,null,null,{"$f":"IF(D7=0,0,B7/D7)","v":0},null,{"$f":"IF(D7+E7=0,0,(B7+C7)/(D7+E7))","v":0},null,null,0,{"$f":"IF(I7=0,0,(B7-I7)/I7)","v":0},{"$f":"IF(K7=0,0,(H7-K7)/K7)","v":0}]
["Bergen",2304272.1,null,10362.75,null,{"$f":"IF(D8=0,0,B8/D8)","v":222.36106245928929},{"$f":"IF(E8=0,0,C8/E8)","v":0},{"$f":"IF(D8+E8=0,0,(B8+C8)/(D8+E8))","v":222.36106245928929},2190258,null,238.26,{"$f":"IF(I8=0,0,(B8-I8)/I8)","v":5.2055100358040056E-2},{"$f":"IF(K8=0,0,(H8-K8)/K8)","v":-6.6729360953205349E-2}]
["Glåmdal",null,null,null,null,0,0,{"$f":"IF(D9+E9=0,0,(B9+C9)/(D9+E9))","v":0},null,null,0,0,{"$f":"IF(K9=0,0,(H9-K9)/K9)","v":0}]
["Hamar og Omegn",1028373,230756,4018,1438,{"$f":"IF(D10=0,0,B10/D10)","v":255.9415131906421},{"$f":"IF(E10=0,0,C10/E10)","v":160.47009735744089},230.77877565982405,1131851,312564,216.07,-9.1423694461550145E-2,6.8074122552062091E-2]
["Nordland",null,null,null,null,0,{"$f":"IF(E11=0,0,C11/E11)","v":0},0,null,null,0,0,0]
["Sandnes",null,null,null,null,0,0,0,null,null,0,0,0]
["Telemark",391124,null,1379.5,null,{"$f":"IF(D13=0,0,B13/D13)","v":283.52591518666185},0,283.52591518666185,184665,null,328.59,1.11801911569599,-0.13714381086867564]
["Tromsø",null,null,null,null,0,0,{"$f":"IF(D14+E14=0,0,(B14+C14)/(D14+E14))","v":0},null,null,0,0,{"$f":"IF(K14=0,0,(H14-K14)/K14)","v":0}]
["Trondheim",16358897,1486845,62231.99,7674.15,{"$f":"IF(D15=0,0,B15/D15)","v":262.86957881308314},{"$f":"IF(E15=0,0,C15/E15)","v":193.7471902425676},{"$f":"IF(D15+E15=0,0,(B15+C15)/(D15+E15))","v":255.28146740758393},13944578,575160,252.38,0.17313675609258308,1.149642367693136E-2]
["Vestfold",479063,null,1404,null,{"$f":"IF(D16=0,0,B16/D16)","v":341.21296296296299},{"$f":"IF(E16=0,0,C16/E16)","v":0},{"$f":"IF(D16+E16=0,0,(B16+C16)/(D16+E16))","v":341.21296296296299},552798,null,334.12,-0.13338507013411771,2.1228788946974098E-2]
["Oslo",2692486.09,null,9366.5,null,287.45914589227567,0,287.45914589227567,2192426,null,268.06,0.22808527631035203,7.2368670791150003E-2]
["Landet i alt",{"$f":"SUM(B7:B17)","v":23254215.190000001},{"$f":"SUM(C7:C17)","v":1717601},{"$f":"SUM(D7:D17)","v":88762.739999999991},{"$f":"SUM(E7:E17)","v":9112.15},{"$f":"IF(D18=0,0,B18/D18)","v":261.9817187932685},{"$f":"IF(E18=0,0,C18/E18)","v":188.49568982073387},{"$f":"IF(D18+E18=0,0,(B18+C18)/(D18+E18))","v":255.14017119201876},{"$f":"SUM(I7:I17)","v":20196576},{"$f":"SUM(J7:J17)","v":887724},251.59,0.1513939387547672,1.4110939194796104E-2]
[]
[]
[{"$f":"\"MÅLESTATISTIKK FOR MALERE - 2. HALVÅR \"&FORS!$A$14","v":"MÅLESTATISTIKK FOR MALERE - 2. HALVÅR 2016"}]
[]
[null,"Målesum i kroner",null,"Timer",null,{"$f":"\"Fortjeneste 2. halvår  \"&FORS!$A$14-0","v":"Fortjeneste 2. halvår  2016"},null,null,{"$f":"\" 2. halvår  \"&FORS!$A$14-1","v":" 2. halvår  2015"},null,null,"Endringer i %"]
[null,"Innmålt m/","Innmålt m/","Innmålt m/","Innmålt m/","Innmålt m/","Innmålt m/","Gjennom-","Innmålt m/","Innmålt m/","Gjen.snitt","Innmålt m/","Gjen.snitt"]
[null,"overskudd","underskudd","overskudd","underskudd","overskudd","underskudd","snitt","overskudd","underskudd","fortjeneste","overskudd","fortjeneste"]
["Agder",null,null,null,null,{"$f":"IF(D26=0,0,B26/D26)","v":0},{"$f":"IF(E26=0,0,C26/E26)","v":0},{"$f":"IF(D26+E26=0,0,(B26+C26)/(D26+E26))","v":0},null,null,0,{"$f":"IF(I26=0,0,(B26-I26)/I26)","v":0},{"$f":"IF(K26=0,0,(H26-K26)/K26)","v":0}]
["Bergen",3144106.83,null,13316.52,null,{"$f":"IF(D27=0,0,B27/D27)","v":236.10574159014516},{"$f":"IF(E27=0,0,C27/E27)","v":0},{"$f":"IF(D27+E27=0,0,(B27+C27)/(D27+E27))","v":236.10574159014516},2828479,null,222.02,{"$f":"IF(I27=0,0,(B27-I27)/I27)","v":0.11158924284041001},{"$f":"IF(K27=0,0,(H27-K27)/K27)","v":6.3443570805085794E-2}]
["Glåmdal",null,null,null,null,0,0,0,null,null,0,0,0]
["Hamar og Omegn",1699069,38242,6396,209,265.64555972482799,{"$f":"IF(E29=0,0,C29/E29)","v":182.97607655502392},263.02967448902348,2383637,272041,232.91,-0.28719473644686672,0.12931894074545311]
["Nordland",null,null,null,null,0,0,0,null,null,0,0,0]
["Sandnes",null,null,null,null,0,0,0,null,null,0,0,0]
["Telemark",161575.4,null,375.5,null,430.29400798934751,0,430.29400798934751,265062,null,275.25,-0.39042412718533781,0.5632843160375931]
["Tromsø",null,null,null,null,0,0,0,null,null,0,0,0]
["Trondheim",23031833,2481659,85578.8,12132.86,269.13012334830586,204.54031448479583,261.1100046811199,22479509,3033398,253.03,2.4570109605151963E-2,3.1932990875073716E-2]
["Vestfold",254968,null,806,null,{"$f":"IF(D35=0,0,B35/D35)","v":316.3374689826303},{"$f":"IF(E35=0,0,C35/E35)","v":0},{"$f":"IF(D35+E35=0,0,(B35+C35)/(D35+E35))","v":316.3374689826303},null,null,null,0,0]
["Oslo*",5854138,null,20013,null,292.51676410333283,0,292.51676410333283,2619437,null,288.83,1.2348840609642453,1.2764477731997537E-2]
["Landet i alt",{"$f":"SUM(B26:B36)","v":34145690.230000004},{"$f":"SUM(C26:C36)","v":2519901},{"$f":"SUM(D26:D36)","v":126485.82},{"$f":"SUM(E26:E36)","v":12341.86},{"$f":"IF(D37=0,0,B37/D37)","v":269.95666573533697},{"$f":"IF(E37=0,0,C37/E37)","v":204.17514053797402},{"$f":"IF(D37+E37=0,0,(B37+C37)/(D37+E37))","v":264.10865059475174},{"$f":"SUM(I26:I36)","v":30576124},{"$f":"SUM(J26:J36)","v":3305439},250.97,0.11674358169138783,5.2351478641876469E-2]
["* inklusive Buskerud"]
[]
[{"$f":"\"MÅLESTATISTIKK FOR MALERE - GJENNOMSNITT HELE ÅRET  \"&FORS!$A$14","v":"MÅLESTATISTIKK FOR MALERE - GJENNOMSNITT HELE ÅRET  2016"}]
[]
[null,"Målesum i kroner",null,"Timer",null,{"$f":"\"Fortjeneste hele  \"&FORS!$A$14-0","v":"Fortjeneste hele  2016"},null,null,{"$f":"\" Hele året  \"&FORS!$A$14-1","v":" Hele året  2015"},null,null,"Endringer i %"]
[null,"Innmålt m/","Innmålt m/","Innmålt m/","Innmålt m/","Innmålt m/","Innmålt m/","Gjennom-","Innmålt m/","Innmålt m/","Gjen.snitt","Innmålt m/","Gjen.snitt"]
[null,"overskudd","underskudd","overskudd","underskudd","overskudd","underskudd","snitt","overskudd","underskudd","fortjeneste","overskudd","fortjeneste"]
["Agder",null,null,null,null,{"$f":"IF(D45=0,0,B45/D45)","v":0},{"$f":"IF(E45=0,0,C45/E45)","v":0},{"$f":"IF(D45+E45=0,0,(B45+C45)/(D45+E45))","v":0},{"$f":"I7+I26","v":0},{"$f":"J7+J26","v":0},0,{"$f":"IF(I45=0,0,(B45-I45)/I45)","v":0},{"$f":"IF(K45=0,0,(H45-K45)/K45)","v":0}]
["Bergen",{"$f":"B8+B27","v":5448378.9299999997},null,{"$f":"D8+D27","v":23679.27},null,{"$f":"IF(D46=0,0,B46/D46)","v":230.09066284560291},{"$f":"IF(E46=0,0,C46/E46)","v":0},{"$f":"IF(D46+E46=0,0,(B46+C46)/(D46+E46))","v":230.09066284560291},{"$f":"I8+I27","v":5018737},0,229,{"$f":"IF(I46=0,0,(B46-I46)/I46)","v":8.560758015413035E-2},{"$f":"IF(K46=0,0,(H46-K46)/K46)","v":4.7627198497943533E-3}]
[null,null,null,null,null,0,0,0,0,0,0,0,0]
["Hamar og Omegn",{"$f":"B10+B29","v":2727442},{"$f":"C10+C29","v":268998},{"$f":"D10+D29","v":10414},{"$f":"E10+E29","v":1647},261.90147877856731,163.32604735883424,248.44042782522178,3515488,584605,227,-0.22416404209031576,9.4451223899655393E-2]
["Nordland",null,null,null,null,0,0,0,0,0,0,0,0]
["Sandnes",null,null,null,null,0,0,0,0,0,0,0,0]
["Telemark",{"$f":"B13+B32","v":552699.4},null,{"$f":"D13+D32","v":1755},null,314.92843304843308,0,314.92843304843308,449727,0,295,0.22896646187576022,6.7554010333671449E-2]
[null,null,null,null,null,0,0,0,0,0,0,0,0]
["Trondheim",{"$f":"B15+B34","v":39390730},{"$f":"C15+C34","v":3968504},{"$f":"D15+D34","v":147810.79},{"$f":"E15+E34","v":19807.010000000002},266.49427961246943,200.35855992398649,258.67917369157686,36424087,3608558,253,8.1447285144031198E-2,2.2447326844177329E-2]
["Vestfold",{"$f":"B16+B35","v":734031},null,{"$f":"D16+D35","v":2210},null,332.14072398190046,0,332.14072398190046,552798,0,334,0.32784669987952197,-5.5666946649686692E-3]
["Oslo",{"$f":"B17+B36","v":8546624.0899999999},null,{"$f":"D17+D36","v":29379.5},null,{"$f":"IF(D55=0,0,B55/D55)","v":290.90434112221106},0,290.90434112221106,4811863,0,279,0.77615698742877759,4.2667889326921379E-2]
["Landet i alt",{"$f":"SUM(B45:B55)","v":57399905.420000002},{"$f":"SUM(C45:C55)","v":4237502},{"$f":"SUM(D45:D55)","v":215248.56},{"$f":"SUM(E45:E55)","v":21454.010000000002},{"$f":"IF(D56=0,0,B56/D56)","v":266.66801125173612},{"$f":"IF(E56=0,0,C56/E56)","v":197.51561596177123},{"$f":"IF(D56+E56=0,0,(B56+C56)/(D56+E56))","v":260.40024584439453},50772700,4193163,251,0.13052694499209225,3.7451178662926424E-2]

{"sheet":"RØRLEGGERE","index":5,"n_rows":41,"n_cols":13,"rows_kept":41,"cut":false,"hidden":false,"merged":[]}
[]
[{"$f":"\"MÅLESTATISTIKK FOR RØRLEGGERE - 1. HALVÅR \"&FORS!$A$14","v":"MÅLESTATISTIKK FOR RØRLEGGERE - 1. HALVÅR 2016"}]
[]
[null,"Målesum i kroner",null,"Timer",null,{"$f":"\"Fortjeneste 1. halvår  \"&FORS!$A$14-0","v":"Fortjeneste 1. halvår  2016"},null,null,{"$f":"\" 1. halvår  \"&FORS!$A$14-1","v":" 1. halvår  2015"},null,null,"Endringer i %"]
[null,"Innmålt m/","Innmålt m/","Innmålt m/","Innmålt m/","Innmålt m/","Innmålt m/","Gjennom-","Innmålt m/","Innmålt m/","Gjen.snitt","Innmålt m/","Gjen.snitt"]
[null,"overskudd","underskudd","overskudd","underskudd","overskudd","underskudd","snitt","overskudd","underskudd","fortjeneste","overskudd","fortjeneste"]
["Bergen",null,null,null,null,{"$f":"IF(D7=0,0,B7/D7)","v":0},0,{"$f":"IF(D7+E7=0,0,(B7+C7)/(D7+E7))","v":0},null,null,0,{"$f":"IF(I7=0,0,(B7-I7)/I7)","v":0},{"$f":"IF(K7=0,0,(H7-K7)/K7)","v":0}]
["Nordland",2541354,1693791,10750,8251,236.40502325581394,205.2831171979154,222.89063733487711,null,null,0,{"$f":"IF(I8=0,0,(B8-I8)/I8)","v":0},{"$f":"IF(K8=0,0,(H8-K8)/K8)","v":0}]
["Stavanger",null,null,null,null,0,0,0,null,null,0,0,0]
["Tromsø",null,null,null,null,0,0,0,null,null,0,0,0]
["Trondheim",6449409.5099999998,1587715.82,21112.14632,9704.2942500000008,305.48336546390516,163.60961231158052,260.80641311392054,12502745,1684944,246.93,-0.48416051755034595,5.6195736094927853E-2]
["Oslo",17445059,949206,66227.5,5076.5,263.41110565852551,186.98039988180832,257.96960899809267,null,null,null,0,0]
["Landet i alt",{"$f":"SUM(B7:B12)","v":26435822.509999998},{"$f":"SUM(C7:C12)","v":4230712.82},{"$f":"SUM(D7:D12)","v":98089.64632},{"$f":"SUM(E7:E12)","v":23031.794249999999},269.50675735701844,183.6901100312669,253.18833053572223,{"$f":"SUM(I7:I12)","v":12502745},1684944,246.93,{"$f":"IF(I13=0,0,(B13-I13)/I13)","v":1.1144014782353793},{"$f":"IF(K13=0,0,(H13-K13)/K13)","v":2.534455325688342E-2}]
[]
[]
[{"$f":"\"MÅLESTATISTIKK FOR RØRLEGGERE - 2. HALVÅR \"&FORS!$A$14","v":"MÅLESTATISTIKK FOR RØRLEGGERE - 2. HALVÅR 2016"}]
[]
[null,"Målesum i kroner",null,"Timer",null,{"$f":"\"Fortjeneste 2. halvår  \"&FORS!$A$14-0","v":"Fortjeneste 2. halvår  2016"},null,null,{"$f":"\" 2. halvår  \"&FORS!$A$14-1","v":" 2. halvår  2015"},null,null,"Endringer i %"]
[null,"Innmålt m/","Innmålt m/","Innmålt m/","Innmålt m/","Innmålt m/","Innmålt m/","Gjennom-","Innmålt m/","Innmålt m/","Gjen.snitt","Innmålt m/","Gjen.snitt"]
[null,"overskudd","underskudd","overskudd","underskudd","overskudd","underskudd","snitt","overskudd","underskudd","fortjeneste","overskudd","fortjeneste"]
["Bergen",null,null,null,null,{"$f":"IF(D21=0,0,B21/D21)","v":0},0,{"$f":"IF(D21+E21=0,0,(B21+C21)/(D21+E21))","v":0},null,null,null,{"$f":"IF(I21=0,0,(B21-I21)/I21)","v":0},{"$f":"IF(K21=0,0,(H21-K21)/K21)","v":0}]
["Nordland",845073,null,3016,null,{"$f":"IF(D22=0,0,B22/D22)","v":280.19661803713529},{"$f":"IF(E22=0,0,C22/E22)","v":0},{"$f":"IF(D22+E22=0,0,(B22+C22)/(D22+E22))","v":280.19661803713529},null,null,null,{"$f":"IF(I22=0,0,(B22-I22)/I22)","v":0},{"$f":"IF(K22=0,0,(H22-K22)/K22)","v":0}]
["Stavanger",null,null,null,null,0,0,0,null,null,0,0,0]
["Tromsø",null,null,null,null,0,0,0,null,null,0,0,0]
["Trondheim",17846326.469999999,4299735.16,61892.14,23764.7,288.34560365823512,180.92949458650855,258.54399520225121,13370611,2437110,234.93,0.3347427780226348,0.10051502661325162]
["Oslo",21060290,4133316,72867.5,22998,289.02171750094351,179.72501956691886,262.80159181353042,21881534,4353473,248.75,-3.7531372343456361E-2,5.6488811310675062E-2]
["Landet i alt",{"$f":"SUM(B21:B26)","v":39751689.469999999},{"$f":"SUM(C21:C26)","v":8433051.1600000001},{"$f":"SUM(D21:D26)","v":137775.64000000001},{"$f":"SUM(E21:E26)","v":46762.7},288.52480358646852,180.33713108952222,261.109645995515,{"$f":"SUM(I25:I26)","v":35252145},6790583,243.37,0.12763888466928747,7.2891671099621941E-2]
[]
[]
[{"$f":"\"MÅLESTATISTIKK FOR RØRLEGGERE - GJENNOMSNITT HELE ÅRET  \"&FORS!$A$14","v":"MÅLESTATISTIKK FOR RØRLEGGERE - GJENNOMSNITT HELE ÅRET  2016"}]
[]
[null,"Målesum i kroner",null,"Timer",null,{"$f":"\"Fortjeneste hele  \"&FORS!$A$14-0","v":"Fortjeneste hele  2016"},null,null,{"$f":"\" Hele året  \"&FORS!$A$14-1","v":" Hele året  2015"},null,null,"Endringer i %"]
[null,"Innmålt m/","Innmålt m/","Innmålt m/","Innmålt m/","Innmålt m/","Innmålt m/","Gjennom-","Innmålt m/","Innmålt m/","Gjen.snitt","Innmålt m/","Gjen.snitt"]
[null,"overskudd","underskudd","overskudd","underskudd","overskudd","underskudd","snitt","overskudd","underskudd","fortjeneste","overskudd","fortjeneste"]
["Bergen",null,null,null,null,{"$f":"IF(D35=0,0,B35/D35)","v":0},0,{"$f":"IF(D35+E35=0,0,(B35+C35)/(D35+E35))","v":0},{"$f":"I7+I21","v":0},{"$f":"J7+J21","v":0},null,{"$f":"IF(I35=0,0,(B35-I35)/I35)","v":0},{"$f":"IF(K35=0,0,(H35-K35)/K35)","v":0}]
["Nordland",{"$f":"B8+B22","v":3386427},{"$f":"C8+C22","v":1693791},{"$f":"D8+D22","v":13766},{"$f":"E8+E22","v":8251},{"$f":"IF(D36=0,0,B36/D36)","v":245.9993462153131},{"$f":"IF(E36=0,0,C36/E36)","v":205.2831171979154},{"$f":"IF(D36+E36=0,0,(B36+C36)/(D36+E36))","v":230.74070036789755},{"$f":"I8+I22","v":0},0,null,{"$f":"IF(I36=0,0,(B36-I36)/I36)","v":0},{"$f":"IF(K36=0,0,(H36-K36)/K36)","v":0}]
["Stavanger",null,null,null,null,0,0,0,0,0,0,0,0]
["Tromsø",null,null,null,null,0,0,0,0,0,0,0,0]
["Trondheim",{"$f":"B11+B25","v":24295735.979999997},5887450.9800000004,83004.286319999999,33468.994250000003,292.70459463183056,175.90761574796949,259.1425845677972,25873356,4122054,240.46,-6.09746961314181E-2,7.769518659152122E-2]
["Oslo",38505349,5082522,139095,28074.5,276.82770049246915,181.03695524408272,260.74057169519557,21881534,4353473,248.75,0.75971890270581577,4.8203303297268622E-2]
["Landet i alt",{"$f":"SUM(B35:B40)","v":66187511.979999997},{"$f":"SUM(C35:C40)","v":12663763.98},{"$f":"SUM(D35:D40)","v":235865.28632000001},{"$f":"SUM(E35:E40)","v":69794.494250000003},280.61574050453083,181.44359545953728,257.9707274962924,47754890,8475527,244.25,0.38598396897155446,5.6174933454625986E-2]

{"sheet":"TAKTEKKERE","index":6,"n_rows":56,"n_cols":13,"rows_kept":56,"cut":false,"hidden":false,"merged":[]}
[]
[{"$f":"\"MÅLESTATISTIKK FOR TAKTEKKERE - 1. HALVÅR \"&FORS!$A$14","v":"MÅLESTATISTIKK FOR TAKTEKKERE - 1. HALVÅR 2016"}]
[]
[null,"Målesum i kroner",null,"Timer",null,{"$f":"\"Fortjeneste 1. halvår  \"&FORS!$A$14-0","v":"Fortjeneste 1. halvår  2016"},null,null,{"$f":"\" 1. halvår  \"&FORS!$A$14-1","v":" 1. halvår  2015"},null,null,"Endringer i %"]
[null,"Innmålt m/","Innmålt m/","Innmålt m/","Innmålt m/","Innmålt m/","Innmålt m/","Gjennom-","Innmålt m/","Innmålt m/","Gjen.snitt","Innmålt m/","Gjen.snitt"]
[null,"overskudd","underskudd","overskudd","underskudd","overskudd","underskudd","snitt","overskudd","underskudd","fortjeneste","overskudd","fortjeneste"]
["Agder",10621,77406,35.5,427,{"$f":"IF(D7=0,0,B7/D7)","v":299.18309859154931},{"$f":"IF(E7=0,0,C7/E7)","v":181.27868852459017},{"$f":"IF(D7+E7=0,0,(B7+C7)/(D7+E7))","v":190.32864864864865},360266,null,321.08999999999997,{"$f":"IF(I7=0,0,(B7-I7)/I7)","v":-0.97051900540156444},{"$f":"IF(K7=0,0,(H7-K7)/K7)","v":-0.40724205472406905}]
["Haugesund",null,null,null,null,{"$f":"IF(D8=0,0,B8/D8)","v":0},{"$f":"IF(E8=0,0,C8/E8)","v":0},{"$f":"IF(D8+E8=0,0,(B8+C8)/(D8+E8))","v":0},null,null,0,{"$f":"IF(I8=0,0,(B8-I8)/I8)","v":0},{"$f":"IF(K8=0,0,(H8-K8)/K8)","v":0}]
["Glåmdal",null,null,null,null,0,0,0,null,null,0,0,0]
["Hamar og Omegn",1282968,null,3912,null,327.95705521472394,0,327.95705521472394,856720,123643,268.81,0.49753478382668781,0.22003294228162618]
["Bergen",86712.66,null,299.89999999999998,null,289.13857952650886,0,289.13857952650886,689244,null,308.83999999999997,-0.87419163605341499,-6.3791673596331797E-2]
["Nordland",null,null,null,null,{"$f":"IF(D12=0,0,B12/D12)","v":0},{"$f":"IF(E12=0,0,C12/E12)","v":0},{"$f":"IF(D12+E12=0,0,(B12+C12)/(D12+E12))","v":0},null,null,null,{"$f":"IF(I12=0,0,(B12-I12)/I12)","v":0},{"$f":"IF(K12=0,0,(H12-K12)/K12)","v":0}]
["Stavanger",3966062,95510,12372,559,{"$f":"IF(D13=0,0,B13/D13)","v":320.56757193663111},170.85867620751341,314.09573892197045,5278154,204969,265.58,-0.24858918477937553,0.1826784355823875]
["Telemark",1266123.93,null,3779,null,335.04205609949719,0,335.04205609949719,1034676,null,351.66,0.22369121348132162,-4.7255712621574353E-2]
["Trondheim",3737182,508376,12649,3157,295.45276306427388,161.03135888501743,268.60420093635327,4620371,590487,297.42,-0.19115110020385809,-9.6885882131822837E-2]
["Vestfold",null,null,null,null,{"$f":"IF(D16=0,0,B16/D16)","v":0},{"$f":"IF(E16=0,0,C16/E16)","v":0},{"$f":"IF(D16+E16=0,0,(B16+C16)/(D16+E16))","v":0},169042,null,248.66,-1,-1]
["Oslo",3403810.68,467725.22,10648.5,2656.5,319.6516579799972,176.06821757952193,290.98353250657652,4792814,288977,319.58,-0.28980956072987596,-8.9481405261353841E-2]
["Landet i alt",{"$f":"SUM(B7:B17)","v":13753480.27},{"$f":"SUM(C7:C17)","v":1149017.22},{"$f":"SUM(D7:D17)","v":43695.9},{"$f":"SUM(E7:E17)","v":6799.5},{"$f":"IF(D18=0,0,B18/D18)","v":314.75447971091108},{"$f":"IF(E18=0,0,C18/E18)","v":168.98554599602912},{"$f":"IF(D18+E18=0,0,(B18+C18)/(D18+E18))","v":295.1258429480705},{"$f":"SUM(I7:I17)","v":17801287},{"$f":"SUM(J7:J17)","v":1208076},293.85000000000002,-0.22738843152183325,4.3418170769796705E-3]
[]
[]
[{"$f":"\"MÅLESTATISTIKK FOR  TAKTEKKERE  - 2. HALVÅR \"&FORS!$A$14","v":"MÅLESTATISTIKK FOR  TAKTEKKERE  - 2. HALVÅR 2016"}]
[]
[null,"Målesum i kroner",null,"Timer",null,{"$f":"\"Fortjeneste 2. halvår  \"&FORS!$A$14-0","v":"Fortjeneste 2. halvår  2016"},null,null,{"$f":"\" 2. halvår  \"&FORS!$A$14-1","v":" 2. halvår  2015"},null,null,"Endringer i %"]
[null,"Innmålt m/","Innmålt m/","Innmålt m/","Innmålt m/","Innmålt m/","Innmålt m/","Gjennom-","Innmålt m/","Innmålt m/","Gjen.snitt","Innmålt m/","Gjen.snitt"]
[null,"overskudd","underskudd","overskudd","underskudd","overskudd","underskudd","snitt","overskudd","underskudd","fortjeneste","overskudd","fortjeneste"]
["Agder",163682,null,595,null,{"$f":"IF(D26=0,0,B26/D26)","v":275.09579831932774},{"$f":"IF(E26=0,0,C26/E26)","v":0},{"$f":"IF(D26+E26=0,0,(B26+C26)/(D26+E26))","v":275.09579831932774},201527,null,348.06,{"$f":"IF(I26=0,0,(B26-I26)/I26)","v":-0.18779121408049543},{"$f":"IF(K26=0,0,(H26-K26)/K26)","v":-0.20963110291522227}]
["Haugesund",null,null,null,null,{"$f":"IF(D27=0,0,B27/D27)","v":0},{"$f":"IF(E27=0,0,C27/E27)","v":0},{"$f":"IF(D27+E27=0,0,(B27+C27)/(D27+E27))","v":0},null,null,0,{"$f":"IF(I27=0,0,(B27-I27)/I27)","v":0},{"$f":"IF(K27=0,0,(H27-K27)/K27)","v":0}]
["Glåmdal",null,null,null,null,0,0,0,null,null,0,0,0]
["Hamar og Omegn",1250367,null,3801,null,328.95737963693767,0,328.95737963693767,1264367,113701,306.51,-1.1072734419674034E-2,7.3235390809231943E-2]
["Bergen",null,null,null,null,{"$f":"IF(D30=0,0,B30/D30)","v":0},{"$f":"IF(E30=0,0,C30/E30)","v":0},{"$f":"IF(D30+E30=0,0,(B30+C30)/(D30+E30))","v":0},60049,null,341.19,-1,-1]
["Nordland",null,null,null,null,{"$f":"IF(D31=0,0,B31/D31)","v":0},{"$f":"IF(E31=0,0,C31/E31)","v":0},{"$f":"IF(D31+E31=0,0,(B31+C31)/(D31+E31))","v":0},null,null,0,0,0]
["Stavanger",3372888,130812,10946,677,308.13886351178513,193.22304283604137,301.44540996300441,4611715,262724,322.26,-0.26862609679913002,-6.4589431009109369E-2]
["Telemark",1528157.86,null,4523.7,null,337.8114950151425,0,337.8114950151425,915167,null,336.9,0.6698131160760824,2.7055358122366297E-3]
["Trondheim",3900995,742859,12285,4665,{"$f":"IF(D34=0,0,B34/D34)","v":317.54131054131057},159.24094319399785,{"$f":"IF(D34+E34=0,0,(B34+C34)/(D34+E34))","v":273.97368731563421},5479666,375200,308.08999999999997,-0.28809620878352804,-0.11073489137708387]
["Vestfold",null,null,null,null,{"$f":"IF(D35=0,0,B35/D35)","v":0},0,{"$f":"IF(D35+E35=0,0,(B35+C35)/(D35+E35))","v":0},null,null,null,0,0]
["Oslo",2797589.4,300961.09000000003,8295.7000000000007,1685.5,{"$f":"IF(D36=0,0,B36/D36)","v":337.2336752775534},178.55893800059332,310.4386737065683,3681003.65,570504.05000000005,265.83,-0.23999276664667257,0.1678090272225419]
["Landet i alt",{"$f":"SUM(B26:B36)","v":13013679.26},{"$f":"SUM(C26:C36)","v":1174632.0900000001},{"$f":"SUM(D26:D36)","v":40446.400000000001},{"$f":"SUM(E26:E36)","v":7027.5},{"$f":"IF(D37=0,0,B37/D37)","v":321.75123768740849},{"$f":"IF(E37=0,0,C37/E37)","v":167.14793169690503},{"$f":"IF(D37+E37=0,0,(B37+C37)/(D37+E37))","v":298.86551031198195},{"$f":"SUM(I26:I36)","v":16213494.65},{"$f":"SUM(J26:J36)","v":1322129.05},301.87,-0.19735507113514239,-9.95292572305315E-3]
[]
[]
[{"$f":"\"MÅLESTATISTIKK FOR  TAKTEKKERE  - GJENNOMSNITT HELE ÅRET  \"&FORS!$A$14","v":"MÅLESTATISTIKK FOR  TAKTEKKERE  - GJENNOMSNITT HELE ÅRET  2016"}]
[]
[null,"Målesum i kroner",null,"Timer",null,{"$f":"\"Fortjeneste hele  \"&FORS!$A$14-0","v":"Fortjeneste hele  2016"},null,null,{"$f":"\" Hele året  \"&FORS!$A$14-1","v":" Hele året  2015"},null,null,"Endringer i %"]
[null,"Innmålt m/","Innmålt m/","Innmålt m/","Innmålt m/","Innmålt m/","Innmålt m/","Gjennom-","Innmålt m/","Innmålt m/","Gjen.snitt","Innmålt m/","Gjen.snitt"]
[null,"overskudd","underskudd","overskudd","underskudd","overskudd","underskudd","snitt","overskudd","underskudd","fortjeneste","overskudd","fortjeneste"]
["Agder",{"$f":"B7+B26","v":174303},{"$f":"C7+C26","v":77406},{"$f":"D7+D26","v":630.5},{"$f":"E7+E26","v":427},{"$f":"IF(D45=0,0,B45/D45)","v":276.45202220459953},{"$f":"IF(E45=0,0,C45/E45)","v":181.27868852459017},{"$f":"IF(D45+E45=0,0,(B45+C45)/(D45+E45))","v":238.022695035461},{"$f":"I7+I26","v":561793},{"$f":"J7+J26","v":0},330,{"$f":"IF(I45=0,0,(B45-I45)/I45)","v":-0.68973803518377763},{"$f":"IF(K45=0,0,(H45-K45)/K45)","v":-0.27871910595314847}]
["Haugesund",null,null,null,null,{"$f":"IF(D46=0,0,B46/D46)","v":0},{"$f":"IF(E46=0,0,C46/E46)","v":0},{"$f":"IF(D46+E46=0,0,(B46+C46)/(D46+E46))","v":0},{"$f":"I8+I27","v":0},0,0,{"$f":"IF(I46=0,0,(B46-I46)/I46)","v":0},{"$f":"IF(K46=0,0,(H46-K46)/K46)","v":0}]
["Glåmdal",null,null,null,null,0,0,0,0,0,0,0,0]
["Hamar og Omegn",{"$f":"B10+B29","v":2533335},null,{"$f":"D10+D29","v":7713},null,328.45001944768575,0,328.45001944768575,2121087,237344,290,0.19435694999780773,0.13258627395753705]
["Bergen",null,null,null,null,0,0,0,749293,0,311,-1,-1]
["Nordland",null,null,null,null,{"$f":"IF(D50=0,0,B50/D50)","v":0},{"$f":"IF(E50=0,0,C50/E50)","v":0},{"$f":"IF(D50+E50=0,0,(B50+C50)/(D50+E50))","v":0},0,0,null,0,0]
["Stavanger",{"$f":"B13+B32","v":7338950},{"$f":"C13+C32","v":226322},{"$f":"D13+D32","v":23318},{"$f":"E13+E32","v":1236},314.73325328072735,183.10841423948219,308.10751812332001,9889869,467693,290,-0.25793253682126627,6.2439717666620709E-2]
["Telemark",{"$f":"B14+B33","v":2794281.79},null,{"$f":"D14+D33","v":8302.7000000000007},null,336.55097618846878,0,336.55097618846878,1949843,0,345,0.43308040185799579,-2.4489924091394839E-2]
["Trondheim",{"$f":"B15+B34","v":7638177},{"$f":"C15+C34","v":1251235},{"$f":"D15+D34","v":24934},{"$f":"E15+E34","v":7822},306.33580652923717,159.96356430580414,271.38270851141777,10100037,965687,303,-0.24374762191465238,-0.10434749666198755]
["Vestfold",null,null,null,null,{"$f":"IF(D54=0,0,B54/D54)","v":0},{"$f":"IF(E54=0,0,C54/E54)","v":0},{"$f":"IF(D54+E54=0,0,(B54+C54)/(D54+E54))","v":0},169042,0,249,-1,-1]
["Oslo",{"$f":"B17+B36","v":6201400.0800000001},{"$f":"C17+C36","v":768686.31},{"$f":"D17+D36","v":18944.2},{"$f":"E17+E36","v":4342},{"$f":"IF(D55=0,0,B55/D55)","v":327.35085567086497},177.03507830492862,299.32261983492373,8473817.6500000004,859481.05,293,-0.26816927904980353,2.1578907286429104E-2]
["Landet i alt",{"$f":"SUM(B45:B55)","v":26680446.869999997},{"$f":"SUM(C45:C55)","v":2323649.31},{"$f":"SUM(D45:D55)","v":83842.399999999994},{"$f":"SUM(E45:E55)","v":13827},{"$f":"IF(D56=0,0,B56/D56)","v":318.22141148154157},{"$f":"IF(E56=0,0,C56/E56)","v":168.05158819700586},{"$f":"IF(D56+E56=0,0,(B56+C56)/(D56+E56))","v":296.96195717389475},34014781.649999999,{"$f":"J18+J37","v":2530205.0499999998},298,-0.21562198621374956,-3.4833651882726657E-3]

{"sheet":"MURERE","index":7,"n_rows":59,"n_cols":13,"rows_kept":59,"cut":false,"hidden":false,"merged":[]}
[]
[{"$f":"\"MÅLESTATISTIKK FOR MURERE - 1. HALVÅR \"&FORS!$A$14","v":"MÅLESTATISTIKK FOR MURERE - 1. HALVÅR 2016"}]
[]
[null,"Målesum i kroner",null,"Timer",null,{"$f":"\"Fortjeneste 1. halvår  \"&FORS!$A$14-0","v":"Fortjeneste 1. halvår  2016"},null,null,{"$f":"\" 1. halvår  \"&FORS!$A$14-1","v":" 1. halvår  2015"},null,null,"Endringer i %"]
[null,"Innmålt m/","Innmålt m/","Innmålt m/","Innmålt m/","Innmålt m/","Innmålt m/","Gjennom-","Innmålt m/","Innmålt m/","Gjen.snitt","Innmålt m/","Gjen.snitt"]
[null,"overskudd","underskudd","overskudd","underskudd","overskudd","underskudd","snitt","overskudd","underskudd","fortjeneste","overskudd","fortjeneste"]
["Agder",null,null,null,null,{"$f":"IF(D7=0,0,B7/D7)","v":0},{"$f":"IF(E7=0,0,C7/E7)","v":0},{"$f":"IF(D7+E7=0,0,(B7+C7)/(D7+E7))","v":0},null,null,0,{"$f":"IF(I7=0,0,(B7-I7)/I7)","v":0},{"$f":"IF(K7=0,0,(H7-K7)/K7)","v":0}]
["Bergen",79198.12,null,335.35,null,{"$f":"IF(D8=0,0,B8/D8)","v":236.16555837185027},{"$f":"IF(E8=0,0,C8/E8)","v":0},{"$f":"IF(D8+E8=0,0,(B8+C8)/(D8+E8))","v":236.16555837185027},930717,null,260.02999999999997,{"$f":"IF(I8=0,0,(B8-I8)/I8)","v":-0.91490633565305024},{"$f":"IF(K8=0,0,(H8-K8)/K8)","v":-9.1775724447754906E-2}]
["Glåmdal",null,null,null,null,0,0,0,null,null,0,0,0]
["Hamar og Omegn",96166.71,null,226.9,null,423.82860290877039,0,{"$f":"IF(D10+E10=0,0,(B10+C10)/(D10+E10))","v":423.82860290877039},107726,null,397.66,-0.10730269387148872,6.5806475151562557E-2]
["Nordland",null,null,null,null,0,0,0,null,null,0,0,0]
["Stavanger",462776,null,1492.5,null,{"$f":"IF(D12=0,0,B12/D12)","v":310.06767169179227},0,310.06767169179227,585212,null,303.61,-0.20921648906720983,2.1269627784961814E-2]
["Tromsø",null,null,null,null,0,null,0,null,null,0,0,0]
["Telemark",null,null,null,null,0,0,0,null,null,0,0,0]
["Trondheim",2921217,659594,10213,2917,{"$f":"IF(D15=0,0,B15/D15)","v":286.02927641241553},{"$f":"IF(E15=0,0,C15/E15)","v":226.12067192320879},{"$f":"IF(D15+E15=0,0,(B15+C15)/(D15+E15))","v":272.71980198019804},2536550,222947,253.96,0.15164968165421538,7.3869121043463673E-2]
["Vestfold",null,null,null,null,0,0,0,null,null,0,0,0]
["Oslo",10951895,2009263,40238,9929,272.17791639743524,202.36307785275457,258.36023680905777,7683995,null,282.76,0.4252865859491059,-8.6291424497603006E-2]
["Østfold",2523252.7000000002,null,7508.5,null,336.05283345541721,0,336.05283345541721,2355972,null,274.73,7.100283874341469E-2,0.22321127454379644]
["Landet i alt",{"$f":"SUM(B7:B18)","v":17034505.530000001},{"$f":"SUM(C7:C18)","v":2668857},{"$f":"SUM(D7:D18)","v":60014.25},{"$f":"SUM(E7:E18)","v":12846},{"$f":"IF(D19=0,0,B19/D19)","v":283.84101325935092},{"$f":"IF(E19=0,0,C19/E19)","v":207.7578234469874},{"$f":"IF(D19+E19=0,0,(B19+C19)/(D19+E19))","v":270.42677632865662},{"$f":"SUM(I8:I18)","v":14200172},{"$f":"SUM(J8:J18)","v":222947},275.27999999999997,{"$f":"IF(I19=0,0,(B19-I19)/I19)","v":0.19959853514450396},{"$f":"IF(K19=0,0,(H19-K19)/K19)","v":-1.7630135394301649E-2}]
[]
[]
[{"$f":"\"MÅLESTATISTIKK FOR MURERE - 2. HALVÅR \"&FORS!$A$14","v":"MÅLESTATISTIKK FOR MURERE - 2. HALVÅR 2016"}]
[]
[null,"Målesum i kroner",null,"Timer",null,{"$f":"\"Fortjeneste 2. halvår  \"&FORS!$A$14-0","v":"Fortjeneste 2. halvår  2016"},null,null,{"$f":"\" 2. halvår  \"&FORS!$A$14-1","v":" 2. halvår  2015"},null,null,"Endringer i %"]
[null,"Innmålt m/","Innmålt m/","Innmålt m/","Innmålt m/","Innmålt m/","Innmålt m/","Gjennom-","Innmålt m/","Innmålt m/","Gjen.snitt","Innmålt m/","Gjen.snitt"]
[null,"overskudd","underskudd","overskudd","underskudd","overskudd","underskudd","snitt","overskudd","underskudd","fortjeneste","overskudd","fortjeneste"]
["Agder",null,null,null,null,{"$f":"IF(D27=0,0,B27/D27)","v":0},{"$f":"IF(E27=0,0,C27/E27)","v":0},{"$f":"IF(D27+E27=0,0,(B27+C27)/(D27+E27))","v":0},null,null,0,{"$f":"IF(I27=0,0,(B27-I27)/I27)","v":0},{"$f":"IF(K27=0,0,(H27-K27)/K27)","v":0}]
["Bergen",null,null,null,null,0,{"$f":"IF(E28=0,0,C28/E28)","v":0},{"$f":"IF(D28+E28=0,0,(B28+C28)/(D28+E28))","v":0},null,null,0,{"$f":"IF(I28=0,0,(B28-I28)/I28)","v":0},{"$f":"IF(K28=0,0,(H28-K28)/K28)","v":0}]
["Glåmdal",null,null,null,null,0,0,0,null,null,0,0,0]
["Hamar og Omegn",null,null,null,null,0,0,0,96909,null,357.73,-1,-1]
["Nordland",null,null,null,null,0,0,0,null,null,0,0,0]
["Stavanger",566693,null,1718,null,329.85622817229336,0,329.85622817229336,961889,null,319.14,-0.41085405904423483,3.3578455136596387E-2]
["Tromsø",null,null,null,null,0,null,null,null,null,null,0,0]
["Telemark",null,null,null,null,0,0,0,null,null,0,0,0]
["Trondheim",6157046,560080,23189,3282,265.51580490749927,{"$f":"IF(E35=0,0,C35/E35)","v":170.65204143814748},{"$f":"IF(D35+E35=0,0,(B35+C35)/(D35+E35))","v":253.75414604661705},1609931,null,274.73,2.8244160774592202,-7.6350795156637299E-2]
["Vestfold",null,null,null,null,0,0,0,null,null,0,0,0]
["Oslo",11959469,null,41401.5,null,288.86559665712593,0,288.86559665712593,10240692,null,281.82,0.1678379742306477,2.5000342974685761E-2]
["Østfold",705727.5,null,2157.5,null,{"$f":"IF(D38=0,0,B38/D38)","v":327.10428736964082},0,327.10428736964082,3266750,null,303.23,-0.78396648044692741,7.8733263099432099E-2]
["Landet i alt",null,null,null,null,{"$f":"IF(D39=0,0,B39/D39)","v":0},{"$f":"IF(E39=0,0,C39/E39)","v":0},{"$f":"IF(D39+E39=0,0,(B39+C39)/(D39+E39))","v":0},{"$f":"SUM(I27:I38)","v":16176171},0,287.55,-1,-1]
[]
[]
[{"$f":"\"MÅLESTATISTIKK FOR MURERE - GJENNOMSNITT HELE ÅRET  \"&FORS!$A$14","v":"MÅLESTATISTIKK FOR MURERE - GJENNOMSNITT HELE ÅRET  2016"}]
[]
[null,"Målesum i kroner",null,"Timer",null,{"$f":"\"Fortjeneste hele  \"&FORS!$A$14-0","v":"Fortjeneste hele  2016"},null,null,{"$f":"\" Hele året  \"&FORS!$A$14-1","v":" Hele året  2015"},null,null,"Endringer i %"]
[null,"Innmålt m/","Innmålt m/","Innmålt m/","Innmålt m/","Innmålt m/","Innmålt m/","Gjennom-","Innmålt m/","Innmålt m/","Gjen.snitt","Innmålt m/","Gjen.snitt"]
[null,"overskudd","underskudd","overskudd","underskudd","overskudd","underskudd","snitt","overskudd","underskudd","fortjeneste","overskudd","fortjeneste"]
["Agder",{"$f":"B7+B27","v":0},{"$f":"C7+C27","v":0},0,0,{"$f":"IF(D47=0,0,B47/D47)","v":0},{"$f":"IF(E47=0,0,C47/E47)","v":0},{"$f":"IF(D47+E47=0,0,(B47+C47)/(D47+E47))","v":0},0,0,0,{"$f":"IF(I47=0,0,(B47-I47)/I47)","v":0},{"$f":"IF(K47=0,0,(H47-K47)/K47)","v":0}]
["Bergen",{"$f":"B8+B28","v":79198.12},0,335.35,0,{"$f":"IF(D48=0,0,B48/D48)","v":236.16555837185027},{"$f":"IF(E48=0,0,C48/E48)","v":0},{"$f":"IF(D48+E48=0,0,(B48+C48)/(D48+E48))","v":236.16555837185027},930717,0,260.02999999999997,{"$f":"IF(I48=0,0,(B48-I48)/I48)","v":-0.91490633565305024},{"$f":"IF(K48=0,0,(H48-K48)/K48)","v":-9.1775724447754906E-2}]
["Glåmdal",0,0,0,0,0,0,0,0,0,0,0,0]
["Hamar og Omegn",96166.71,0,226.9,0,423.82860290877039,0,423.82860290877039,204635,0,377.69,-0.53005737044005174,0.12215998016566601]
["Nordland",0,0,0,0,0,0,0,0,0,0,0,0]
["Stavanger",1029469,0,3210.5,0,320.65690702382807,0,320.65690702382807,1547101,0,313.08,-0.33458190512448766,2.4201185076747428E-2]
["Tromsø",0,0,0,0,0,0,0,0,0,0,0,0]
["Telemark",0,0,0,0,0,0,0,0,0,0,0,0]
["Trondheim",9078263,1219674,33402,6199,271.78800670618529,{"$f":"IF(E55=0,0,C55/E55)","v":196.75334731408293},{"$f":"IF(D55+E55=0,0,(B55+C55)/(D55+E55))","v":260.04234741546929},4146481,222947,261.24,1.1893897500072954,-4.5844915959681329E-3]
["Vestfold",0,0,0,0,0,0,0,0,0,0,0,0]
["Oslo",22911364,2009263,81639.5,9929,280.6406702637816,202.36307785275457,272.15283640116417,17924687,0,282.22000000000003,0.27820162215384847,-3.5671332998497132E-2]
["Østfold",{"$f":"B18+B38","v":3228980.2},0,9666,0,334.05547279122698,0,334.05547279122698,5622722,0,290.60000000000002,-0.42572650755274755,0.14953707085762888]
["Landet i alt",{"$f":"SUM(B47:B58)","v":36423441.030000001},{"$f":"SUM(C47:C58)","v":3228937},{"$f":"SUM(D47:D58)","v":128480.25},{"$f":"SUM(E47:E58)","v":16128},{"$f":"IF(D59=0,0,B59/D59)","v":283.49447506523376},{"$f":"IF(E59=0,0,C59/E59)","v":200.20690724206349},{"$f":"IF(D59+E59=0,0,(B59+C59)/(D59+E59))","v":274.2055036970574},{"$f":"SUM(I48:I58)","v":30376343},{"$f":"SUM(J47:J58)","v":222947},281.63,0.1990726148305608,-2.636259028847282E-2]

{"sheet":"BLIKK OG VENTILASJON","index":8,"n_rows":32,"n_cols":13,"rows_kept":32,"cut":false,"hidden":false,"merged":[]}
[]
[{"$f":"\"MÅLESTATISTIKK FOR BLIKK- OG VENTILASJONSARBEID - 1. HALVÅR \"&FORS!$A$14","v":"MÅLESTATISTIKK FOR BLIKK- OG VENTILASJONSARBEID - 1. HALVÅR 2016"}]
[]
[null,"Målesum i kroner",null,"Timer",null,{"$f":"\"Fortjeneste 1. halvår  \"&FORS!$A$14-0","v":"Fortjeneste 1. halvår  2016"},null,null,{"$f":"\" 1. halvår  \"&FORS!$A$14-1","v":" 1. halvår  2015"},null,null,"Endringer i %"]
[null,"Innmålt m/","Innmålt m/","Innmålt m/","Innmålt m/","Innmålt m/","Innmålt m/","Gjennom-","Innmålt m/","Innmålt m/","Gjen.snitt","Innmålt m/","Gjen.snitt"]
[null,"overskudd","underskudd","overskudd","underskudd","overskudd","underskudd","snitt","overskudd","underskudd","fortjeneste","overskudd","fortjeneste"]
["Nordland",null,null,null,null,{"$f":"IF(D7=0,0,B7/D7)","v":0},0,{"$f":"IF(D7+E7=0,0,(B7+C7)/(D7+E7))","v":0},null,null,null,{"$f":"IF(I7=0,0,(B7-I7)/I7)","v":0},{"$f":"IF(K7=0,0,(H7-K7)/K7)","v":0}]
["Stavanger",null,null,null,null,null,0,{"$f":"IF(D8+E8=0,0,(B8+C8)/(D8+E8))","v":0},null,null,null,{"$f":"IF(I8=0,0,(B8-I8)/I8)","v":0},{"$f":"IF(K8=0,0,(H8-K8)/K8)","v":0}]
["Oslo",null,null,null,null,null,0,{"$f":"IF(D9+E9=0,0,(B9+C9)/(D9+E9))","v":0},null,null,null,0,0]
["Landet i alt",{"$f":"SUM(B7:B9)","v":0},{"$f":"SUM(C7:C9)","v":0},{"$f":"SUM(D7:D9)","v":0},{"$f":"SUM(E7:E9)","v":0},0,0,{"$f":"IF(D10+E10=0,0,(B10+C10)/(D10+E10))","v":0},null,null,null,0,0]
[null,null,null,null,null,null,null,null,null,null,null,0,0]
[null,null,null,null,null,null,null,null,null,null,null,0,0]
[{"$f":"\"MÅLESTATISTIKK FOR BLIKK- OG VENTILASJONSARBEID - 2. HALVÅR \"&FORS!$A$14","v":"MÅLESTATISTIKK FOR BLIKK- OG VENTILASJONSARBEID - 2. HALVÅR 2016"},null,null,null,null,null,null,null,null,null,null,0,0]
[]
[null,"Målesum i kroner",null,"Timer",null,{"$f":"\"Fortjeneste 2. halvår  \"&FORS!$A$14-0","v":"Fortjeneste 2. halvår  2016"},null,null,{"$f":"\" 2. halvår  \"&FORS!$A$14-1","v":" 2. halvår  2015"},null,null,"Endringer i %"]
[null,"Innmålt m/","Innmålt m/","Innmålt m/","Innmålt m/","Innmålt m/","Innmålt m/","Gjennom-","Innmålt m/","Innmålt m/","Gjen.snitt","Innmålt m/","Gjen.snitt"]
[null,"overskudd","underskudd","overskudd","underskudd","overskudd","underskudd","snitt","overskudd","underskudd","fortjeneste","overskudd","fortjeneste"]
["Nordland",null,null,null,null,{"$f":"IF(D18=0,0,B18/D18)","v":0},0,{"$f":"IF(D18+E18=0,0,(B18+C18)/(D18+E18))","v":0},null,null,null,{"$f":"IF(I18=0,0,(B18-I18)/I18)","v":0},{"$f":"IF(K18=0,0,(H18-K18)/K18)","v":0}]
["Stavanger",null,null,null,null,0,0,{"$f":"IF(D19+E19=0,0,(B19+C19)/(D19+E19))","v":0},null,null,null,{"$f":"IF(I19=0,0,(B19-I19)/I19)","v":0},{"$f":"IF(K19=0,0,(H19-K19)/K19)","v":0}]
["Oslo",null,null,null,null,0,0,{"$f":"IF(D20+E20=0,0,(B20+C20)/(D20+E20))","v":0},null,null,null,0,0]
["Landet i alt",{"$f":"SUM(B18:B20)","v":0},{"$f":"SUM(C18:C20)","v":0},{"$f":"SUM(D18:D20)","v":0},{"$f":"SUM(C18:C20)","v":0},0,0,{"$f":"IF(D21+E21=0,0,(B21+C21)/(D21+E21))","v":0},null,null,null,0,0]
[]
[]
[{"$f":"\"MÅLESTATISTIKK FOR BLIKK- OG VENTILASJONSARBEID - GJENNOMSNITT HELE ÅRET  \"&FORS!$A$14","v":"MÅLESTATISTIKK FOR BLIKK- OG VENTILASJONSARBEID - GJENNOMSNITT HELE ÅRET  2016"}]
[]
[null,"Målesum i kroner",null,"Timer",null,{"$f":"\"Fortjeneste hele  \"&FORS!$A$14-0","v":"Fortjeneste hele  2016"},null,null,{"$f":"\" Hele året  \"&FORS!$A$14-1","v":" Hele året  2015"},null,null,"Endringer i %"]
[null,"Innmålt m/","Innmålt m/","Innmålt m/","Innmålt m/","Innmålt m/","Innmålt m/","Gjennom-","Innmålt m/","Innmålt m/","Gjen.snitt","Innmålt m/","Gjen.snitt"]
[null,"overskudd","underskudd","overskudd","underskudd","overskudd","underskudd","snitt","overskudd","underskudd","fortjeneste","overskudd","fortjeneste"]
["Nordland",{"$f":"B7+B18","v":0},0,0,0,{"$f":"IF(D29=0,0,B29/D29)","v":0},0,{"$f":"IF(D29+E29=0,0,(B29+C29)/(D29+E29))","v":0},null,null,null,{"$f":"IF(I29=0,0,(B29-I29)/I29)","v":0},{"$f":"IF(K29=0,0,(H29-K29)/K29)","v":0}]
["Stavanger",0,0,0,0,0,0,{"$f":"IF(D30+E30=0,0,(B30+C30)/(D30+E30))","v":0},null,null,null,{"$f":"IF(I30=0,0,(B30-I30)/I30)","v":0},{"$f":"IF(K30=0,0,(H30-K30)/K30)","v":0}]
["Oslo",0,0,0,0,0,0,{"$f":"IF(D31+E31=0,0,(B31+C31)/(D31+E31))","v":0},null,null,null,0,0]
["Landet i alt",{"$f":"SUM(B29:B31)","v":0},{"$f":"SUM(C29:C31)","v":0},{"$f":"SUM(D29:D31)","v":0},{"$f":"SUM(E29:E31)","v":0},0,0,{"$f":"IF(D32+E32=0,0,(B32+C32)/(D32+E32))","v":0},null,null,null,0,0]

{"sheet":"ISOLATØR","index":9,"n_rows":9,"n_cols":13,"rows_kept":9,"cut":false,"hidden":false,"merged":[]}
[]
[{"$f":"\"MÅLESTATISTIKK FOR ISOLATØRER -  \"&FORS!$A$14","v":"MÅLESTATISTIKK FOR ISOLATØRER -  2016"}]
[]
[null,"Målesum i kroner",null,"Timer",null,{"$f":"\"Fortjeneste \"&FORS!$A$14-0","v":"Fortjeneste 2016"},null,null,{"$f":"FORS!$A$14-1","v":2015},null,null,"Endringer i %"]
[null,"Innmålt m/","Innmålt m/","Innmålt m/","Innmålt m/","Innmålt m/","Innmålt m/","Gjennom-","Innmålt m/","Innmålt m/","Gjen.snitt","Innmålt m/","Gjen.snitt"]
[null,"overskudd","underskudd","overskudd","underskudd","overskudd","underskudd","snitt","overskudd","underskudd","fortjeneste","overskudd","fortjeneste"]
["Landet i alt 1. halvår",0,null,null,null,{"$f":"IF(D7=0,0,B7/D7)","v":0},0,{"$f":"IF(D7+E7=0,0,(B7+C7)/(D7+E7))","v":0},0,0,0,{"$f":"IF(I7=0,0,(B7-I7)/I7)","v":0},{"$f":"IF(K7=0,0,(H7-K7)/K7)","v":0}]
["Landet i alt 2. halvår",null,null,null,null,{"$f":"IF(D8=0,0,B8/D8)","v":0},{"$f":"IF(E8=0,0,C8/E8)","v":0},{"$f":"IF(D8+E8=0,0,(B8+C8)/(D8+E8))","v":0},null,0,null,{"$f":"IF(I8=0,0,(B8-I8)/I8)","v":0},{"$f":"IF(K8=0,0,(H8-K8)/K8)","v":0}]
[{"$f":"\"Landet i alt \"&FORS!A14","v":"Landet i alt 2016"},{"$f":"SUM(B7:B8)","v":0},{"$f":"SUM(C7:C8)","v":0},{"$f":"SUM(D7:D8)","v":0},{"$f":"SUM(E7:E8)","v":0},0,0,{"$f":"IF(D9+E9=0,0,(B9+C9)/(D9+E9))","v":0},{"$f":"SUM(I7:I8)","v":0},{"$f":"SUM(J7:J8)","v":0},null,0,0]