{"text_format":"1","workbook":"xlsx","n_sheets":10,"sheets":["FORS","ÅRSTOT","BETONG","TØMRERE","MALERE","RØRLEGGERE","TAKTEKKERE","MURERE","BLIKK OG VENTILASJON","ISOLATØR"],"not_rendered":{"charts":0,"images":0,"macros":0,"external_links":0,"defined_names":0,"comments":0,"pivot_tables":0},"unopened":[],"bounds":{"document_bytes":16777216,"sheet_cells":100000,"rows_first":2000,"rows_last":500,"rows_between":2000,"halvings":0,"cell_chars":16384,"cell_head_chars":4096},"cells_cut":0,"cells_raw":0,"read":"whole","date_system":"1900"}

{"sheet":"FORS","index":0,"n_rows":15,"n_cols":9,"rows_kept":15,"cut":false,"hidden":false,"merged":[]}
[]
[]
[]
["STATISTIKK "]
[]
[]
["FOR "]
[]
[]
["MÅLEVIRKSOMHETEN"]
[]
[]
[]
[2018]
["NB: Alle timefortjenester er før eventuelt trekk av målegebyr",null,null,null,null,null,null,null,"Passord dokumentbeskyttelse:<Retur>"]

{"sheet":"ÅRSTOT","index":1,"n_rows":68,"n_cols":13,"rows_kept":68,"cut":false,"hidden":false,"merged":[]}
[]
[{"$f":"\"MÅLESTATISTIKK ALLE BYGGFAG - 1. HALVÅR \"&FORS!$A$14","v":"MÅLESTATISTIKK ALLE BYGGFAG - 1. HALVÅR 2018"}]
[]
[null,"Målesum i kroner",null,"Timer",null,{"$f":"\"Fortjeneste 1. halvår  \"&FORS!$A$14-0","v":"Fortjeneste 1. halvår  2018"},null,null,{"$f":"\" 1. halvår  \"&FORS!$A$14-1","v":" 1. halvår  2017"},null,null,"Endringer i %"]
[null,"Innmålt m/","Innmålt m/","Innmålt m/","Innmålt m/","Innmålt m/","Innmålt m/","Gjennom-","Innmålt m/","Innmålt m/","Gjen.snitt","Innmålt m/","Gjen.snitt"]
[null,"overskudd","underskudd","overskudd","underskudd","overskudd","underskudd","snitt","overskudd","underskudd","fortjeneste","overskudd","fortjeneste"]
["Agder",{"$f":"BETONG!B7+TØMRERE!B7+MALERE!B7+TAKTEKKERE!B7+MURERE!B7","v":3587245},{"$f":"BETONG!C7+TØMRERE!C7+MALERE!C7+TAKTEKKERE!C7+MURERE!C7","v":0},{"$f":"BETONG!D7+TØMRERE!D7+MALERE!D7+TAKTEKKERE!D7+MURERE!D7","v":11576},{"$f":"BETONG!E7+TØMRERE!E7+MALERE!E7+TAKTEKKERE!E7+MURERE!E7","v":0},{"$f":"IF(D7=0,0,B7/D7)","v":309.88640290255699},0,{"$f":"IF(D7+E7=0,0,(B7+C7)/(D7+E7))","v":309.88640290255699},5186834,0,285.01,{"$f":"IF(I7=0,0,(B7-I7)/I7)","v":-0.30839409936774531},{"$f":"(H7-K7)/K7","v":8.7282561673474632E-2}]
["Bergen",{"$f":"BETONG!B8+TØMRERE!B8+MALERE!B8+RØRLEGGERE!B7+MURERE!B8+TAKTEKKERE!B11","v":19693534.960000001},{"$f":"BETONG!C8+TØMRERE!C8+MALERE!C8+RØRLEGGERE!C7+MURERE!C8+TAKTEKKERE!C11","v":0},{"$f":"BETONG!D8+TØMRERE!D8+MALERE!D8+RØRLEGGERE!D7+MURERE!D8+TAKTEKKERE!D11","v":70133.070000000007},{"$f":"BETONG!E8+TØMRERE!E8+MALERE!E8+RØRLEGGERE!E7+MURERE!E8+TAKTEKKERE!E11","v":0},{"$f":"IF(D8=0,0,B8/D8)","v":280.80240833603887},{"$f":"IF(E8=0,0,C8/E8)","v":0},{"$f":"IF(D8+E8=0,0,(B8+C8)/(D8+E8))","v":280.80240833603887},23286395,{"$f":"C8","v":0},274.97000000000003,{"$f":"IF(I8=0,0,(B8-I8)/I8)","v":-0.15429009256263149},{"$f":"(H8-K8)/K8","v":2.1211071520670758E-2}]
["Drammen - Bærum",{"$f":"BETONG!B9+TØMRERE!B9","v":0},{"$f":"BETONG!C9+TØMRERE!C9","v":0},{"$f":"BETONG!D9+TØMRERE!D9","v":0},{"$f":"BETONG!E9+TØMRERE!E9","v":0},0,0,0,null,0,null,{"$f":"IF(I32=0,0,(B9-I32)/I32)","v":0},{"$f":"(H9-K32)/K32","v":{"$error":"#DIV/0!"}}]
[null,{"$f":"BETONG!B10+TØMRERE!B10+TAKTEKKERE!B9+MURERE!B9+MALERE!B9","v":0},{"$f":"BETONG!C10+TØMRERE!C10+TAKTEKKERE!C9+MURERE!C9+MALERE!C9","v":0},{"$f":"BETONG!D10+TØMRERE!D10+TAKTEKKERE!D9+MURERE!D9+MALERE!D9","v":0},{"$f":"BETONG!E10+TØMRERE!E10+TAKTEKKERE!E9+MURERE!E9+MALERE!E9","v":0},0,0,0,null,0]
["Haugesund",{"$f":"BETONG!B11+'BLIKK OG VENTILASJON'!B7+TAKTEKKERE!B8","v":6287106},{"$f":"BETONG!C11++'BLIKK OG VENTILASJON'!C7+TAKTEKKERE!C8","v":0},{"$f":"BETONG!D11++'BLIKK OG VENTILASJON'!D7+TAKTEKKERE!D8","v":23894.44},{"$f":"BETONG!E11++'BLIKK OG VENTILASJON'!E7+TAKTEKKERE!E8","v":0},263.12003964102109,0,263.12003964102109,9497061,0,265.77999999999997,-0.33799456484485041,-1.0008128373011058E-2]
["Hamar og Omegn",{"$f":"BETONG!B12+TØMRERE!B11+MALERE!B10+TAKTEKKERE!B10+MURERE!B10","v":16604224.919999998},{"$f":"BETONG!C12+TØMRERE!C11+MALERE!C10+TAKTEKKERE!C10+MURERE!C10","v":0},{"$f":"BETONG!D12+TØMRERE!D11+MALERE!D10+TAKTEKKERE!D10+MURERE!D10","v":57802.32},{"$f":"BETONG!E12+TØMRERE!E11+MALERE!E10+TAKTEKKERE!E10+MURERE!E10","v":0},287.25879722474804,0,287.25879722474804,12741921,861127,282.51,0.30311786739220858,1.680930666081925E-2]
["Nordland",{"$f":"BETONG!B13+TØMRERE!B12+MALERE!B11+RØRLEGGERE!B8+MURERE!B11+TAKTEKKERE!B12","v":0},{"$f":"BETONG!C13+TØMRERE!C12+MALERE!C11+RØRLEGGERE!C22+MURERE!C11+TAKTEKKERE!C12","v":2314573.0699999998},{"$f":"BETONG!D13+TØMRERE!D12+MALERE!D11+RØRLEGGERE!D22+MURERE!D11+TAKTEKKERE!D12","v":0},{"$f":"BETONG!E13+TØMRERE!E12+MALERE!E11+RØRLEGGERE!E22+MURERE!E11+TAKTEKKERE!E12","v":11009},0,210.2437160505041,210.2437160505041,null,null,null,0,{"$error":"#DIV/0!"}]
["Sandnes",{"$f":"BETONG!B14","v":14761530.039999999},{"$f":"BETONG!C14+MALERE!C12","v":0},{"$f":"BETONG!D14+MALERE!D12","v":45914.15},{"$f":"BETONG!E14+MALERE!E12","v":0},321.50284912167598,0,321.50284912167598,25854094,0,294.33,-0.42904477565525989,9.2321031229150946E-2]
["Stavanger",{"$f":"BETONG!B15+TØMRERE!B13+RØRLEGGERE!B9+'BLIKK OG VENTILASJON'!B8+TAKTEKKERE!B13+MURERE!B12","v":6290263.7999999998},{"$f":"BETONG!C15+TØMRERE!C13+RØRLEGGERE!C9+'BLIKK OG VENTILASJON'!C8+TAKTEKKERE!C13+MURERE!C12","v":264163.95999999996},{"$f":"BETONG!D15+TØMRERE!D13+RØRLEGGERE!D9+'BLIKK OG VENTILASJON'!D8+TAKTEKKERE!D13+MURERE!D12","v":21065},{"$f":"BETONG!E15+TØMRERE!E13+RØRLEGGERE!E9+'BLIKK OG VENTILASJON'!E8+TAKTEKKERE!E13+MURERE!E12","v":1589.5},298.61209589366246,166.19311733249447,289.32122801209471,5523085,81095,304.76,0.13890403642167373,-5.0658787202734229E-2]
["Telemark",{"$f":"BETONG!B16+TØMRERE!B14+MALERE!B13+TAKTEKKERE!B14+MURERE!B14","v":18089589},{"$f":"BETONG!C16+TØMRERE!C14+MALERE!C10+TAKTEKKERE!C14+MURERE!C14","v":173440},{"$f":"BETONG!D16+TØMRERE!D14+MALERE!D13+TAKTEKKERE!D14+MURERE!D14","v":61616.7},{"$f":"BETONG!E16+TØMRERE!E14+MALERE!E13+TAKTEKKERE!E14+MURERE!E14","v":896.5},293.58256771297391,193.46346904629112,292.14676260373813,19242486,347493,302.89999999999998,-5.9914139992098735E-2,-3.5500948815654847E-2]
["Tromsø ",{"$f":"BETONG!B17+MALERE!B14+RØRLEGGERE!B10+TØMRERE!B16+MURERE!B13","v":0},{"$f":"BETONG!C17+MALERE!C14+RØRLEGGERE!C10+TØMRERE!C16+MURERE!C13","v":0},{"$f":"BETONG!D17+MALERE!D14+RØRLEGGERE!D10+TØMRERE!D16+MURERE!D13","v":0},{"$f":"BETONG!E17+MALERE!E14+RØRLEGGERE!E10+TØMRERE!E16+MURERE!E13","v":0},0,0,0,null,0]
["Trondheim",{"$f":"BETONG!B18+TØMRERE!B15+MALERE!B15+RØRLEGGERE!B11+TAKTEKKERE!B15+MURERE!B15","v":155198810.97999999},{"$f":"BETONG!C18+TØMRERE!C15+MALERE!C15+RØRLEGGERE!C11+TAKTEKKERE!C15+MURERE!C15","v":7964896.7400000002},{"$f":"BETONG!D18+TØMRERE!D15+MALERE!D15+RØRLEGGERE!D11+TAKTEKKERE!D15+MURERE!D15","v":520620.80999999994},{"$f":"BETONG!E18+TØMRERE!E15+MALERE!E15+RØRLEGGERE!E11+TAKTEKKERE!E15+MURERE!E15","v":43327.389999999992},298.10335660612571,183.83052244780961,289.32392677199789,175140724,9666677,282.68,-0.11386222783914043,2.3503349271253301E-2]
["Vestfold",{"$f":"BETONG!B19+TØMRERE!B17+MALERE!B16+TAKTEKKERE!B16+MURERE!B16","v":4567559.75},{"$f":"BETONG!C19+TØMRERE!C17+MALERE!C16+TAKTEKKERE!C16","v":776347},{"$f":"BETONG!D19+TØMRERE!D17+MALERE!D16+TAKTEKKERE!D16","v":14864.5},{"$f":"BETONG!E19+TØMRERE!E17","v":4424},307.2797436846177,175.48530741410488,277.05144256940662,3193365,379041,262.17,0.4303281178318169,5.6762568445690206E-2]
["Østfold",{"$f":"BETONG!B20+TØMRERE!B18+MURERE!B18","v":18546338.5},{"$f":"BETONG!C20+TØMRERE!C18+MURERE!C18","v":3866476},{"$f":"BETONG!D20+TØMRERE!D18+MURERE!D18","v":65090.5},{"$f":"BETONG!E20+TØMRERE!E18+MURERE!E18","v":19775},284.93157219563528,195.52343868520859,264.09806694121875,13729164,418602,286.06,0.35087165540450971,-7.6773869323852537E-2]
["Oslo",{"$f":"BETONG!B21+TØMRERE!B19+MALERE!B17+RØRLEGGERE!B12+TAKTEKKERE!B17+MURERE!B17","v":88543589.549999997},{"$f":"BETONG!C21+TØMRERE!C19+MALERE!C17+RØRLEGGERE!C12+TAKTEKKERE!C17+MURERE!C17","v":3469766.48},{"$f":"BETONG!D21+TØMRERE!D19+MALERE!D17+TAKTEKKERE!D17+MURERE!D17+RØRLEGGERE!D12","v":265094.40000000002},{"$f":"BETONG!E21+TØMRERE!E19+MALERE!E17+RØRLEGGERE!E12+TAKTEKKERE!E17+MURERE!E17","v":16954.73},334.00777062812335,204.64887851354754,326.23166052666073,88156005,9204727,306.11,4.39657570689594E-3,6.5733430879947458E-2]
["Landet i alt",{"$f":"SUM(B7:B21)","v":352169792.5},{"$f":"SUM(C7:C21)","v":18829663.25},{"$f":"SUM(D7:D21)","v":1157671.8900000001},{"$f":"SUM(E7:E21)","v":97976.119999999981},304.2051858925243,192.18625160906561,295.46453528007424,{"$f":"SUM(I7:I21)","v":381551134},{"$f":"SUM(J7:J21)","v":20958762},289.04000000000002,-7.7004990633837297E-2,2.2227149460539108E-2]
[]
[]
[{"$f":"\"MÅLESTATISTIKK FOR ALLE BYGGFAG - 2. HALVÅR \"&FORS!$A$14","v":"MÅLESTATISTIKK FOR ALLE BYGGFAG - 2. HALVÅR 2018"}]
[]
[null,"Målesum i kroner",null,"Timer",null,{"$f":"\"Fortjeneste 2. halvår  \"&FORS!$A$14-0","v":"Fortjeneste 2. halvår  2018"},null,null,{"$f":"\" 2. halvår  \"&FORS!$A$14-1","v":" 2. halvår  2017"},null,null,"Endringer i %"]
[null,"Innmålt m/","Innmålt m/","Innmålt m/","Innmålt m/","Innmålt m/","Innmålt m/","Gjennom-","Innmålt m/","Innmålt m/","Gjen.snitt","Innmålt m/","Gjen.snitt"]
[null,"overskudd","underskudd","overskudd","underskudd","overskudd","underskudd","snitt","overskudd","underskudd","fortjeneste","overskudd","fortjeneste"]
["Agder",{"$f":"BETONG!B30+TØMRERE!B28+TAKTEKKERE!B26","v":13976972},{"$f":"BETONG!C30+TØMRERE!C28+MALERE!C26+TAKTEKKERE!C26+MURERE!C27","v":0},{"$f":"BETONG!D30+TØMRERE!D28+MALERE!D26+TAKTEKKERE!D26+MURERE!D27","v":46486.6},{"$f":"BETONG!E30+TØMRERE!E28+MALERE!E26+TAKTEKKERE!E26+MURERE!E27","v":0},{"$f":"IF(D30=0,0,B30/D30)","v":300.66668674413705},{"$f":"IF(E30=0,0,C30/E30)","v":0},{"$f":"IF(D30+E30=0,0,(B30+C30)/(D30+E30))","v":300.66668674413705},1880451,null,317.58999999999997,{"$f":"IF(I30=0,0,(B30-I30)/I30)","v":6.4327764988292699},{"$f":"(H30-K30)/K30","v":-5.3286669151619774E-2}]
["Bergen",{"$f":"BETONG!B31+TØMRERE!B29+MALERE!B27+RØRLEGGERE!B21+MURERE!B28+TAKTEKKERE!B30","v":12738332.15},{"$f":"BETONG!C31+TØMRERE!C29+MALERE!C27+RØRLEGGERE!C21+MURERE!C28+TAKTEKKERE!C30","v":0},{"$f":"BETONG!D31+TØMRERE!D29+MALERE!D27+RØRLEGGERE!D21+MURERE!D28+TAKTEKKERE!D30","v":43853.22},{"$f":"BETONG!E31+TØMRERE!E29+MALERE!E27+RØRLEGGERE!E21+MURERE!E28+TAKTEKKERE!E30","v":0},290.4765522349328,0,290.4765522349328,35095938,0,275.06,{"$f":"IF(I31=0,0,(B31-I31)/I31)","v":-0.63704255033730683},{"$f":"(H31-K31)/K31","v":5.6047961299108537E-2}]
["Drammen - Bærum",{"$f":"BETONG!B32+TØMRERE!B30","v":0},{"$f":"BETONG!C32+TØMRERE!C30","v":0},{"$f":"BETONG!D32+TØMRERE!D30","v":0},{"$f":"BETONG!E32+TØMRERE!E30","v":0},0,0,0,null,0,null,{"$f":"IF(I32=0,0,(B32-I32)/I32)","v":0}]
[null,{"$f":"BETONG!B33+TØMRERE!B31+TAKTEKKERE!B28+MURERE!B29+MALERE!B28","v":0},{"$f":"BETONG!C33+TØMRERE!C31+TAKTEKKERE!C28+MURERE!C29+MALERE!C28","v":0},{"$f":"BETONG!D33+TØMRERE!D31+TAKTEKKERE!D28+MURERE!D29+MALERE!D28","v":0},{"$f":"BETONG!E33+TØMRERE!E31+TAKTEKKERE!E28+MURERE!E29+MALERE!E28","v":0},0,0,0,null,0,null,{"$f":"IF(I33=0,0,(B33-I33)/I33)","v":0}]
["Haugesund",{"$f":"BETONG!B34+TAKTEKKERE!B27","v":10638372},{"$f":"BETONG!C34+TAKTEKKERE!C27","v":0},{"$f":"BETONG!D34+TAKTEKKERE!D27","v":38691.440000000002},{"$f":"BETONG!E34+TAKTEKKERE!E27","v":0},274.95415006523405,0,274.95415006523405,7435876,0,257,0.43068173810321742,6.9860506090404853E-2]
["Hamar og Omegn",{"$f":"BETONG!B35+TØMRERE!B32+MALERE!B29+TAKTEKKERE!B29+MURERE!B30","v":24307464.510000002},{"$f":"BETONG!C35+TØMRERE!C32+MALERE!C29+TAKTEKKERE!C29+MURERE!C30","v":0},{"$f":"BETONG!D35+TØMRERE!D32+MALERE!D29+TAKTEKKERE!D29+MURERE!D30","v":97004.45},{"$f":"BETONG!E35+TØMRERE!E32+MALERE!E29+TAKTEKKERE!E29+MURERE!E30","v":0},250.58092190616,0,250.58092190616,14136731,9457,275.66000000000003,0.71945441347083716,-9.0978299694696452E-2]
["Nordland",{"$f":"BETONG!B36+TØMRERE!B33+MALERE!B30+RØRLEGGERE!B22+MURERE!B31+TAKTEKKERE!B31+'BLIKK OG VENTILASJON'!B18","v":0},{"$f":"BETONG!C36+TØMRERE!C33+MALERE!C30+RØRLEGGERE!C22+MURERE!C31+TAKTEKKERE!C31+'BLIKK OG VENTILASJON'!C18","v":2314573.0699999998},{"$f":"BETONG!D36+TØMRERE!D33+MALERE!D30+RØRLEGGERE!D22+MURERE!D31+TAKTEKKERE!D31+'BLIKK OG VENTILASJON'!D18","v":0},{"$f":"BETONG!E36+TØMRERE!E33+MALERE!E30+RØRLEGGERE!E22+MURERE!E31+TAKTEKKERE!E31+'BLIKK OG VENTILASJON'!E18","v":11009},0,210.2437160505041,210.2437160505041,null,0,null,0]
["Sandnes",{"$f":"BETONG!B37+MALERE!B31","v":11820104.98},{"$f":"BETONG!C37++MALERE!C31","v":0},{"$f":"BETONG!D37++MALERE!D31","v":37496.160000000003},{"$f":"BETONG!E37++MALERE!E31","v":0},315.23507953881142,0,315.23507953881142,35988201,0,293.20999999999998,-0.67155610306833624,7.5117081746227762E-2]
["Stavanger",{"$f":"BETONG!B38+TØMRERE!B34+RØRLEGGERE!B23+'BLIKK OG VENTILASJON'!B19+TAKTEKKERE!B32+MURERE!B32","v":6310055},{"$f":"BETONG!C38+TØMRERE!C34+RØRLEGGERE!C23+'BLIKK OG VENTILASJON'!C19+TAKTEKKERE!C32+MURERE!C32","v":503422},{"$f":"BETONG!D38+TØMRERE!D34+RØRLEGGERE!D23+'BLIKK OG VENTILASJON'!D19+TAKTEKKERE!D32+MURERE!D32","v":21215},{"$f":"BETONG!E38+TØMRERE!E34+RØRLEGGERE!E23+'BLIKK OG VENTILASJON'!E19+TAKTEKKERE!E32+MURERE!E32","v":2888},297.433655432477,174.31509695290859,282.68169937352195,5333805,109573,309.93,0.18303068822351024,-8.7917596316839458E-2]
["Telemark",{"$f":"BETONG!B39+TØMRERE!B35+MALERE!B32+TAKTEKKERE!B33+MURERE!B34","v":13966127},{"$f":"BETONG!C39+TØMRERE!C35+MALERE!C32+TAKTEKKERE!C33","v":0},{"$f":"BETONG!D39+TØMRERE!D35+MALERE!D32+TAKTEKKERE!D33+MURERE!D34","v":45146.5},{"$f":"BETONG!E39+TØMRERE!E35+MALERE!E32+TAKTEKKERE!E33+MURERE!E34","v":0},{"$f":"IF(D39=0,0,B39/D39)","v":309.35126754011941},0,309.35126754011941,9616986,2613000,273.2,0.45223534691638317,0.13232528382181341]
[null,{"$f":"BETONG!B40+MALERE!B33+RØRLEGGERE!B24+TØMRERE!B37+MURERE!B33","v":0},{"$f":"BETONG!C40+MALERE!C33+RØRLEGGERE!C24+TØMRERE!C37+MURERE!C33","v":0},null,{"$f":"BETONG!E40+MALERE!E33+RØRLEGGERE!E24+TØMRERE!E37+MURERE!E33","v":0},{"$f":"IF(D40=0,0,B40/D40)","v":0},0,0,null,0,null,0]
["Trondheim",{"$f":"BETONG!B41+TØMRERE!B36+MALERE!B34+RØRLEGGERE!B25+TAKTEKKERE!B34+MURERE!B35","v":155183944.63},{"$f":"BETONG!C41+TØMRERE!C36+MALERE!C34+RØRLEGGERE!C25+TAKTEKKERE!C34+MURERE!C35","v":27574250.280000001},{"$f":"BETONG!D41+TØMRERE!D36+MALERE!D34+RØRLEGGERE!D25+TAKTEKKERE!D34+MURERE!D35","v":510499.06999999989},{"$f":"BETONG!E41+TØMRERE!E36+MALERE!E34+RØRLEGGERE!E25+TAKTEKKERE!E34+MURERE!E35","v":133129.01999999999},{"$f":"IF(B41=0,0,B41/D41)","v":303.9847744090896},{"$f":"IF(E41=0,0,C41/E41)","v":207.12426396588816},283.9499980648763,171978621,8927118,291.22000000000003,-9.7655605518548752E-2,-2.4963951428898186E-2]
["Vestfold",{"$f":"BETONG!B42+TØMRERE!B38+MALERE!B35+MURERE!B36+TAKTEKKERE!B35","v":7055474.1100000003},{"$f":"BETONG!C42+TØMRERE!C38+MALERE!C35+MURERE!C36+TAKTEKKERE!C35","v":0},{"$f":"BETONG!D42+TØMRERE!D38+MALERE!D35+MURERE!D36+TAKTEKKERE!D35","v":23195},{"$f":"BETONG!E42+TØMRERE!E38+MALERE!E35+MURERE!E36+TAKTEKKERE!E35","v":0},{"$f":"IF(D42=0,0,B42/D42)","v":304.1808195731839},0,304.1808195731839,6581036,null,271.45999999999998,7.2091705622032806E-2,0.12053643105129271]
["Østfold",{"$f":"BETONG!B43+TØMRERE!B39+MURERE!B38","v":8770972.5},{"$f":"BETONG!C43+TØMRERE!C39+MURERE!C38","v":3256160},{"$f":"BETONG!D43+TØMRERE!D39+MURERE!D38","v":28245.5},{"$f":"BETONG!E43+TØMRERE!E39+MURERE!E38","v":15134},310.52636703191661,215.15527950310559,277.25382957387706,14328906,373989,141.02000000000001,-0.38788261295035364,0.96606034302848554]
["Oslo",{"$f":"BETONG!B44+TØMRERE!B40+MALERE!B36+RØRLEGGERE!B25+TAKTEKKERE!B36+MURERE!B37","v":103063339.03000002},{"$f":"BETONG!C44+TØMRERE!C40+MALERE!C36+RØRLEGGERE!C26+TAKTEKKERE!C36+MURERE!C37","v":10019963.76},{"$f":"BETONG!D44+TØMRERE!D40+MALERE!D36+RØRLEGGERE!D26+MURERE!D37+TAKTEKKERE!D36","v":345385.2},{"$f":"BETONG!E44+TØMRERE!E40+MALERE!E36+RØRLEGGERE!E26+'BLIKK OG VENTILASJON'!E20+TAKTEKKERE!E36+MURERE!E37","v":47076.800000000003},298.40114466398677,212.84292390306902,288.13822176414538,84583828,2111107,215.44,0.21847569998841879,0.33744068772811636]
["Landet i alt",{"$f":"SUM(B30:B44)","v":367831157.91000003},{"$f":"SUM(C30:C44)","v":43668369.109999999},{"$f":"SUM(D30:D44)","v":1237218.1399999999},{"$f":"SUM(E30:E44)","v":209236.82},{"$f":"IF(D45=0,0,B45/D45)","v":297.3050151931979},208.70308156088396,284.48830997129704,{"$f":"SUM(I30:I44)","v":386960379},{"$f":"SUM(J30:J44)","v":14144244},263.01,-4.943457296438087E-2,8.1663472762621384E-2]
[]
[]
[{"$f":"\"MÅLESTATISTIKK FOR ALLE BYGGFAG - GJENNOMSNITT HELE ÅRET  \"&FORS!$A$14","v":"MÅLESTATISTIKK FOR ALLE BYGGFAG - GJENNOMSNITT HELE ÅRET  2018"}]
[]
[null,"Målesum i kroner",null,"Timer",null,{"$f":"\"Fortjeneste hele  \"&FORS!$A$14-0","v":"Fortjeneste hele  2018"},null,null,{"$f":"\" Hele året  \"&FORS!$A$14-1","v":" Hele året  2017"},null,null,"Endringer i %"]
[null,"Innmålt m/","Innmålt m/","Innmålt m/","Innmålt m/","Innmålt m/","Innmålt m/","Gjennom-","Innmålt m/","Innmålt m/","Gjen.snitt","Innmålt m/","Gjen.snitt"]
[null,"overskudd","underskudd","overskudd","underskudd","overskudd","underskudd","snitt","overskudd","underskudd","fortjeneste","overskudd","fortjeneste"]
["Agder",{"$f":"B7+B30","v":17564217},{"$f":"C7+C30","v":0},{"$f":"D7+D30","v":58062.6},0,{"$f":"IF(D53=0,0,B53/D53)","v":302.50483099275613},{"$f":"IF(E53=0,0,C53/E53)","v":0},{"$f":"IF(D53+E53=0,0,(B53+C53)/(D53+E53))","v":302.50483099275613},{"$f":"I7+I30","v":7067285},{"$f":"J7+J30","v":0},293.01,{"$f":"IF(I53=0,0,(B53-I53)/I53)","v":1.485284943227845},{"$f":"(H53-K53)/K53","v":3.2404460573892138E-2}]
["Bergen",{"$f":"B8+B31","v":32431867.109999999},0,113986.29000000001,0,284.52428015685041,0,284.52428015685041,{"$f":"I8+I31","v":58382333},0,275.02999999999997,{"$f":"IF(I54=0,0,(B54-I54)/I54)","v":-0.44449175900524568},{"$f":"(H54-K54)/K54","v":3.4520889200634251E-2}]
["Drammen - Bærum",{"$f":"B9+B32","v":0},0,0,0,0,0,0,0,0,null,0]
[null,{"$f":"B10+B33","v":0},0,0,0,0,0,0,0,0,null,0]
["Haugesund",{"$f":"B11+B34","v":16925478},0,62585.880000000005,0,270.43604723621365,0,270.43604723621365,16932937,0,261.85000000000002,-4.405024361692245E-4,3.2789945526880387E-2]
["Hamar og Omegn",{"$f":"B12+B35","v":40911689.43},0,154806.76999999999,0,264.27584161855458,0,264.27584161855458,26878652,870584,278.98,0.52208858651096046,-5.2706854905173982E-2]
["Nordland",{"$f":"B13+B36","v":0},4629146.1399999997,0,22018,0,210.2437160505041,210.2437160505041,0,0,null,0]
["Sandnes",26581635.02,0,83410.31,0,318.68524430612956,0,318.68524430612956,61842295,0,293.68,-0.57017062481267888,8.514452569507476E-2]
["Stavanger",12600318.800000001,767585.96,42280,4477.5,298.02078524124886,171.4318168620882,285.89862075602849,10856890,190668,307.29000000000002,0.16058270830781196,-6.9613001542424183E-2]
["Telemark",32055716,173440,106763.2,896.5,300.25061069731896,193.46346904629112,299.36137663396795,28859472,2960493,290.75,0.11075199158182797,2.9617804416054858E-2]
["Tromsø",0,0,0,0,0,0,0,0,0,null,0]
["Trondheim",{"$f":"B18+B41","v":310382755.61000001},35539147.020000003,1031119.8799999999,176456.40999999997,301.01519874682276,201.4046813034449,286.45966759582541,{"$f":"I18+I41","v":347119345},18593795,286.82,-0.10583273424303098,-1.256301527698853E-3]
["Vestfold",{"$f":"B19+B42","v":11623033.859999999},776347,{"$f":"D19+D42","v":38059.5},{"$f":"E19+E42","v":4424},{"$f":"IF(D65=0,0,B65/D65)","v":305.39113388247347},{"$f":"IF(E65=0,0,C65/E65)","v":175.48530741410488},291.86344957454071,9774401,379041,268.12,{"$f":"IF(I65=0,0,(B65-I65)/I65)","v":0.18913004080761567},8.8555309467927432E-2]
["Østfold",{"$f":"B20+B43","v":27317311},{"$f":"C20+C43","v":7122636},{"$f":"D20+D43","v":93336},34909,292.67711279677724,204.03437508951845,268.54806815080508,28058070,792591,187.69,-2.6400924938885677E-2,0.43080647957166118]
["Oslo",{"$f":"B21+B44","v":191606928.58000001},13489730.24,{"$f":"D21+D44","v":610479.60000000009},64031.53,313.86295067025986,210.67324550889228,{"$f":"IF(D67+E67=0,0,(B67+C67)/(D67+E67))","v":304.06712313257157},172739833,11315834,265.63,0.10922261097705248,0.14470173976046219]
["Landet i alt",{"$f":"SUM(B53:B67)","v":720000950.41000009},{"$f":"SUM(C53:C67)","v":62498032.360000007},{"$f":"SUM(D53:D67)","v":2394890.0300000003},{"$f":"SUM(E53:E67)","v":307212.93999999994},{"$f":"IF(D68=0,0,B68/D68)","v":300.6405059901644},203.43554656258951,{"$f":"IF(D68+E68=0,0,(B68+C68)/(D68+E68))","v":289.58888371674453},{"$f":"SUM(I53:I67)","v":768511513},{"$f":"SUM(J53:J67)","v":35103006},275.99,-6.3122753230633669E-2,{"$f":"(H68-K68)/K68","v":4.9273103071649421E-2}]

{"sheet":"BETONG","index":2,"n_rows":68,"n_cols":13,"rows_kept":68,"cut":false,"hidden":false,"merged":[]}
[]
[{"$f":"\"MÅLESTATISTIKK FOR BETONGFAGENE - 1. HALVÅR \"&FORS!$A$14","v":"MÅLESTATISTIKK FOR BETONGFAGENE - 1. HALVÅR 2018"}]
[]
[null,"Målesum i kroner",null,"Timer",null,{"$f":"\"Fortjeneste 1. halvår  \"&FORS!$A$14-0","v":"Fortjeneste 1. halvår  2018"},null,null,{"$f":"\" 1. halvår  \"&FORS!$A$14-1","v":" 1. halvår  2017"},null,null,"Endringer i %"]
[null,"Innmålt m/","Innmålt m/","Innmålt m/","Innmålt m/","Innmålt m/","Innmålt m/","Gjennom-","Innmålt m/","Innmålt m/","Gjen.snitt","Innmålt m/","Gjen.snitt"]
[null,"overskudd","underskudd","overskudd","underskudd","overskudd","underskudd","snitt","overskudd","underskudd","fortjeneste","overskudd","fortjeneste"]
["Agder",3286884,null,10594,null,{"$f":"IF(D7=0,0,B7/D7)","v":310.25901453653012},{"$f":"IF(E7=0,0,C7/E7)","v":0},{"$f":"IF(D7+E7=0,0,(B7+C7)/(D7+E7))","v":310.25901453653012},1596486,null,290.69,{"$f":"IF(I7=0,0,(B7-I7)/I7)","v":1.0588241926330704},{"$f":"IF(K7=0,0,(H7-K7)/K7)","v":6.7319187232206534E-2}]
["Bergen",12656563,null,43867.95,null,288.51503204503518,0,288.51503204503518,18628678,null,282.8,{"$f":"IF(I8=0,0,(B8-I8)/I8)","v":-0.32058716136485904},{"$f":"IF(K8=0,0,(H8-K8)/K8)","v":2.0208741319077697E-2}]
["Drammen - Bærum",null,null,null,null,0,0,0,null,null,null,0,0]
["Glåmdal",null,null,null,null,0,0,0,null,null,0,0,0]
["Haugesund",6287106,null,23894.44,null,263.12003964102109,0,263.12003964102109,9497061,null,265.77999999999997,-0.33799456484485041,-1.0008128373011058E-2]
["Hamar og Omegn",10049071.33,null,34560.18,null,290.77022544442764,0,290.77022544442764,5660316,null,299.13,0.7753551798168159,-2.7946961373223542E-2]
["Nordland",null,null,null,null,{"$f":"IF(D13=0,0,B13/D13)","v":0},0,0,null,null,0,0,0]
["Sandnes",14761530.039999999,null,45914.15,null,null,0,321.50284912167598,25854094.280000001,null,294.33,-0.42904478183870853,9.2321031229150946E-2]
["Stavanger",null,null,null,null,0,0,0,null,null,null,0,0]
["Telemark",7463597,null,23080.2,null,323.37661718702611,0,323.37661718702611,3190640,null,312.82,1.3392162700900132,3.3746618461179337E-2]
["Tromsø",null,null,null,null,0,0,0,null,null,null,0]
["Trondheim",40861429.289999999,816652.85,137751.49,4821.8,296.63148681731138,169.36680285370608,292.32742079529766,67713882,null,304.94,-0.39655757308375855,-4.1360855265633704E-2]
["Vestfold",null,null,null,null,0,{"$f":"IF(E19=0,0,D19/E19)","v":0},0,745558,null,259.05,-1,-1]
["Østfold",7858614,773181,27095.5,3811,290.03391707110035,202.88139595906586,279.28736673515277,6444714,336850,286.88,0.21938909934560324,-2.6466234191464107E-2]
["Oslo",8660173,null,28269,null,306.34875658848915,0,306.34875658848915,13730510,null,347.42,-0.3692752126468718,-0.1182178441411285]
["Landet i alt",{"$f":"SUM(B7:B21)","v":111884967.66},{"$f":"SUM(C7:C21)","v":1589833.85},{"$f":"SUM(D7:D21)","v":375026.91000000003},{"$f":"SUM(E7:E21)","v":8632.7999999999993},{"$f":"IF(D22=0,0,B22/D22)","v":298.33850498888194},{"$f":"IF(E22=0,0,C22/E22)","v":184.1620158002039},{"$f":"IF(D22+E22=0,0,(B22+C22)/(D22+E22))","v":295.76939812105883},{"$f":"SUM(I7:I21)","v":153061939.28},{"$f":"SUM(J7:J21)","v":336850},290.02,-0.26902162492972176,1.9824143579956023E-2]
[]
[]
[{"$f":"\"MÅLESTATISTIKK FOR BETONGFAGENE - 2. HALVÅR \"&FORS!$A$14","v":"MÅLESTATISTIKK FOR BETONGFAGENE - 2. HALVÅR 2018"}]
[]
[null,"Målesum i kroner",null,"Timer",null,{"$f":"\"Fortjeneste 2. halvår  \"&FORS!$A$14-0","v":"Fortjeneste 2. halvår  2018"},null,null,{"$f":"\" 2. halvår  \"&FORS!$A$14-1","v":" 2. halvår  2017"},null,null,"Endringer i %"]
[null,"Innmålt m/","Innmålt m/","Innmålt m/","Innmålt m/","Innmålt m/","Innmålt m/","Gjennom-","Innmålt m/","Innmålt m/","Gjen.snitt","Innmålt m/","Gjen.snitt"]
[null,"overskudd","underskudd","overskudd","underskudd","overskudd","underskudd","snitt","overskudd","underskudd","fortjeneste","overskudd","fortjeneste"]
["Agder",9653053,null,31859,null,{"$f":"IF(D30=0,0,B30/D30)","v":302.99296901974327},{"$f":"IF(E30=0,0,#REF!/E30)","v":0},{"$f":"IF(D30+E30=0,0,(B30+C30)/(D30+E30))","v":302.99296901974327},745252,null,310.52,{"$f":"IF(I30=0,0,(B30-I30)/I30)","v":11.952736792387004},{"$f":"IF(K30=0,0,(H30-K30)/K30)","v":-2.4240084311016076E-2}]
["Bergen",9035806.1500000004,null,30516.13,null,{"$f":"IF(D31=0,0,B31/D31)","v":296.09934647676494},{"$f":"IF(E31=0,0,C31/E31)","v":0},{"$f":"IF(D31+E31=0,0,(B31+C31)/(D31+E31))","v":296.09934647676494},28871199.199999999,null,280.91000000000003,{"$f":"IF(I31=0,0,(B31-I31)/I31)","v":-0.68703045247943828},{"$f":"IF(K31=0,0,(H31-K31)/K31)","v":5.407193220876761E-2}]
["Drammen - Bærum",null,null,null,null,{"$f":"IF(D32=0,0,B32/D32)","v":0},{"$f":"IF(E32=0,0,C32/E32)","v":0},{"$f":"IF(D32+E32=0,0,(B32+C32)/(D32+E32))","v":0},null,null,null,{"$f":"IF(I32=0,0,(B32-I32)/I32)","v":0},0]
[null,null,null,null,null,{"$f":"IF(D33=0,0,B33/D33)","v":0},0,0,null,null,0,0,0]
["Haugesund",10638372,null,38691.440000000002,null,{"$f":"IF(D34=0,0,B34/D34)","v":274.95415006523405},0,274.95415006523405,7435876,null,257,0.43068173810321742,6.9860506090404853E-2]
["Hamar og Omegn",1618889,null,5810.5,null,278.61440495654421,0,278.61440495654421,3963868,null,319.87,-0.59158856954873373,{"$f":"IF(K35=0,0,(H35-K35)/K35)","v":-0.12897613106404412}]
[null,null,null,null,null,0,0,0,null,null,0,0,0]
["Sandnes",11820104.98,null,37496.160000000003,null,315.23507953881142,0,{"$f":"IF(D37+E37=0,0,(B37+C37)/(D37+E37))","v":315.23507953881142},35988200.619999997,null,293.20999999999998,-0.67155609960029172,7.5117081746227762E-2]
["Stavanger",null,null,null,null,0,0,0,null,null,0,0,0]
["Telemark",3294600,null,10800,null,305.05555555555554,0,305.05555555555554,153094,null,335.36,20.520111826720839,-9.0363920695504737E-2]
[null,null,null,null,null,0,0,0,null,null,null,0,0]
["Trondheim",27503699.530000001,1557442.55,84501.41,8863.75,325.48213728031283,175.70921449725003,311.26323866418693,45905895.450000003,null,311.47000000000003,-0.40086781315579373,-6.6382423929462993E-4]
["Vestfold",null,null,null,null,0,0,0,1181234,null,276.89,-1,-1]
["Østfold",3387088,0,11513.5,null,294.18404481695399,0,294.18404481695399,7637352,164000,303.24,-0.55651016216091653,-2.9863986225583772E-2]
["Oslo",18436516,null,53773,null,342.85823740538933,0,342.85823740538933,6921284,1477955,304.92,1.6637421611365752,0.12442029845660932]
["Landet i alt",{"$f":"SUM(B30:B44)","v":95388128.659999996},{"$f":"SUM(C30:C44)","v":1557442.55},{"$f":"SUM(D30:D44)","v":304961.14},{"$f":"SUM(E30:E44)","v":8863.75},{"$f":"IF(D45=0,0,B45/D45)","v":312.78781506391272},{"$f":"IF(E45=0,0,C45/E45)","v":175.70921449725003},{"$f":"IF(D45+E45=0,0,(B45+C45)/(D45+E45))","v":308.91613220990848},{"$f":"SUM(I30:I44)","v":138803255.26999998},1565848,293.33999999999997,-0.31278176095761528,5.309924391459913E-2]
[]
[]
[{"$f":"\"MÅLESTATISTIKK FOR BETONGFAGENE - GJENNOMSNITT HELE ÅRET  \"&FORS!$A$14","v":"MÅLESTATISTIKK FOR BETONGFAGENE - GJENNOMSNITT HELE ÅRET  2018"}]
[]
[null,"Målesum i kroner",null,"Timer",null,{"$f":"\"Fortjeneste hele  \"&FORS!$A$14-0","v":"Fortjeneste hele  2018"},null,null,{"$f":"\" Hele året  \"&FORS!$A$14-1","v":" Hele året  2017"},null,null,"Endringer i %"]
[null,"Innmålt m/","Innmålt m/","Innmålt m/","Innmålt m/","Innmålt m/","Innmålt m/","Gjennom-","Innmålt m/","Innmålt m/","Gjen.snitt","Innmålt m/","Gjen.snitt"]
[null,"overskudd","underskudd","overskudd","underskudd","overskudd","underskudd","snitt","overskudd","underskudd","fortjeneste","overskudd","fortjeneste"]
["Agder",{"$f":"B7+B30","v":12939937},{"$f":"C7+C30","v":0},{"$f":"D7+D30","v":42453},{"$f":"E7+E30","v":0},{"$f":"IF(D53=0,0,B53/D53)","v":304.80618566414626},{"$f":"IF(E53=0,0,C30/E53)","v":0},{"$f":"IF(D53+E53=0,0,(B53+C53)/(D53+E53))","v":304.80618566414626},{"$f":"I7+I30","v":2341738},{"$f":"J7+J30","v":0},234.91,{"$f":"IF(I53=0,0,(B30-I53)/I53)","v":3.1221746412280109},{"$f":"IF(K53=0,0,(H53-K53)/K53)","v":0.2975445305186934}]
["Bergen",{"$f":"B8+B31","v":21692369.149999999},null,{"$f":"D8+D31","v":74384.08},null,{"$f":"IF(D54=0,0,B54/D54)","v":291.6265032786585},{"$f":"IF(E54=0,0,C54/E54)","v":0},{"$f":"IF(D54+E54=0,0,(B54+C54)/(D54+E54))","v":291.6265032786585},{"$f":"I8+I31","v":47499877.200000003},0,281.77,{"$f":"IF(I54=0,0,(B54-I54)/I54)","v":-0.54331736356573157},{"$f":"IF(K54=0,0,(H54-K54)/K54)","v":3.4980669619400655E-2}]
["Drammen - Bærum",null,null,null,null,0,0,0,0,0,null,{"$f":"IF(I55=0,0,(B55-I55)/I55)","v":0},0]
[null,null,null,null,null,0,0,0,0,0,0,0,0]
["Haugesund",{"$f":"B11+B34","v":16925478},null,{"$f":"D11+D34","v":62585.880000000005},null,270.43604723621365,0,270.43604723621365,16932937,0,261.17,-4.405024361692245E-4,3.5478987771235732E-2]
["Hamar og Omegn",{"$f":"B12+B35","v":11667960.33},null,{"$f":"D12+D35","v":40370.68},null,289.02065385076497,0,289.02065385076497,9624184,0,260.5,0.21235840150188318,0.10948427581867552]
[null,null,null,null,null,0,0,0,0,0,0,0,0]
["Sandnes",{"$f":"B14+B37","v":26581635.02},null,{"$f":"D14+D37","v":83410.31},null,{"$f":"IF(D60=0,0,B60/D60)","v":318.68524430612956},0,{"$f":"IF(D60+E60=0,0,(B60+C60)/(D60+E60))","v":318.68524430612956},61842294.899999999,0,296.2,{"$f":"IF(I60=0,0,(B60-I60)/I60)","v":-0.57017062411763764},7.5912371053779792E-2]
["Stavanger",null,null,null,null,0,0,0,0,0,null,0,0]
["Telemark",{"$f":"B16+B39","v":10758197},null,{"$f":"D16+D39","v":33880.199999999997},null,317.53640769535014,0,317.53640769535014,3343734,0,310.94,{"$f":"IF(I62=0,0,(B62-I62)/I62)","v":2.2174201057859269},2.1214406944587823E-2]
[null,null,null,null,null,0,0,0,0,0,null,0,0]
["Trondheim",{"$f":"B18+B41","v":68365128.819999993},{"$f":"C18+C41","v":2374095.4},{"$f":"D18+D41","v":222252.9},{"$f":"E18+E41","v":13685.55},307.60061542504053,173.47460642794772,299.82067026379127,{"$f":"I18+I41","v":113619777.45},0,297.3,{"$f":"IF(I64=0,0,(B64-I64)/I64)","v":-0.3982990430509773},8.4785410823789431E-3]
["Vestfold",{"$f":"B19+B42","v":0},null,{"$f":"D19+D42","v":0},null,{"$f":"IF(D65=0,0,B65/D65)","v":0},0,0,1926792,0,269.63,{"$f":"IF(I65=0,0,(B42-I65)/I65)","v":-1},-1]
["Østfold",{"$f":"B20+B43","v":11245702},{"$f":"C20+C43","v":773181},{"$f":"D20+D43","v":38609},{"$f":"E20+E43","v":3811},{"$f":"IF(D66=0,0,B66/D66)","v":291.27151700380739},202.88139595906586,283.33057520037715,14082066,500850,279.12,{"$f":"IF(I66=0,0,(B66-I66)/I66)","v":-0.20141675234301556},1.5085179135773681E-2]
["Oslo",{"$f":"B21+B44","v":27096689},{"$f":"C21+C44","v":0},{"$f":"D21+D44","v":82042},{"$f":"E21+E44","v":0},330.27825991565294,0,330.27825991565294,{"$f":"I21+I44","v":20651794},{"$f":"J21+J44","v":1477955},311.81,0.31207434085387448,5.9229209825383843E-2]
["Landet i alt",{"$f":"SUM(B53:B67)","v":207273096.31999999},{"$f":"SUM(C53:C67)","v":3147276.4},{"$f":"SUM(D53:D67)","v":679988.05},{"$f":"SUM(E53:E67)","v":17496.55},{"$f":"IF(D68=0,0,B68/D68)","v":304.81873368215804},{"$f":"IF(E68=0,0,C68/E68)","v":179.87982773746825},{"$f":"IF(D68+E68=0,0,(B68+C68)/(D68+E68))","v":301.68461457070157},291865194.54999995,1902698,291.61,-0.28983277146295133,3.4548247901997724E-2]

{"sheet":"TØMRERE","index":3,"n_rows":62,"n_cols":13,"rows_kept":62,"cut":false,"hidden":false,"merged":[]}
[]
[{"$f":"\"MÅLESTATISTIKK FOR TØMRERE - 1. HALVÅR \"&FORS!$A$14","v":"MÅLESTATISTIKK FOR TØMRERE - 1. HALVÅR 2018"}]
[]
[null,"Målesum i kroner",null,"Timer",null,{"$f":"\"Fortjeneste 1. halvår  \"&FORS!$A$14-0","v":"Fortjeneste 1. halvår  2018"},null,null,{"$f":"\" 1. halvår  \"&FORS!$A$14-1","v":" 1. halvår  2017"},null,null,"Endringer i %"]
[null,"Innmålt m/","Innmålt m/","Innmålt m/","Innmålt m/","Innmålt m/","Innmålt m/","Gjennom-","Innmålt m/","Innmålt m/","Gjen.snitt","Innmålt m/","Gjen.snitt"]
[null,"overskudd","underskudd","overskudd","underskudd","overskudd","underskudd","snitt","overskudd","underskudd","fortjeneste","overskudd","fortjeneste"]
["Agder",300361,null,982,null,{"$f":"IF(D7=0,0,B7/D7)","v":305.86659877800406},{"$f":"IF(E7=0,0,C7/E7)","v":0},{"$f":"IF(D7+E7=0,0,(B7+C7)/(D7+E7))","v":305.86659877800406},3407196,null,282.39999999999998,{"$f":"IF(I7=0,0,(B7-I7)/I7)","v":-0.91184510665074747},{"$f":"IF(K7=0,0,(H7-K7)/K7)","v":8.3097021168569707E-2}]
["Bergen",5035505.84,null,18735.68,null,{"$f":"IF(D8=0,0,B8/D8)","v":268.76557669644228},{"$f":"IF(E8=0,0,C8/E8)","v":0},{"$f":"IF(D8+E8=0,0,(B8+C8)/(D8+E8))","v":268.76557669644228},608630.69999999995,null,269.08,{"$f":"IF(I8=0,0,(B8-I8)/I8)","v":7.2734995786443237},{"$f":"IF(K8=0,0,(H8-K8)/K8)","v":-1.1685123515597707E-3}]
["Drammen - Bærum",null,null,null,null,0,0,0,null,null,0,{"$f":"IF(I9=0,0,(B9-I9)/I9)","v":0},0]
["Glåmdal",null,null,null,null,0,0,0]
["Hamar og Omegn",3562718.3,null,14452.94,null,246.50474574723202,0,246.50474574723202,3602527.26,468965,248.45,{"$f":"IF(I11=0,0,(B11-I11)/I11)","v":-1.1050286958827888E-2},{"$f":"IF(K11=0,0,(H11-K11)/K11)","v":-7.8295602848378627E-3}]
["Nordland",null,null,null,null,0,0,0,null,null,null,0,0]
["Stavanger",null,null,null,null,0,0,0,null,null,null,0,0]
["Telemark",9576000,173440,35717,896.5,268.10762382058965,193.46346904629112,266.27992407172218,15434444,null,292.89,-0.37956948756949066,-9.08534805841026E-2]
["Trondheim",71307436.090000004,439937.4,236677.97,3550.35,{"$f":"IF(D15=0,0,B15/D15)","v":301.28463620843127},{"$f":"IF(E15=0,0,C15/E15)","v":123.91381131437747},{"$f":"IF(D15+E15=0,0,(B15+C15)/(D15+E15))","v":298.66326122582052},69986011,3310472,281.27999999999997,{"$f":"IF(I15=0,0,(B15-I15)/I15)","v":1.8881274573571617E-2},{"$f":"IF(K15=0,0,(H15-K15)/K15)","v":6.1800558965516741E-2}]
["Tromsø",null,null,null,null,{"$f":"IF(D16=0,0,B16/D16)","v":0},0,0,null,null,null,{"$f":"IF(I16=0,0,(B16-I16)/I16)","v":0},{"$f":"IF(K16=0,0,(H16-K16)/K16)","v":0}]
["Vestfold",3784923,776347,12601,4424,300.36687564479007,175.48530741410488,267.91600587371511,4939638,379041,256.95999999999998,-0.23376510586403296,{"$f":"IF(K17=0,0,(H17-K17)/K17)","v":4.2637009159850282E-2}]
["Østfold",9648703,3093295,34882,15964,{"$f":"IF(D18=0,0,B18/D18)","v":276.60979875007166},193.76691305437234,250.59981119458757,5937413,81752,286.25,0.62506852731989504,{"$f":"IF(K18=0,0,(H18-K18)/K18)","v":-0.12454214429838402}]
["Oslo",47870933.479999997,3277809.4,133674.79999999999,15780.03,{"$f":"IF(D19=0,0,B19/D19)","v":358.11486892069411},{"$f":"IF(E19=0,0,C19/E19)","v":207.71883196673261},{"$f":"IF(D19+E19=0,0,(B19+C19)/(D19+E19))","v":342.23546258090153},34751903.240000002,5464376.7400000002,"348.26",{"$f":"IF(I19=0,0,(B19-I19)/I19)","v":0.37750537429270287},{"$f":"IF(K19=0,0,(H19-K19)/K19)","v":{"$error":"#VALUE!"}}]
["Landet i alt",{"$f":"SUM(B7:B19)","v":151086580.71000001},{"$f":"SUM(C7:C19)","v":7760828.8000000007},{"$f":"SUM(D7:D19)","v":487723.38999999996},{"$f":"SUM(E7:E19)","v":40614.879999999997},{"$f":"IF(D20=0,0,B20/D20)","v":309.77923923230344},{"$f":"IF(E20=0,0,C20/E20)","v":191.08338618752538},{"$f":"IF(D20+E20=0,0,(B20+C20)/(D20+E20))","v":300.65474815973494},{"$f":"SUM(I7:I19)","v":138667763.20000002},{"$f":"SUM(J7:J19)","v":9704606.7400000002},284.38,8.9558071922515789E-2,{"$f":"IF(K20=0,0,(H20-K20)/K20)","v":5.722887741660785E-2}]
[null,null,null,null,null,null,null,null,null,null,null,0,0]
[null,null,null,null,null,null,null,null,null,null,null,0,0]
[{"$f":"\"MÅLESTATISTIKK FOR TØMRERE - 2. HALVÅR \"&FORS!$A$14","v":"MÅLESTATISTIKK FOR TØMRERE - 2. HALVÅR 2018"}]
[]
[null,"Målesum i kroner",null,"Timer",null,{"$f":"\"Fortjeneste 2. halvår  \"&FORS!$A$14-0","v":"Fortjeneste 2. halvår  2018"},null,null,{"$f":"\" 2. halvår  \"&FORS!$A$14-1","v":" 2. halvår  2017"},null,null,"Endringer i %"]
[null,"Innmålt m/","Innmålt m/","Innmålt m/","Innmålt m/","Innmålt m/","Innmålt m/","Gjennom-","Innmålt m/","Innmålt m/","Gjen.snitt","Innmålt m/","Gjen.snitt"]
[null,"overskudd","underskudd","overskudd","underskudd","overskudd","underskudd","snitt","overskudd","underskudd","fortjeneste","overskudd","fortjeneste"]
["Agder",4299345,null,14553,null,{"$f":"IF(D28=0,0,B28/D28)","v":295.42671614100186},{"$f":"IF(E28=0,0,C28/E28)","v":0},{"$f":"IF(D28+E28=0,0,(B28+C28)/(D28+E28))","v":295.42671614100186},1135199,null,322.41000000000003,{"$f":"IF(I28=0,0,(B28-I28)/I28)","v":2.7873051332850012},{"$f":"IF(K28=0,0,(H28-K28)/K28)","v":-8.3692453270674483E-2}]
["Bergen",1561417.19,null,5674,null,{"$f":"IF(D29=0,0,B29/D29)","v":275.1880842439196},0,275.1880842439196,3267203.13,null,257.62,{"$f":"IF(I29=0,0,(B29-I29)/I29)","v":-0.52209362936059622},{"$f":"IF(K29=0,0,(H29-K29)/K29)","v":6.8193790248892161E-2}]
["Drammen - Bærum",null,null,null,null,{"$f":"IF(D30=0,0,B30/D30)","v":0},0,0,null,null,null,null,0]
[null,null,null,null,null,0,0,0,null,null,null,null,0]
["Hamar og Omegn",20101763,null,83646.25,null,240.31875905973072,0,240.31875905973072,7245378.2000000002,null,241.72,{"$f":"IF(I32=0,0,(B32-I32)/I32)","v":1.7744256331574244},-5.7969590446354273E-3]
["Nordland",null,null,null,null,0,0,0,null,null,null,null,0]
["Stavanger",null,null,null,null,0,0,0,null,null,null,0,0]
["Telemark",9720910,null,31707,null,306.58561200996627,0,306.58561200996627,8152449,2613000,264.7,{"$f":"IF(I35=0,0,(B35-I35)/I35)","v":0.19239139061158186},{"$f":"IF(K35=0,0,(H36-K35)/K35)","v":7.1819010235895001E-2}]
["Trondheim",87912044.060000002,17072316.91,292157.55,77882.91,300.90628861037482,219.20491812645417,283.7104920094414,83255433,2144152,297.29000000000002,{"$f":"IF(I36=0,0,(B36-I36)/I36)","v":5.59316178200647E-2},{"$f":"IF(K36=0,0,(H36/K36)/K36)","v":3.2100721583101762E-3}]
[null,null,null,null,null,0,0,0,null,null,0,0,0]
["Vestfold",6728094,null,22334,null,{"$f":"IF(D38=0,0,B38/D38)","v":301.24894779260319},0,301.24894779260319,5080725,null,264.64999999999998,0.32423896195916924,0.13829188661478639]
["Østfold",4310033,3256160,13508,15134,319.07262363044123,215.15527950310559,264.16426925494028,5976593.5,null,282.54000000000002,-0.27884789219812256,-6.5037625628441065E-2]
["Oslo",57464533.270000003,null,168322.8,null,{"$f":"IF(D40=0,0,B40/D40)","v":341.39482749811674},0,{"$f":"IF(D40+E40=0,0,(B40+C40)/(D40+E40))","v":341.39482749811674},38983352.170000002,null,312.27999999999997,0.47407880726640961,9.3233084085169629E-2]
["Landet i alt",{"$f":"SUM(B28:B40)","v":192098139.52000001},{"$f":"SUM(C28:C40)","v":20328476.91},{"$f":"SUM(D28:D40)","v":631902.6},{"$f":"SUM(E28:E40)","v":93016.91},{"$f":"IF(D41=0,0,B41/D41)","v":303.99960297678791},{"$f":"IF(E41=0,0,C41/E41)","v":218.54603544667307},{"$f":"IF(D41+E41=0,0,(B41+C41)/(D41+E41))","v":293.03476248004415},{"$f":"SUM(I28:I40)","v":153096333},{"$f":"SUM(J28:J40)","v":4757152},288.43,0.2547533683906068,1.5964922095635489E-2]
[]
[]
[{"$f":"\"MÅLESTATISTIKK FOR TØMRERE - GJENNOMSNITT HELE ÅRET  \"&FORS!$A$14","v":"MÅLESTATISTIKK FOR TØMRERE - GJENNOMSNITT HELE ÅRET  2018"}]
[]
[null,"Målesum i kroner",null,"Timer",null,{"$f":"\"Fortjeneste hele  \"&FORS!$A$14-0","v":"Fortjeneste hele  2018"},null,null,{"$f":"\" Hele året  \"&FORS!$A$14-1","v":" Hele året  2017"},null,null,"Endringer i %"]
[null,"Innmålt m/","Innmålt m/","Innmålt m/","Innmålt m/","Innmålt m/","Innmålt m/","Gjennom-","Innmålt m/","Innmålt m/","Gjen.snitt","Innmålt m/","Gjen.snitt"]
[null,"overskudd","underskudd","overskudd","underskudd","overskudd","underskudd","snitt","overskudd","underskudd","fortjeneste","overskudd","fortjeneste"]
["Agder",{"$f":"B7+B28","v":4599706},null,{"$f":"D7+D28","v":15535},null,{"$f":"IF(D49=0,0,B49/D49)","v":296.08664306404893},{"$f":"IF(E49=0,0,C49/E49)","v":0},{"$f":"IF(D49+E49=0,0,(B49+C49)/(D49+E49))","v":296.08664306404893},{"$f":"I7+I28","v":4542395},{"$f":"J7+J28","v":0},263,{"$f":"IF(I49=0,0,(B49-I49)/I49)","v":1.2616912443765898E-2},{"$f":"IF(K49=0,0,(H49-K49)/K49)","v":0.12580472647927349}]
["Bergen",{"$f":"B8+B29","v":6596923.0299999993},null,{"$f":"D8+D29","v":24409.68},null,{"$f":"IF(D50=0,0,B50/D50)","v":270.25848065193804},{"$f":"IF(E50=0,0,C50/E50)","v":0},{"$f":"IF(D50+E50=0,0,(B50+C50)/(D50+E50))","v":270.25848065193804},{"$f":"I8+I29","v":3875833.83},{"$f":"J8+J29","v":0},245,{"$f":"IF(I50=0,0,(B50-I50)/I50)","v":0.7020654959296847},{"$f":"IF(K50=0,0,(H50-K50)/K50)","v":0.10309583939566548}]
["Drammen - Bærum",null,null,null,null,0,0,0,0,0,0,{"$f":"IF(I51=0,0,(B51-I51)/I51)","v":0},0]
[null,null,null,null,null,0,0,0,{"$f":"I10+I31","v":0},0,null,0,0]
["Hamar og Omegn",{"$f":"B11+B32","v":23664481.300000001},{"$f":"C11+C32","v":0},{"$f":"D11+D32","v":98099.19},{"$f":"E11+E32","v":0},241.23013961685106,0,241.23013961685106,{"$f":"I11+I32","v":10847905.460000001},468965,271,1.1814793083567303,{"$f":"IF(K53=0,0,(H53-K53)/K53)","v":-0.1098518833326529}]
["Nordland",null,null,null,null,0,0,{"$f":"IF(D54+E54=0,0,(B54+C54)/(D54+E54))","v":0},0,0]
["Stavanger",null,null,null,null,0,0,{"$f":"IF(D55+E55=0,0,(B55+C55)/(D55+E55))","v":0},0,0,308,0,{"$f":"IF(K55=0,0,(H55-K55)/K55)","v":-1}]
["Telemark",{"$f":"B14+B35","v":19296910},173440,{"$f":"D14+D35","v":67424},896.5,{"$f":"IF(D56=0,0,B56/D56)","v":286.20239084005698},193.46346904629112,284.9854728814924,23586893,2613000,244,{"$f":"IF(I56=0,0,(B56-I56)/I56)","v":-0.18187995341310956},{"$f":"IF(K56=0,0,(H56-K56)/K56)","v":0.16797324951431311}]
["Trondheim",{"$f":"B15+B36","v":159219480.15000001},{"$f":"C15+C36","v":17512254.309999999},{"$f":"D15+D36","v":528835.52},{"$f":"E15+E36","v":81433.260000000009},{"$f":"IF(D57=0,0,B57/D57)","v":301.07561638446674},215.05038985299123,{"$f":"IF(D57+E57=0,0,(B57+C57)/(D57+E57))","v":289.59655196518491},153241444,5454624,273,{"$f":"IF(I57=0,0,(B57-I57)/I57)","v":3.9010570469435187E-2},6.0793230641702986E-2]
[null,null,null,null,null,0,0,null,0,0,null,0,0]
["Vestfold",{"$f":"B17+B38","v":10513017},{"$f":"C17+C38","v":776347},34935,4424,{"$f":"IF(D59=0,0,B59/D59)","v":300.9307857449549},175.48530741410488,{"$f":"IF(D59+E59=0,0,(B59+C58)/(D59+E59))","v":267.10579537081736},10020363,379041,230,{"$f":"IF(I59=0,0,(B59-I59)/I59)","v":4.916528473070287E-2},0.16132954509051026]
["Østfold",13958736,{"$f":"C18+C39","v":6349455},{"$f":"D18+D39","v":48390},{"$f":"E18+E39","v":31098},{"$f":"IF(D60=0,0,B60/D60)","v":288.46323620582763},{"$f":"IF(E60=0,0,C60/E60)","v":204.17567046112291},{"$f":"IF(D60+E60=0,0,(B60+C60)/(D60+E60))","v":255.48750754830917},11914006.5,81752,281,{"$f":"IF(I60=0,0,(B60-I60)/I60)","v":0.17162400406613845},-9.0791788084309016E-2]
["Oslo",{"$f":"B19+B40","v":105335466.75},{"$f":"C19+C40","v":3277809.4},{"$f":"D19+D40","v":301997.59999999998},{"$f":"E19+E40","v":15780.03},{"$f":"IF(D61=0,0,B61/D61)","v":348.79570814470054},207.71883196673261,{"$f":"IF(D61+E61=0,0,(B61+C61)/(D61+E61))","v":341.79018878704585},73735255.409999996,5464376.7400000002,296,{"$f":"IF(I61=0,0,(B61-I61)/I61)","v":0.42856312308527483},{"$f":"IF(K61=0,0,(H61-K61)/K61)","v":0.15469658374001977}]
["Landet i alt",{"$f":"SUM(B49:B61)","v":343184720.23000002},{"$f":"SUM(C49:C61)","v":28089305.709999997},{"$f":"SUM(D49:D61)","v":1119625.99},{"$f":"SUM(E49:E61)","v":133631.79},{"$f":"IF(D62=0,0,B62/D62)","v":306.51728639311062},{"$f":"IF(E62=0,0,C62/E62)","v":210.1992775072458},{"$f":"IF(D62+E62=0,0,(B62+C62)/(D62+E62))","v":296.24713436049842},{"$f":"I20+I41","v":291764096.20000005},14461758.74,295.39999999999998,0.17624041031680568,2.8677534207801085E-3]

{"sheet":"MALERE","index":4,"n_rows":56,"n_cols":13,"rows_kept":56,"cut":false,"hidden":false,"merged":[]}
[]
[{"$f":"\"MÅLESTATISTIKK FOR MALERE - 1. HALVÅR \"&FORS!$A$14","v":"MÅLESTATISTIKK FOR MALERE - 1. HALVÅR 2018"}]
[]
[null,"Målesum i kroner",null,"Timer",null,{"$f":"\"Fortjeneste 1. halvår  \"&FORS!$A$14-0","v":"Fortjeneste 1. halvår  2018"},null,null,{"$f":"\" 1. halvår  \"&FORS!$A$14-1","v":" 1. halvår  2017"},null,null,"Endringer i %"]
[null,"Innmålt m/","Innmålt m/","Innmålt m/","Innmålt m/","Innmålt m/","Innmålt m/","Gjennom-","Innmålt m/","Innmålt m/","Gjen.snitt","Innmålt m/","Gjen.snitt"]
[null,"overskudd","underskudd","overskudd","underskudd","overskudd","underskudd","snitt","overskudd","underskudd","fortjeneste","overskudd","fortjeneste"]
["Agder",null,null,null,null,{"$f":"IF(D7=0,0,B7/D7)","v":0},null,{"$f":"IF(D7+E7=0,0,(B7+C7)/(D7+E7))","v":0},null,null,0,{"$f":"IF(I7=0,0,(B7-I7)/I7)","v":0},{"$f":"IF(K7=0,0,(H7-K7)/K7)","v":0}]
["Bergen",1489529.86,null,5725.84,null,{"$f":"IF(D8=0,0,B8/D8)","v":260.14171894429467},{"$f":"IF(E8=0,0,C8/E8)","v":0},{"$f":"IF(D8+E8=0,0,(B8+C8)/(D8+E8))","v":260.14171894429467},3257022.86,null,240.53,{"$f":"IF(I8=0,0,(B8-I8)/I8)","v":-0.54267135232818098},{"$f":"IF(K8=0,0,(H8-K8)/K8)","v":8.1535438175257408E-2}]
["Glåmdal",null,null,null,null,0,0,{"$f":"IF(D9+E9=0,0,(B9+C9)/(D9+E9))","v":0},null,null,0,0,{"$f":"IF(K9=0,0,(H9-K9)/K9)","v":0}]
["Hamar og Omegn",1997274,null,6341,null,{"$f":"IF(D10=0,0,B10/D10)","v":314.97776375965935},{"$f":"IF(E10=0,0,C10/E10)","v":0},314.97776375965935,1954570,347493,276.76,2.1848283765738757E-2,0.13808991096856252]
["Nordland",null,null,null,null,0,{"$f":"IF(E11=0,0,C11/E11)","v":0},0,null,null,0,0,0]
["Sandnes",null,null,null,null,0,0,0,null,null,0,0,0]
["Telemark",66992,null,177.5,null,{"$f":"IF(D13=0,0,B13/D13)","v":377.41971830985915},0,377.41971830985915,135872,null,351.54,-0.50694771549693829,7.3618132530747935E-2]
["Tromsø",null,null,null,null,0,0,{"$f":"IF(D14+E14=0,0,(B14+C14)/(D14+E14))","v":0},null,null,0,0,{"$f":"IF(K14=0,0,(H14-K14)/K14)","v":0}]
["Trondheim",19801825,1951159,72279.839999999997,10169.09,{"$f":"IF(D15=0,0,B15/D15)","v":273.96055386951605},{"$f":"IF(E15=0,0,C15/E15)","v":191.8715440614647},{"$f":"IF(D15+E15=0,0,(B15+C15)/(D15+E15))","v":263.83585572305185},17167583,2462157,239.55,0.15344279972317595,0.10138115517867601]
["Vestfold",782636.75,null,2263.5,null,{"$f":"IF(D16=0,0,B16/D16)","v":345.76397172520433},{"$f":"IF(E16=0,0,C16/E16)","v":0},{"$f":"IF(D16+E16=0,0,(B16+C16)/(D16+E16))","v":345.76397172520433},202751.29,null,377.91,2.860082715133403,-8.5062655856674066E-2]
["Oslo",7241015,null,22810,null,317.44914511179309,0,317.44914511179309,3159454,null,301.33,1.2918564410179734,5.3493329943228696E-2]
["Landet i alt",{"$f":"SUM(B7:B17)","v":31379272.609999999},{"$f":"SUM(C7:C17)","v":1951159},{"$f":"SUM(D7:D17)","v":109597.68},{"$f":"SUM(E7:E17)","v":10169.09},{"$f":"IF(D18=0,0,B18/D18)","v":286.31329248940307},{"$f":"IF(E18=0,0,C18/E18)","v":191.8715440614647},{"$f":"IF(D18+E18=0,0,(B18+C18)/(D18+E18))","v":278.29448527333585},{"$f":"SUM(I7:I17)","v":25877253.149999999},{"$f":"SUM(J7:J17)","v":2809650},255.14,0.21261991866397154,9.0752078362216299E-2]
[]
[]
[{"$f":"\"MÅLESTATISTIKK FOR MALERE - 2. HALVÅR \"&FORS!$A$14","v":"MÅLESTATISTIKK FOR MALERE - 2. HALVÅR 2018"}]
[]
[null,"Målesum i kroner",null,"Timer",null,{"$f":"\"Fortjeneste 2. halvår  \"&FORS!$A$14-0","v":"Fortjeneste 2. halvår  2018"},null,null,{"$f":"\" 2. halvår  \"&FORS!$A$14-1","v":" 2. halvår  2017"},null,null,"Endringer i %"]
[null,"Innmålt m/","Innmålt m/","Innmålt m/","Innmålt m/","Innmålt m/","Innmålt m/","Gjennom-","Innmålt m/","Innmålt m/","Gjen.snitt","Innmålt m/","Gjen.snitt"]
[null,"overskudd","underskudd","overskudd","underskudd","overskudd","underskudd","snitt","overskudd","underskudd","fortjeneste","overskudd","fortjeneste"]
["Agder",null,null,null,null,{"$f":"IF(D26=0,0,B26/D26)","v":0},{"$f":"IF(E26=0,0,C26/E26)","v":0},{"$f":"IF(D26+E26=0,0,(B26+C26)/(D26+E26))","v":0},null,null,0,{"$f":"IF(I26=0,0,(B26-I26)/I26)","v":0},{"$f":"IF(K26=0,0,(H26-K26)/K26)","v":0}]
["Bergen",1491296.18,null,5441.49,null,{"$f":"IF(D27=0,0,B27/D27)","v":274.06026290593201},{"$f":"IF(E27=0,0,C27/E27)","v":0},{"$f":"IF(D27+E27=0,0,(B27+C27)/(D27+E27))","v":274.06026290593201},2776450.83,null,241.52,{"$f":"IF(I27=0,0,(B27-I27)/I27)","v":-0.46287679079841659},{"$f":"IF(K27=0,0,(H27-K27)/K27)","v":0.13473113160786682}]
["Glåmdal",null,null,null,null,0,0,0,null,null,0,0,0]
["Hamar og Omegn",2032772.51,null,5885,null,345.41588954970263,{"$f":"IF(E29=0,0,C29/E29)","v":0},345.41588954970263,1815663,null,326.38,0.11957588495221856,5.8324313835721037E-2]
["Nordland",null,null,null,null,0,0,0,null,null,0,0,0]
["Sandnes",null,null,null,null,0,0,0,null,null,0,0,0]
["Telemark",286665,null,649.5,null,441.36258660508082,0,441.36258660508082,368682,null,384.44,-0.22246000618419126,0.1480662433801915]
["Tromsø",null,null,null,null,0,0,0,null,null,0,0,0]
["Trondheim",20787622,4342459,71947.23,25159.98,288.92873290604797,172.59389713346354,258.7869736963919,20237675,5535263,259.11,2.717441603346234E-2,-1.2466763290035772E-3]
["Vestfold",327380.11,null,861,null,{"$f":"IF(D35=0,0,B35/D35)","v":380.23241579558652},{"$f":"IF(E35=0,0,C35/E35)","v":0},{"$f":"IF(D35+E35=0,0,(B35+C35)/(D35+E35))","v":380.23241579558652},319077,null,409.6,2.6022276754513757E-2,-7.1698203624056406E-2]
["Oslo*",6986621,1430172,23079,9352,302.72633129684993,152.92686056458513,259.52924670839627,1228677,null,278.3,{"$f":"IF(I36=0,0,(B36-I36)/I36)","v":4.6862959101537669},-6.7447909779388207E-2]
["Landet i alt",{"$f":"SUM(B26:B36)","v":31912356.800000001},{"$f":"SUM(C26:C36)","v":5772631},{"$f":"SUM(D26:D36)","v":107863.22},{"$f":"SUM(E26:E36)","v":34511.979999999996},{"$f":"IF(D37=0,0,B37/D37)","v":295.85948574500185},{"$f":"IF(E37=0,0,C37/E37)","v":167.26455567023396},{"$f":"IF(D37+E37=0,0,(B37+C37)/(D37+E37))","v":264.68786558333187},{"$f":"SUM(I26:I36)","v":26746224.829999998},{"$f":"SUM(J26:J36)","v":5535263},264.11,0.19315368814986525,2.1879731298771595E-3]
["* inklusive Buskerud"]
[]
[{"$f":"\"MÅLESTATISTIKK FOR MALERE - GJENNOMSNITT HELE ÅRET  \"&FORS!$A$14","v":"MÅLESTATISTIKK FOR MALERE - GJENNOMSNITT HELE ÅRET  2018"}]
[]
[null,"Målesum i kroner",null,"Timer",null,{"$f":"\"Fortjeneste hele  \"&FORS!$A$14-0","v":"Fortjeneste hele  2018"},null,null,{"$f":"\" Hele året  \"&FORS!$A$14-1","v":" Hele året  2017"},null,null,"Endringer i %"]
[null,"Innmålt m/","Innmålt m/","Innmålt m/","Innmålt m/","Innmålt m/","Innmålt m/","Gjennom-","Innmålt m/","Innmålt m/","Gjen.snitt","Innmålt m/","Gjen.snitt"]
[null,"overskudd","underskudd","overskudd","underskudd","overskudd","underskudd","snitt","overskudd","underskudd","fortjeneste","overskudd","fortjeneste"]
["Agder",null,null,null,null,{"$f":"IF(D45=0,0,B45/D45)","v":0},{"$f":"IF(E45=0,0,C45/E45)","v":0},{"$f":"IF(D45+E45=0,0,(B45+C45)/(D45+E45))","v":0},{"$f":"I7+I26","v":0},{"$f":"J7+J26","v":0},0,{"$f":"IF(I45=0,0,(B45-I45)/I45)","v":0},{"$f":"IF(K45=0,0,(H45-K45)/K45)","v":0}]
["Bergen",{"$f":"B8+B27","v":2980826.04},null,{"$f":"D8+D27","v":11167.33},null,{"$f":"IF(D46=0,0,B46/D46)","v":266.92378930326231},{"$f":"IF(E46=0,0,C46/E46)","v":0},{"$f":"IF(D46+E46=0,0,(B46+C46)/(D46+E46))","v":266.92378930326231},{"$f":"I8+I27","v":6033473.6899999995},0,229,{"$f":"IF(I46=0,0,(B46-I46)/I46)","v":-0.50595192866416561},{"$f":"IF(K46=0,0,(H46-K46)/K46)","v":0.16560606682647297}]
[null,null,null,null,null,0,0,0,0,0,0,0,0]
["Hamar og Omegn",{"$f":"B10+B29","v":4030046.51},{"$f":"C10+C29","v":0},{"$f":"D10+D29","v":12226},{"$f":"E10+E29","v":0},329.62919270407326,0,329.62919270407326,3770233,347493,227,6.8911791393263963E-2,0.45211098107521258]
["Nordland",null,null,null,null,0,0,0,0,0,0,0,0]
["Sandnes",null,null,null,null,0,0,0,0,0,0,0,0]
["Telemark",{"$f":"B13+B32","v":353657},null,{"$f":"D13+D32","v":827},null,427.63845223700122,0,427.63845223700122,504554,0,295,-0.29907006980422313,0.44962187198983461]
[null,null,null,null,null,0,0,0,0,0,0,0,0]
["Trondheim",{"$f":"B15+B34","v":40589447},{"$f":"C15+C34","v":6293618},{"$f":"D15+D34","v":144227.07},{"$f":"E15+E34","v":35329.07},281.42738391620935,178.14275892345879,261.10532895171389,37405258,7997420,253,8.5126775492365275E-2,3.2036873326932357E-2]
["Vestfold",{"$f":"B16+B35","v":1110016.8599999999},null,{"$f":"D16+D35","v":3124.5},null,355.26223715794521,0,355.26223715794521,{"$f":"I16+I35","v":521828.29000000004},0,334,1.1271688048955717,6.3659392688458702E-2]
["Oslo",{"$f":"B17+B36","v":14227636},{"$f":"C17+C36","v":1430172},{"$f":"D17+D36","v":45889},{"$f":"E17+E36","v":9352},{"$f":"IF(D55=0,0,B55/D55)","v":310.04458584846043},152.92686056458513,283.44541192230406,4388131,0,279,2.242299739912049,1.5933376065605954E-2]
["Landet i alt",{"$f":"SUM(B45:B55)","v":63291629.409999996},{"$f":"SUM(C45:C55)","v":7723790},{"$f":"SUM(D45:D55)","v":217460.90000000002},{"$f":"SUM(E45:E55)","v":44681.07},{"$f":"IF(D56=0,0,B56/D56)","v":291.0483190771306},{"$f":"IF(E56=0,0,C56/E56)","v":172.86492915232336},{"$f":"IF(D56+E56=0,0,(B56+C56)/(D56+E56))","v":270.90442407982204},52623477.979999997,8344913,260.39999999999998,0.20272608043988508,4.0339570199009446E-2]

{"sheet":"RØRLEGGERE","index":5,"n_rows":41,"n_cols":13,"rows_kept":41,"cut":false,"hidden":false,"merged":[]}
[]
[{"$f":"\"MÅLESTATISTIKK FOR RØRLEGGERE - 1. HALVÅR \"&FORS!$A$14","v":"MÅLESTATISTIKK FOR RØRLEGGERE - 1. HALVÅR 2018"}]
[]
[null,"Målesum i kroner",null,"Timer",null,{"$f":"\"Fortjeneste 1. halvår  \"&FORS!$A$14-0","v":"Fortjeneste 1. halvår  2018"},null,null,{"$f":"\" 1. halvår  \"&FORS!$A$14-1","v":" 1. halvår  2017"},null,null,"Endringer i %"]
[null,"Innmålt m/","Innmålt m/","Innmålt m/","Innmålt m/","Innmålt m/","Innmålt m/","Gjennom-","Innmålt m/","Innmålt m/","Gjen.snitt","Innmålt m/","Gjen.snitt"]
[null,"overskudd","underskudd","overskudd","underskudd","overskudd","underskudd","snitt","overskudd","underskudd","fortjeneste","overskudd","fortjeneste"]
["Bergen",null,null,null,null,{"$f":"IF(D7=0,0,B7/D7)","v":0},0,{"$f":"IF(D7+E7=0,0,(B7+C7)/(D7+E7))","v":0},null,null,0,{"$f":"IF(I7=0,0,(B7-I7)/I7)","v":0},{"$f":"IF(K7=0,0,(H7-K7)/K7)","v":0}]
["Nordland",null,null,null,null,{"$f":"IF(D22=0,0,B8/D22)","v":0},{"$f":"IF(E8=0,0,C8/E8)","v":0},{"$f":"IF(D8+E8=0,0,(B8+C8)/(D8+E8))","v":0},null,null,null,{"$f":"IF(I8=0,0,(B8-I8)/I8)","v":0},{"$f":"IF(K8=0,0,(H8-K8)/K8)","v":0}]
["Stavanger",null,null,null,null,0,0,0,null,null,0,0,0]
["Tromsø",null,null,null,null,0,0,0,null,null,0,0,0]
["Trondheim",16500631.119999999,4134145.55,51026.3,22141.599999999999,{"$f":"IF(D11=0,0,B11/D11)","v":323.37502660392772},186.71394795317411,282.01952864575861,13978670.529999999,2963212.05,275.58,0.1804149103155091,2.3367184286808288E-2]
["Oslo",9614177.7200000007,null,29226.5,null,328.95412451029034,0,{"$f":"IF(D12+E12=0,0,(B12+C12)/(D12+E12))","v":328.95412451029034},22965092,null,278.99,-0.58135688200160485,0.17908930252084423]
["Landet i alt",{"$f":"SUM(B7:B12)","v":26114808.84},{"$f":"SUM(C7:C12)","v":4134145.55},{"$f":"SUM(D7:D12)","v":80252.800000000003},{"$f":"SUM(E7:E12)","v":22141.599999999999},325.40682493321106,186.71394795317411,295.41610078285532,{"$f":"SUM(I7:I12)","v":36943762.530000001},1684944,253.19,{"$f":"IF(I13=0,0,(B13-I13)/I13)","v":-0.29311994632940819},{"$f":"IF(K13=0,0,(H13-K13)/K13)","v":0.16677633707040296}]
[]
[]
[{"$f":"\"MÅLESTATISTIKK FOR RØRLEGGERE - 2. HALVÅR \"&FORS!$A$14","v":"MÅLESTATISTIKK FOR RØRLEGGERE - 2. HALVÅR 2018"}]
[]
[null,"Målesum i kroner",null,"Timer",null,{"$f":"\"Fortjeneste 2. halvår  \"&FORS!$A$14-0","v":"Fortjeneste 2. halvår  2018"},null,null,{"$f":"\" 2. halvår  \"&FORS!$A$14-1","v":" 2. halvår  2017"},null,null,"Endringer i %"]
[null,"Innmålt m/","Innmålt m/","Innmålt m/","Innmålt m/","Innmålt m/","Innmålt m/","Gjennom-","Innmålt m/","Innmålt m/","Gjen.snitt","Innmålt m/","Gjen.snitt"]
[null,"overskudd","underskudd","overskudd","underskudd","overskudd","underskudd","snitt","overskudd","underskudd","fortjeneste","overskudd","fortjeneste"]
["Bergen",null,null,null,null,{"$f":"IF(D21=0,0,B21/D21)","v":0},0,{"$f":"IF(D21+E21=0,0,(B21+C21)/(D21+E21))","v":0},null,null,null,{"$f":"IF(I21=0,0,(B21-I21)/I21)","v":0},{"$f":"IF(K21=0,0,(H21-K21)/K21)","v":0}]
["Nordland",null,2314573.0699999998,null,11009,{"$f":"IF(D22=0,0,B22/D22)","v":0},{"$f":"IF(E22=0,0,C22/E22)","v":210.2437160505041},{"$f":"IF(D22+E22=0,0,(B22+C22)/(D22+E22))","v":210.2437160505041},null,null,null,{"$f":"IF(I22=0,0,(B22-I22)/I22)","v":0},{"$f":"IF(K22=0,0,(H22-K22)/K22)","v":0}]
["Stavanger",null,null,null,null,0,0,0,null,null,0,0,0]
["Tromsø",null,null,null,null,0,0,0,null,null,0,0,0]
["Trondheim",9514387.8399999999,3379999.96,32098.6,16224.5,{"$f":"IF(D25=0,0,B25/D25)","v":296.41130267363684},{"$f":"IF(E25=0,0,C25/E25)","v":208.32691053653426},{"$f":"IF(D25+E25=0,0,(B25+C25)/(D25+E25))","v":266.83693306099985},14614313.09,778854.67,275.77999999999997,-0.34896783848771368,-3.2428265062731595E-2]
["Oslo",18115076,8509512,67230,37339,269.449293470177,{"$f":"IF(E26=0,0,C26/E26)","v":227.89876536597123},254.61262898182062,22002906.620000001,423162.83,270.20999999999998,{"$f":"IF(I26=0,0,(C25-I26)/I26)","v":-0.84638393379683396},-5.7723145028605011E-2]
["Landet i alt",{"$f":"SUM(B21:B26)","v":27629463.84},{"$f":"SUM(C21:C26)","v":14204085.029999999},{"$f":"SUM(D25:D26)","v":99328.6},{"$f":"SUM(E21:E26)","v":64572.5},{"$f":"IF(D27=0,0,B27/D27)","v":278.162219542005},219.97111820047232,255.23653514222903,{"$f":"SUM(I21:I26)","v":36617219.710000001},{"$f":"SUM(J21:J26)","v":1202017.5},261.11,{"$f":"IF(I27=0,0,(B27-I27)/I27)","v":-0.24545161924310394},-2.2494216451958881E-2]
[]
[]
[{"$f":"\"MÅLESTATISTIKK FOR RØRLEGGERE - GJENNOMSNITT HELE ÅRET  \"&FORS!$A$14","v":"MÅLESTATISTIKK FOR RØRLEGGERE - GJENNOMSNITT HELE ÅRET  2018"}]
[]
[null,"Målesum i kroner",null,"Timer",null,{"$f":"\"Fortjeneste hele  \"&FORS!$A$14-0","v":"Fortjeneste hele  2018"},null,null,{"$f":"\" Hele året  \"&FORS!$A$14-1","v":" Hele året  2017"},null,null,"Endringer i %"]
[null,"Innmålt m/","Innmålt m/","Innmålt m/","Innmålt m/","Innmålt m/","Innmålt m/","Gjennom-","Innmålt m/","Innmålt m/","Gjen.snitt","Innmålt m/","Gjen.snitt"]
[null,"overskudd","underskudd","overskudd","underskudd","overskudd","underskudd","snitt","overskudd","underskudd","fortjeneste","overskudd","fortjeneste"]
["Bergen",null,null,null,null,{"$f":"IF(D35=0,0,B35/D35)","v":0},0,{"$f":"IF(D35+E35=0,0,(B35+C35)/(D35+E35))","v":0},{"$f":"I7+I21","v":0},{"$f":"J7+J21","v":0},null,{"$f":"IF(I35=0,0,(B35-I35)/I35)","v":0},{"$f":"IF(K35=0,0,(H35-K35)/K35)","v":0}]
["Nordland",{"$f":"B8+B22","v":0},{"$f":"C8+C22","v":2314573.0699999998},{"$f":"D22+D8","v":0},{"$f":"E22+E8","v":11009},{"$f":"IF(D36=0,0,B36/D36)","v":0},{"$f":"IF(E36=0,0,C36/E36)","v":210.2437160505041},{"$f":"IF(D36+E36=0,0,(B36+C36)/(D36+E36))","v":210.2437160505041},{"$f":"I8+I22","v":0},0,null,{"$f":"IF(I36=0,0,(B36-I36)/I36)","v":0},{"$f":"IF(K36=0,0,(H36-K36)/K36)","v":0}]
["Stavanger",null,null,null,null,0,0,0,0,0,0,0,0]
["Tromsø",null,null,null,null,0,0,0,0,0,0,0,0]
["Trondheim",{"$f":"B11+B25","v":26015018.960000001},{"$f":"C11+C25","v":7514145.5099999998},83124.899999999994,38366.1,312.96301060211806,195.85377481683048,275.98064440987395,28592983.619999997,3742066.7199999997,259.14,-9.016074342786605E-2,6.4986665161202287E-2]
["Oslo",{"$f":"B12+B26","v":27729253.719999999},8509512,96456.5,37339,287.47936862730865,227.89876536597123,270.8519024929837,44967998.620000005,423162.83,260.74,-0.3833558403538308,3.8781554395120377E-2]
["Landet i alt",{"$f":"SUM(B35:B40)","v":53744272.68},{"$f":"SUM(C35:C40)","v":18338230.579999998},{"$f":"SUM(D35:D40)","v":179581.4},{"$f":"SUM(E35:E40)","v":86714.1},299.27527394262438,211.47922402469723,270.6861485079545,73560982.24000001,2886961.5,257.97000000000003,-0.26939158445908223,4.929312907684797E-2]

{"sheet":"TAKTEKKERE","index":6,"n_rows":56,"n_cols":13,"rows_kept":56,"cut":false,"hidden":false,"merged":[]}
[]
[{"$f":"\"MÅLESTATISTIKK FOR TAKTEKKERE - 1. HALVÅR \"&FORS!$A$14","v":"MÅLESTATISTIKK FOR TAKTEKKERE - 1. HALVÅR 2018"}]
[]
[null,"Målesum i kroner",null,"Timer",null,{"$f":"\"Fortjeneste 1. halvår  \"&FORS!$A$14-0","v":"Fortjeneste 1. halvår  2018"},null,null,{"$f":"\" 1. halvår  \"&FORS!$A$14-1","v":" 1. halvår  2017"},null,null,"Endringer i %"]
[null,"Innmålt m/","Innmålt m/","Innmålt m/","Innmålt m/","Innmålt m/","Innmålt m/","Gjennom-","Innmålt m/","Innmålt m/","Gjen.snitt","Innmålt m/","Gjen.snitt"]
[null,"overskudd","underskudd","overskudd","underskudd","overskudd","underskudd","snitt","overskudd","underskudd","fortjeneste","overskudd","fortjeneste"]
["Agder",null,null,null,null,{"$f":"IF(D7=0,0,B7/D7)","v":0},{"$f":"IF(E7=0,0,C7/E7)","v":0},{"$f":"IF(D7+E7=0,0,(B7+C7)/(D7+E7))","v":0},183152,null,285.27999999999997,{"$f":"IF(I7=0,0,(B7-I7)/I7)","v":-1},{"$f":"IF(K7=0,0,(H7-K7)/K7)","v":-1}]
["Haugesund",null,null,null,null,{"$f":"IF(D8=0,0,B8/D8)","v":0},{"$f":"IF(E8=0,0,C8/E8)","v":0},{"$f":"IF(D8+E8=0,0,(B8+C8)/(D8+E8))","v":0},null,null,0,{"$f":"IF(I8=0,0,(B8-I8)/I8)","v":0},{"$f":"IF(K8=0,0,(H8-K8)/K8)","v":0}]
["Glåmdal",null,null,null,null,0,0,0,null,null,0,0,0]
["Hamar og Omegn",995161.29,null,2448.1999999999998,null,406.48692508781966,0,406.48692508781966,1524508,44669,346.93,-0.34722461935260424,0.17166842039552546]
["Bergen",511936.26,null,1803.6,null,283.84135063206924,0,283.84135063206924,null,null,null,0,0]
["Nordland",null,null,null,null,{"$f":"IF(D12=0,0,B12/D12)","v":0},{"$f":"IF(E12=0,0,C12/E12)","v":0},{"$f":"IF(D12+E12=0,0,(B12+C12)/(D12+E12))","v":0},null,null,null,{"$f":"IF(I12=0,0,(B12-I12)/I12)","v":0},{"$f":"IF(K12=0,0,(H12-K12)/K12)","v":0}]
["Stavanger",{"$f":"6290263.8-955449","v":5334814.8},{"$f":"254974.96+9189","v":264163.95999999996},{"$f":"21065-3425","v":17640},{"$f":"1549.7+39.8","v":1589.5},{"$f":"IF(D13=0,0,B13/D13)","v":302.42714285714283},166.19311733249447,291.16611248342389,4085720,81085,298.83,0.30572207591318051,-2.5646312340046506E-2]
["Telemark",983000,null,2642,null,372.06661619984862,0,372.06661619984862,481530,null,346.18,1.0414096733329179,7.4777908024289727E-2]
["Trondheim",2106259.9500000002,204172.03,7371.2,1161.5999999999999,285.74179916431518,175.76793216253444,270.77067082317649,2642287,497773,256.19,{"$f":"IF(I15=0,0,(B15-I15)/I15)","v":-0.20286480991656083},5.691350491110695E-2]
["Vestfold",null,null,null,null,{"$f":"IF(D16=0,0,B16/D16)","v":0},0,{"$f":"IF(D16+E16=0,0,(B16+C16)/(D16+E16))","v":0},null,null,null,{"$f":"IF(I16=0,0,(B16-I16)/I16)","v":0},0]
["Oslo",3278629.35,191957.08,9050.1,1174.7,362.27548314383267,163.40944922107769,{"$f":"IF(D17+E17=0,0,(B17+C17)/(D17+E17))","v":339.42829492997419},3757451.32,307162.93,305.51,-0.12743264761710865,0.11102188121493305]
["Landet i alt",{"$f":"SUM(B7:B17)","v":13209801.65},{"$f":"SUM(C7:C17)","v":660293.06999999995},{"$f":"SUM(D7:D17)","v":40955.1},{"$f":"SUM(E7:E17)","v":3925.8},322.54350862285776,168.19325233073511,{"$f":"IF(D18+E18=0,0,(B18+C18)/(D18+E18))","v":309.04225895648261},{"$f":"SUM(I7:I17)","v":12674648.32},{"$f":"SUM(J7:J17)","v":930689.92999999993},295.13,4.2222341518979523E-2,4.7139426545870014E-2]
[]
[]
[{"$f":"\"MÅLESTATISTIKK FOR  TAKTEKKERE  - 2. HALVÅR \"&FORS!$A$14","v":"MÅLESTATISTIKK FOR  TAKTEKKERE  - 2. HALVÅR 2018"}]
[]
[null,"Målesum i kroner",null,"Timer",null,{"$f":"\"Fortjeneste 2. halvår  \"&FORS!$A$14-0","v":"Fortjeneste 2. halvår  2018"},null,null,{"$f":"\" 2. halvår  \"&FORS!$A$14-1","v":" 2. halvår  2017"},null,null,"Endringer i %"]
[null,"Innmålt m/","Innmålt m/","Innmålt m/","Innmålt m/","Innmålt m/","Innmålt m/","Gjennom-","Innmålt m/","Innmålt m/","Gjen.snitt","Innmålt m/","Gjen.snitt"]
[null,"overskudd","underskudd","overskudd","underskudd","overskudd","underskudd","snitt","overskudd","underskudd","fortjeneste","overskudd","fortjeneste"]
["Agder",24574,null,74.599999999999994,null,{"$f":"IF(D26=0,0,B26/D26)","v":329.41018766756036},{"$f":"IF(E26=0,0,C26/E26)","v":0},{"$f":"IF(D26+E26=0,0,(B26+C26)/(D26+E26))","v":329.41018766756036},null,null,null,{"$f":"IF(I26=0,0,(B26-I26)/I26)","v":0},{"$f":"IF(K26=0,0,(H26-K26)/K26)","v":0}]
["Haugesund",null,null,null,null,{"$f":"IF(D27=0,0,B27/D27)","v":0},{"$f":"IF(E27=0,0,C27/E27)","v":0},{"$f":"IF(D27+E27=0,0,(B27+C27)/(D27+E27))","v":0},null,null,0,{"$f":"IF(I27=0,0,(B27-I27)/I27)","v":0},{"$f":"IF(K27=0,0,(H27-K27)/K27)","v":0}]
["Glåmdal",null,null,null,null,0,0,0,null,null,0,0,0]
["Hamar og Omegn",554040,null,1662.7,null,333.21705659469535,0,333.21705659469535,1111820.52,9457,330.98,{"$f":"IF(I29=0,0,(B29-I29)/I29)","v":-0.50168215999467258},6.7588875300481355E-3]
["Bergen",649812.63,null,2221.6,null,{"$f":"IF(D30=0,0,B30/D30)","v":292.4975828231905},{"$f":"IF(E30=0,0,C30/E30)","v":0},{"$f":"IF(D30+E30=0,0,(B30+C30)/(D30+E30))","v":292.4975828231905},null,null,null,0,0]
["Nordland",null,null,null,null,{"$f":"IF(D31=0,0,B31/D31)","v":0},{"$f":"IF(E31=0,0,C31/E31)","v":0},{"$f":"IF(D31+E31=0,0,(B31+C31)/(D31+E31))","v":0},null,null,0,0,0]
["Stavanger",{"$f":"5204193","v":5204193},{"$f":"2374+13121+234371+107631+30041+115884","v":503422},{"$f":"17526","v":17526},{"$f":"35+57+1232+647+212+705","v":2888},296.94128723040058,174.31509695290859,279.59317135299307,4230897,109573,306.57,{"$f":"IF(I32=0,0,(B32-I32)/I32)","v":0.230044834464181},-8.7995657262637986E-2]
["Telemark",663952,null,1990,null,333.64422110552766,{"$f":"IF(E33=0,0,C33/E33)","v":0},{"$f":"IF(D33+E33=0,0,(B33+C33)/(D33+E33))","v":333.64422110552766},942761,null,351.78,{"$f":"IF(I33=0,0,(B33-I33)/I33)","v":-0.29573667133027354},-5.1554320582387604E-2]
["Trondheim",4998637.76,994113.95,14784.1,3870.8,{"$f":"IF(D34=0,0,B34/D34)","v":338.10903335339992},{"$f":"IF(E34=0,0,C34/E34)","v":256.8238994523096},{"$f":"IF(D34+E34=0,0,(B34+C34)/(D34+E34))","v":321.24276785187806},2315836,736755,289.32,{"$f":"IF(I34=0,0,(B34-I34)/I34)","v":1.1584593036812623},0.11033723161854717]
["Vestfold",null,null,null,null,{"$f":"IF(D35=0,0,B35/D35)","v":0},0,{"$f":"IF(D35+E35=0,0,(B35+C35)/(D35+E35))","v":0},null,null,null,0,0]
["Oslo",2224430.92,80279.759999999995,6231.4,385.8,{"$f":"IF(D36=0,0,B36/D36)","v":356.97129377026033},208.0864696734059,348.2909206310826,4529188.72,209988.95,335.39,{"$f":"IF(I36=0,0,(B36-I36)/I36)","v":-0.50886768966429818},3.8465430188981825E-2]
["Landet i alt",{"$f":"SUM(B26:B36)","v":14319640.310000001},{"$f":"SUM(C26:C36)","v":1577815.71},{"$f":"SUM(D26:D36)","v":44490.400000000001},{"$f":"SUM(E32:E36)","v":7144.6},{"$f":"IF(D37=0,0,B37/D37)","v":321.85910466078076},{"$f":"IF(E37=0,0,C37/E37)","v":220.84031436329533},{"$f":"IF(D37+E37=0,0,(B37+C37)/(D37+E37))","v":307.8813986636971},{"$f":"SUM(I26:I36)","v":13130503.239999998},{"$f":"SUM(J26:J36)","v":1065773.95},298.87,9.0562947075591468E-2,3.0151566445936674E-2]
[]
[]
[{"$f":"\"MÅLESTATISTIKK FOR  TAKTEKKERE  - GJENNOMSNITT HELE ÅRET  \"&FORS!$A$14","v":"MÅLESTATISTIKK FOR  TAKTEKKERE  - GJENNOMSNITT HELE ÅRET  2018"}]
[]
[null,"Målesum i kroner",null,"Timer",null,{"$f":"\"Fortjeneste hele  \"&FORS!$A$14-0","v":"Fortjeneste hele  2018"},null,null,{"$f":"\" Hele året  \"&FORS!$A$14-1","v":" Hele året  2017"},null,null,"Endringer i %"]
[null,"Innmålt m/","Innmålt m/","Innmålt m/","Innmålt m/","Innmålt m/","Innmålt m/","Gjennom-","Innmålt m/","Innmålt m/","Gjen.snitt","Innmålt m/","Gjen.snitt"]
[null,"overskudd","underskudd","overskudd","underskudd","overskudd","underskudd","snitt","overskudd","underskudd","fortjeneste","overskudd","fortjeneste"]
["Agder",{"$f":"B7+B26","v":24574},{"$f":"C7+C26","v":0},{"$f":"D7+D26","v":74.599999999999994},{"$f":"E7+E26","v":0},{"$f":"IF(D45=0,0,B45/D45)","v":329.41018766756036},{"$f":"IF(E45=0,0,C45/E45)","v":0},{"$f":"IF(D45+E45=0,0,(B45+C45)/(D45+E45))","v":329.41018766756036},174303,77406,238.02,{"$f":"IF(I45=0,0,(B45-I45)/I45)","v":-0.85901562222107475},{"$f":"IF(K45=0,0,(H45-K45)/K45)","v":0.38396011960154758}]
["Haugesund",{"$f":"B8+B27","v":0},null,{"$f":"D8+D27","v":0},0,{"$f":"IF(D46=0,0,B46/D46)","v":0},{"$f":"IF(E46=0,0,C46/E46)","v":0},{"$f":"IF(D46+E46=0,0,(B46+C46)/(D46+E46))","v":0},{"$f":"I8+I27","v":0},0,0,{"$f":"IF(I46=0,0,(B46-I46)/I46)","v":0},{"$f":"IF(K46=0,0,(H46-K46)/K46)","v":0}]
["Glåmdal",0,0,0,0,0,0,0,0,0,0,0,0]
["Hamar og Omegn",1549201.29,0,4110.8999999999996,0,376.85209808071227,0,376.85209808071227,2533335,null,328.45,-0.38847357732001492,0.14736519433920622]
["Bergen",1161748.8900000001,0,4025.2,0,288.61892328331516,0,288.61892328331516,null,0,null,0,0]
["Nordland",0,0,0,0,{"$f":"IF(D50=0,0,B50/D50)","v":0},{"$f":"IF(E50=0,0,C50/E50)","v":0},{"$f":"IF(D50+E50=0,0,(B50+C50)/(D50+E50))","v":0},0,0,null,0,0]
["Stavanger",10539007.800000001,{"$f":"C13+C32","v":767585.96},35166,4477.5,299.69310697833134,171.4318168620882,285.20674915181559,7338950,226322,308.11,{"$f":"IF(I51=0,0,(B51-I51)/I51)","v":0.43603755305595499},-7.4334655961132146E-2]
["Telemark",1646952,{"$f":"C14+C33","v":0},4632,0,355.559585492228,0,355.559585492228,2794281.79,0,336.55,{"$f":"IF(I52=0,0,(B52-I52)/I52)","v":-0.410599172247406},5.6483688879001584E-2]
["Trondheim",7104897.71,{"$f":"C15+C34","v":1198285.98},22155.3,5032.3999999999996,{"$f":"IF(D53=0,0,B53/D53)","v":320.68614327045901},{"$f":"IF(E53=0,0,C53/E53)","v":238.11421588109056},305.40221092626444,7638177,1251235,271.38,-6.9817613548363702E-2,0.12536742179329519]
["Vestfold",0,0,0,0,{"$f":"IF(D54=0,0,B54/D54)","v":0},0,0,null,0,null,0,0]
["Oslo",{"$f":"B17+B36","v":5503060.2699999996},{"$f":"C17+C36","v":272236.83999999997},15281.5,1560.5,360.11257206426069,174.45487984620311,342.91040909630681,6201400.0800000001,768686.31,299.32,{"$f":"IF(I55=0,0,(B55-I55)/I55)","v":-0.11261002370290557},{"$f":"IF(K55=0,0,(H55-K55)/K55)","v":0.14563146163405993}]
["Landet i alt",{"$f":"SUM(B45:B55)","v":27529441.960000001},{"$f":"SUM(C45:C55)","v":2238108.7799999998},{"$f":"SUM(D45:D55)","v":85445.5},{"$f":"E18+E37","v":11070.400000000001},{"$f":"IF(D56=0,0,B56/D56)","v":322.18714806514095},{"$f":"IF(E56=0,0,C56/E56)","v":202.17054306980774},{"$f":"IF(D56+E56=0,0,(B56+C56)/(D56+E56))","v":308.42121080568074},25805151.559999999,{"$f":"J18+J37","v":1996463.88},296.95999999999998,{"$f":"IF(I56=0,0,(B56-I56)/I56)","v":6.681961917529626E-2},3.8595133370422835E-2]

{"sheet":"MURERE","index":7,"n_rows":59,"n_cols":13,"rows_kept":59,"cut":false,"hidden":false,"merged":[]}
[]
[{"$f":"\"MÅLESTATISTIKK FOR MURERE - 1. HALVÅR \"&FORS!$A$14","v":"MÅLESTATISTIKK FOR MURERE - 1. HALVÅR 2018"}]
[]
[null,"Målesum i kroner",null,"Timer",null,{"$f":"\"Fortjeneste 1. halvår  \"&FORS!$A$14-0","v":"Fortjeneste 1. halvår  2018"},null,null,{"$f":"\" 1. halvår  \"&FORS!$A$14-1","v":" 1. halvår  2017"},null,null,"Endringer i %"]
[null,"Innmålt m/","Innmålt m/","Innmålt m/","Innmålt m/","Innmålt m/","Innmålt m/","Gjennom-","Innmålt m/","Innmålt m/","Gjen.snitt","Innmålt m/","Gjen.snitt"]
[null,"overskudd","underskudd","overskudd","underskudd","overskudd","underskudd","snitt","overskudd","underskudd","fortjeneste","overskudd","fortjeneste"]
["Agder",null,null,null,null,{"$f":"IF(D7=0,0,B7/D7)","v":0},{"$f":"IF(E7=0,0,C7/E7)","v":0},{"$f":"IF(D7+E7=0,0,(B7+C7)/(D7+E7))","v":0},null,null,0,{"$f":"IF(I7=0,0,(B7-I7)/I7)","v":0},{"$f":"IF(K7=0,0,(H7-K7)/K7)","v":0}]
["Bergen",0,null,null,null,{"$f":"IF(D8=0,0,B8/D8)","v":0},{"$f":"IF(E8=0,0,C8/E8)","v":0},{"$f":"IF(D8+E8=0,0,(B8+C8)/(D8+E8))","v":0},792063.31,null,263.14999999999998,{"$f":"IF(I8=0,0,(B8-I8)/I8)","v":-1},{"$f":"IF(K8=0,0,(H8-K8)/K8)","v":-1}]
["Glåmdal",null,null,null,null,0,0,0,null,null,0,0,0]
["Hamar og Omegn",null,null,null,null,0,0,{"$f":"IF(D10+E10=0,0,(B10+C10)/(D10+E10))","v":0},null,null,null,0,0]
["Nordland",null,null,null,null,0,0,0,null,null,0,0,0]
["Stavanger",955449,null,3425,null,{"$f":"IF(D12=0,0,B12/D12)","v":278.96321167883212},0,278.96321167883212,1437365,null,323.37,-0.33527739996451839,-0.13732500949738033]
["Tromsø",null,null,null,null,0,null,0,null,null,0,0,0]
["Telemark",null,null,null,null,0,0,0,null,null,0,0,0]
["Trondheim",4621229.53,418829.91,15514.01,1482.95,{"$f":"IF(D15=0,0,B15/D15)","v":297.87460044179426},{"$f":"IF(E15=0,0,C15/E15)","v":282.43023028423073},{"$f":"IF(D15+E15=0,0,(B15+C15)/(D15+E15))","v":296.5271107303895},3652290,433063,264.25,{"$f":"IF(I15=0,0,(B15-I15)/I15)","v":0.26529643867272323},0.1221461144007171]
["Vestfold",null,null,null,null,0,0,0,null,null,0,0,0]
["Oslo",11878661,null,42064,null,282.39494579688096,0,282.39494579688096,9791594,1545523,261.68,{"$f":"IF(I17=0,0,(B17-I17)/I17)","v":0.21314884992167771},7.9161364249774352E-2]
["Østfold",1039021.5,0,3113,null,333.76855123674909,0,333.76855123674909,1347036.5,null,281.18,{"$f":"IF(I18=0,0,(B18-I18)/I18)","v":-0.22866121296638955},0.1870280647156593]
["Landet i alt",{"$f":"SUM(B7:B18)","v":18494361.030000001},{"$f":"SUM(C7:C18)","v":418829.91},{"$f":"SUM(D7:D18)","v":64116.01},{"$f":"SUM(E7:E18)","v":1482.95},{"$f":"IF(D19=0,0,B19/D19)","v":288.45152762937056},{"$f":"IF(E19=0,0,C19/E19)","v":282.43023028423073},{"$f":"IF(D19+E19=0,0,(B19+C19)/(D19+E19))","v":288.3154083540349},{"$f":"SUM(I8:I18)","v":17020348.810000002},{"$f":"SUM(J8:J18)","v":1978586},270.43,{"$f":"IF(I19=0,0,(B19-I19)/I19)","v":8.660293842708848E-2},{"$f":"IF(K19=0,0,(H19-K19)/K19)","v":6.6136923987852286E-2}]
[]
[]
[{"$f":"\"MÅLESTATISTIKK FOR MURERE - 2. HALVÅR \"&FORS!$A$14","v":"MÅLESTATISTIKK FOR MURERE - 2. HALVÅR 2018"}]
[]
[null,"Målesum i kroner",null,"Timer",null,{"$f":"\"Fortjeneste 2. halvår  \"&FORS!$A$14-0","v":"Fortjeneste 2. halvår  2018"},null,null,{"$f":"\" 2. halvår  \"&FORS!$A$14-1","v":" 2. halvår  2017"},null,null,"Endringer i %"]
[null,"Innmålt m/","Innmålt m/","Innmålt m/","Innmålt m/","Innmålt m/","Innmålt m/","Gjennom-","Innmålt m/","Innmålt m/","Gjen.snitt","Innmålt m/","Gjen.snitt"]
[null,"overskudd","underskudd","overskudd","underskudd","overskudd","underskudd","snitt","overskudd","underskudd","fortjeneste","overskudd","fortjeneste"]
["Agder",null,null,null,null,{"$f":"IF(D27=0,0,B27/D27)","v":0},{"$f":"IF(E27=0,0,C27/E27)","v":0},{"$f":"IF(D27+E27=0,0,(B27+C27)/(D27+E27))","v":0},null,null,0,{"$f":"IF(I27=0,0,(B27-I27)/I27)","v":0},{"$f":"IF(K27=0,0,(H27-K27)/K27)","v":0}]
["Bergen",null,null,null,null,0,{"$f":"IF(E28=0,0,C28/E28)","v":0},{"$f":"IF(D28+E28=0,0,(B28+C28)/(D28+E28))","v":0},181085.32,null,283.39,{"$f":"IF(I28=0,0,(B28-I28)/I28)","v":-1},{"$f":"IF(K28=0,0,(H28-K28)/K28)","v":-1}]
["Glåmdal",null,null,null,null,0,0,0,null,null,0,0,0]
["Hamar og Omegn",null,null,null,null,0,0,0,null,null,null,0,0]
["Nordland",null,null,null,null,0,0,0,null,null,0,0,0]
["Stavanger",1105862,null,3689,null,299.77283816752509,0,299.77283816752509,1102908,null,323.91000000000003,{"$f":"IF(I32=0,0,(B32-I32)/I32)","v":2.6783738988202101E-3},-7.4518112538899478E-2]
["Tromsø",null,null,null,null,0,null,null,null,null,null,0,0]
["Telemark",null,null,null,null,0,0,0,null,null,0,0,0]
["Trondheim",4467553.4400000004,227917.91,15010.18,1127.08,297.63490111377746,{"$f":"IF(E35=0,0,C35/E35)","v":202.21981580721868},{"$f":"IF(D35+E35=0,0,(B35+C35)/(D35+E35))","v":290.97079367872863},5649468,null,279.5,{"$f":"IF(I35=0,0,(B35-I35)/I35)","v":-0.20920811658726088},4.1040406721748211E-2]
["Vestfold",null,null,null,null,0,0,0,null,null,0,0,0]
["Oslo",8436850,null,26749,null,315.40805263748177,0,315.40805263748177,10918419,null,281.17,{"$f":"IF(I37=0,0,(B37-I37)/I37)","v":-0.22728281448074122},0.1217699350481266]
["Østfold",1073851.5,0,3224,null,333.08049007444168,0,333.08049007444168,714960,2611.5,273.77,{"$f":"IF(I38=0,0,(B38-I38)/I38)","v":0.50197423632091309},0.21664349663747565]
["Landet i alt",{"$f":"SUM(B28:B38)","v":15084116.940000001},null,{"$f":"SUM(D28:D38)","v":48672.18},null,{"$f":"IF(D39=0,0,B39/D39)","v":309.91249909085644},{"$f":"IF(E39=0,0,C39/E39)","v":0},{"$f":"IF(D39+E39=0,0,(B39+C39)/(D39+E39))","v":309.91249909085644},{"$f":"SUM(I27:I38)","v":18566840.32},{"$f":"SUM(J35:J38)","v":2611.5},278.04000000000002,-0.18757760178765834,0.11463278337957279]
[]
[]
[{"$f":"\"MÅLESTATISTIKK FOR MURERE - GJENNOMSNITT HELE ÅRET  \"&FORS!$A$14","v":"MÅLESTATISTIKK FOR MURERE - GJENNOMSNITT HELE ÅRET  2018"}]
[]
[null,"Målesum i kroner",null,"Timer",null,{"$f":"\"Fortjeneste hele  \"&FORS!$A$14-0","v":"Fortjeneste hele  2018"},null,null,{"$f":"\" Hele året  \"&FORS!$A$14-1","v":" Hele året  2017"},null,null,"Endringer i %"]
[null,"Innmålt m/","Innmålt m/","Innmålt m/","Innmålt m/","Innmålt m/","Innmålt m/","Gjennom-","Innmålt m/","Innmålt m/","Gjen.snitt","Innmålt m/","Gjen.snitt"]
[null,"overskudd","underskudd","overskudd","underskudd","overskudd","underskudd","snitt","overskudd","underskudd","fortjeneste","overskudd","fortjeneste"]
["Agder",{"$f":"B7+B27","v":0},{"$f":"C7+C27","v":0},0,0,{"$f":"IF(D47=0,0,B47/D47)","v":0},{"$f":"IF(E47=0,0,C47/E47)","v":0},{"$f":"IF(D47+E47=0,0,(B47+C47)/(D47+E47))","v":0},0,0,0,{"$f":"IF(I47=0,0,(B47-I47)/I47)","v":0},{"$f":"IF(K47=0,0,(H47-K47)/K47)","v":0}]
["Bergen",{"$f":"B8+B28","v":0},0,0,0,{"$f":"IF(D48=0,0,B48/D48)","v":0},{"$f":"IF(E48=0,0,C48/E48)","v":0},{"$f":"IF(D48+E48=0,0,(B48+C48)/(D48+E48))","v":0},930717,0,260.02999999999997,{"$f":"IF(I48=0,0,(B48-I48)/I48)","v":-1},{"$f":"IF(K48=0,0,(H48-K48)/K48)","v":-1}]
["Glåmdal",0,0,0,0,0,0,0,0,0,0,0,0]
["Hamar og Omegn",0,0,0,0,0,0,0,204635,0,377.69,-1,-1]
["Nordland",0,0,0,0,0,0,0,0,0,0,0,0]
["Stavanger",2061311,0,7114,0,289.75414675288164,0,289.75414675288164,1547101,0,313.08,{"$f":"IF(I52=0,0,(B52-I52)/I52)","v":0.33237002626202167},-7.4504450131334957E-2]
["Tromsø",0,0,0,0,0,0,0,0,0,0,0,0]
["Telemark",0,0,0,0,0,0,0,0,0,0,0,0]
["Trondheim",{"$f":"B15+B35","v":9088782.9700000007},646747.81999999995,30524.190000000002,2610.0299999999997,297.75672900738726,{"$f":"IF(E55=0,0,C55/E55)","v":247.79325141856609},{"$f":"IF(D55+E55=0,0,(B55+C55)/(D55+E55))","v":293.82103426608506},{"$f":"I15+I35","v":9301758},196.75,261.24,{"$f":"IF(I55=0,0,(B55-I55)/I55)","v":-2.2896212737420103E-2},0.12471686673589441]
["Vestfold",0,0,0,0,0,0,0,0,null,0,0,0]
["Oslo",{"$f":"B17+B37","v":20315511},{"$f":"C17+C37","v":0},{"$f":"D17+D37","v":68813},{"$f":"E17+E37","v":0},295.22780579251014,0,295.22780579251014,17924687,202.36,282.22000000000003,0.13338163171273229,4.6091013367267064E-2]
["Østfold",{"$f":"B18+B38","v":2112873},0,{"$f":"D18+D38","v":6337},0,333.41849455578347,0,333.41849455578347,5622722,0,290.60000000000002,{"$f":"IF(I58=0,0,(B58-I58)/I58)","v":-0.6242259531949117},{"$f":"IF(K58=0,0,(H58-K58)/K58)","v":0.14734512923531812}]
["Landet i alt",{"$f":"SUM(B47:B58)","v":33578477.969999999},{"$f":"SUM(C47:C58)","v":646747.81999999995},{"$f":"SUM(D47:D58)","v":112788.19},{"$f":"SUM(E47:E58)","v":2610.0299999999997},{"$f":"IF(D59=0,0,B59/D59)","v":297.71271238593329},{"$f":"IF(E59=0,0,C59/E59)","v":247.79325141856609},{"$f":"IF(D59+E59=0,0,(B59+C59)/(D59+E59))","v":296.58365432326423},{"$f":"SUM(I48:I58)","v":35531620},{"$f":"IF(E59=0,0,C59/E59)","v":247.79325141856609},274.20999999999998,-5.4969124120994237E-2,8.1593137825988288E-2]

{"sheet":"BLIKK OG VENTILASJON","index":8,"n_rows":32,"n_cols":13,"rows_kept":32,"cut":false,"hidden":false,"merged":[]}
[]
[{"$f":"\"MÅLESTATISTIKK FOR BLIKK- OG VENTILASJONSARBEID - 1. HALVÅR \"&FORS!$A$14","v":"MÅLESTATISTIKK FOR BLIKK- OG VENTILASJONSARBEID - 1. HALVÅR 2018"}]
[]
[null,"Målesum i kroner",null,"Timer",null,{"$f":"\"Fortjeneste 1. halvår  \"&FORS!$A$14-0","v":"Fortjeneste 1. halvår  2018"},null,null,{"$f":"\" 1. halvår  \"&FORS!$A$14-1","v":" 1. halvår  2017"},null,null,"Endringer i %"]
[null,"Innmålt m/","Innmålt m/","Innmålt m/","Innmålt m/","Innmålt m/","Innmålt m/","Gjennom-","Innmålt m/","Innmålt m/","Gjen.snitt","Innmålt m/","Gjen.snitt"]
[null,"overskudd","underskudd","overskudd","underskudd","overskudd","underskudd","snitt","overskudd","underskudd","fortjeneste","overskudd","fortjeneste"]
["Nordland",null,null,null,null,{"$f":"IF(D7=0,0,B7/D7)","v":0},0,{"$f":"IF(D7+E7=0,0,(B7+C7)/(D7+E7))","v":0},null,null,null,{"$f":"IF(I7=0,0,(B7-I7)/I7)","v":0},{"$f":"IF(K7=0,0,(H7-K7)/K7)","v":0}]
["Stavanger",null,null,null,null,null,0,{"$f":"IF(D8+E8=0,0,(B8+C8)/(D8+E8))","v":0},null,null,null,{"$f":"IF(I8=0,0,(B8-I8)/I8)","v":0},{"$f":"IF(K8=0,0,(H8-K8)/K8)","v":0}]
["Oslo",null,null,null,null,null,0,{"$f":"IF(D9+E9=0,0,(B9+C9)/(D9+E9))","v":0},null,null,null,0,0]
["Landet i alt",{"$f":"SUM(B7:B9)","v":0},{"$f":"SUM(C7:C9)","v":0},{"$f":"SUM(D7:D9)","v":0},{"$f":"SUM(E7:E9)","v":0},0,0,{"$f":"IF(D10+E10=0,0,(B10+C10)/(D10+E10))","v":0},null,null,null,0,0]
[null,null,null,null,null,null,null,null,null,null,null,0,0]
[null,null,null,null,null,null,null,null,null,null,null,0,0]
[{"$f":"\"MÅLESTATISTIKK FOR BLIKK- OG VENTILASJONSARBEID - 2. HALVÅR \"&FORS!$A$14","v":"MÅLESTATISTIKK FOR BLIKK- OG VENTILASJONSARBEID - 2. HALVÅR 2018"},null,null,null,null,null,null,null,null,null,null,0,0]
[]
[null,"Målesum i kroner",null,"Timer",null,{"$f":"\"Fortjeneste 2. halvår  \"&FORS!$A$14-0","v":"Fortjeneste 2. halvår  2018"},null,null,{"$f":"\" 2. halvår  \"&FORS!$A$14-1","v":" 2. halvår  2017"},null,null,"Endringer i %"]
[null,"Innmålt m/","Innmålt m/","Innmålt m/","Innmålt m/","Innmålt m/","Innmålt m/","Gjennom-","Innmålt m/","Innmålt m/","Gjen.snitt","Innmålt m/","Gjen.snitt"]
[null,"overskudd","underskudd","overskudd","underskudd","overskudd","underskudd","snitt","overskudd","underskudd","fortjeneste","overskudd","fortjeneste"]
["Nordland",null,null,null,null,{"$f":"IF(D18=0,0,B18/D18)","v":0},0,{"$f":"IF(D18+E18=0,0,(B18+C18)/(D18+E18))","v":0},null,null,null,{"$f":"IF(I18=0,0,(B18-I18)/I18)","v":0},{"$f":"IF(K18=0,0,(H18-K18)/K18)","v":0}]
["Stavanger",null,null,null,null,0,0,{"$f":"IF(D19+E19=0,0,(B19+C19)/(D19+E19))","v":0},null,null,null,{"$f":"IF(I19=0,0,(B19-I19)/I19)","v":0},{"$f":"IF(K19=0,0,(H19-K19)/K19)","v":0}]
["Oslo",null,null,null,null,0,0,{"$f":"IF(D20+E20=0,0,(B20+C20)/(D20+E20))","v":0},null,null,null,0,0]
["Landet i alt",{"$f":"SUM(B18:B20)","v":0},{"$f":"SUM(C18:C20)","v":0},{"$f":"SUM(D18:D20)","v":0},{"$f":"SUM(C18:C20)","v":0},0,0,{"$f":"IF(D21+E21=0,0,(B21+C21)/(D21+E21))","v":0},null,null,null,0,0]
[]
[]
[{"$f":"\"MÅLESTATISTIKK FOR BLIKK- OG VENTILASJONSARBEID - GJENNOMSNITT HELE ÅRET  \"&FORS!$A$14","v":"MÅLESTATISTIKK FOR BLIKK- OG VENTILASJONSARBEID - GJENNOMSNITT HELE ÅRET  2018"}]
[]
[null,"Målesum i kroner",null,"Timer",null,{"$f":"\"Fortjeneste hele  \"&FORS!$A$14-0","v":"Fortjeneste hele  2018"},null,null,{"$f":"\" Hele året  \"&FORS!$A$14-1","v":" Hele året  2017"},null,null,"Endringer i %"]
[null,"Innmålt m/","Innmålt m/","Innmålt m/","Innmålt m/","Innmålt m/","Innmålt m/","Gjennom-","Innmålt m/","Innmålt m/","Gjen.snitt","Innmålt m/","Gjen.snitt"]
[null,"overskudd","underskudd","overskudd","underskudd","overskudd","underskudd","snitt","overskudd","underskudd","fortjeneste","overskudd","fortjeneste"]
["Nordland",{"$f":"B7+B18","v":0},0,0,0,{"$f":"IF(D29=0,0,B29/D29)","v":0},0,{"$f":"IF(D29+E29=0,0,(B29+C29)/(D29+E29))","v":0},null,null,null,{"$f":"IF(I29=0,0,(B29-I29)/I29)","v":0},{"$f":"IF(K29=0,0,(H29-K29)/K29)","v":0}]
["Stavanger",0,0,0,0,0,0,{"$f":"IF(D30+E30=0,0,(B30+C30)/(D30+E30))","v":0},null,null,null,{"$f":"IF(I30=0,0,(B30-I30)/I30)","v":0},{"$f":"IF(K30=0,0,(H30-K30)/K30)","v":0}]
["Oslo",0,0,0,0,0,0,{"$f":"IF(D31+E31=0,0,(B31+C31)/(D31+E31))","v":0},null,null,null,0,0]
["Landet i alt",{"$f":"SUM(B29:B31)","v":0},{"$f":"SUM(C29:C31)","v":0},{"$f":"SUM(D29:D31)","v":0},{"$f":"SUM(E29:E31)","v":0},0,0,{"$f":"IF(D32+E32=0,0,(B32+C32)/(D32+E32))","v":0},null,null,null,0,0]

{"sheet":"ISOLATØR","index":9,"n_rows":9,"n_cols":13,"rows_kept":9,"cut":false,"hidden":false,"merged":[]}
[]
[{"$f":"\"MÅLESTATISTIKK FOR ISOLATØRER -  \"&FORS!$A$14","v":"MÅLESTATISTIKK FOR ISOLATØRER -  2018"}]
[]
[null,"Målesum i kroner",null,"Timer",null,{"$f":"\"Fortjeneste \"&FORS!$A$14-0","v":"Fortjeneste 2018"},null,null,{"$f":"FORS!$A$14-1","v":2017},null,null,"Endringer i %"]
[null,"Innmålt m/","Innmålt m/","Innmålt m/","Innmålt m/","Innmålt m/","Innmålt m/","Gjennom-","Innmålt m/","Innmålt m/","Gjen.snitt","Innmålt m/","Gjen.snitt"]
[null,"overskudd","underskudd","overskudd","underskudd","overskudd","underskudd","snitt","overskudd","underskudd","fortjeneste","overskudd","fortjeneste"]
["Landet i alt 1. halvår",0,null,null,null,{"$f":"IF(D7=0,0,B7/D7)","v":0},0,{"$f":"IF(D7+E7=0,0,(B7+C7)/(D7+E7))","v":0},0,0,0,{"$f":"IF(I7=0,0,(B7-I7)/I7)","v":0},{"$f":"IF(K7=0,0,(H7-K7)/K7)","v":0}]
["Landet i alt 2. halvår",null,null,null,null,{"$f":"IF(D8=0,0,B8/D8)","v":0},{"$f":"IF(E8=0,0,C8/E8)","v":0},{"$f":"IF(D8+E8=0,0,(B8+C8)/(D8+E8))","v":0},null,0,null,{"$f":"IF(I8=0,0,(B8-I8)/I8)","v":0},{"$f":"IF(K8=0,0,(H8-K8)/K8)","v":0}]
[{"$f":"\"Landet i alt \"&FORS!A14","v":"Landet i alt 2018"},{"$f":"SUM(B7:B8)","v":0},{"$f":"SUM(C7:C8)","v":0},{"$f":"SUM(D7:D8)","v":0},{"$f":"SUM(E7:E8)","v":0},0,0,{"$f":"IF(D9+E9=0,0,(B9+C9)/(D9+E9))","v":0},{"$f":"SUM(I7:I8)","v":0},{"$f":"SUM(J7:J8)","v":0},null,0,0]