{"text_format":"1","workbook":"xlsx","n_sheets":10,"sheets":["FORS","ÅRSTOT","BETONG","TØMRERE","MALERE","RØRLEGGERE","TAKTEKKERE","MURERE","BLIKK OG VENTILASJON","ISOLATØR"],"not_rendered":{"charts":0,"images":0,"macros":0,"external_links":0,"defined_names":0,"comments":0,"pivot_tables":0},"unopened":[],"bounds":{"document_bytes":16777216,"sheet_cells":100000,"rows_first":2000,"rows_last":500,"rows_between":2000,"halvings":0,"cell_chars":16384,"cell_head_chars":4096},"cells_cut":0,"cells_raw":0,"read":"whole","date_system":"1900"}

{"sheet":"FORS","index":0,"n_rows":15,"n_cols":9,"rows_kept":15,"cut":false,"hidden":false,"merged":[[13,0,13,12],[14,0,14,4],[14,8,14,11],[3,0,3,12],[6,0,6,12],[9,0,9,12]]}
[]
[]
[]
["STATISTIKK "]
[]
[]
["FOR "]
[]
[]
["MÅLEVIRKSOMHETEN"]
[]
[]
[]
[2020]
["NB: Alle timefortjenester er før eventuelt trekk av målegebyr",null,null,null,null,null,null,null,"Passord dokumentbeskyttelse:<Retur>"]

{"sheet":"ÅRSTOT","index":1,"n_rows":62,"n_cols":13,"rows_kept":62,"cut":false,"hidden":false,"merged":[[1,0,1,12],[22,0,22,12],[43,0,43,12]]}
[]
[{"$f":"\"MÅLESTATISTIKK ALLE BYGGFAG - 1. HALVÅR \"&FORS!$A$14","v":"MÅLESTATISTIKK ALLE BYGGFAG - 1. HALVÅR 2020"}]
[]
[null,"Målesum i kroner",null,"Timer",null,{"$f":"\"Fortjeneste 1. halvår  \"&FORS!$A$14-0","v":"Fortjeneste 1. halvår  2020"},null,null,{"$f":"\" 1. halvår  \"&FORS!$A$14-1","v":" 1. halvår  2019"},null,null,"Endringer i %"]
[null,"Innmålt m/","Innmålt m/","Innmålt m/","Innmålt m/","Innmålt m/","Innmålt m/","Gjennom-","Innmålt m/","Innmålt m/","Gjen.snitt","Innmålt m/","Gjen.snitt"]
[null,"overskudd","underskudd","overskudd","underskudd","overskudd","underskudd","snitt","overskudd","underskudd","fortjeneste","overskudd","fortjeneste"]
["Agder",{"$f":"SUMIFS(BETONG!B$7:B$18,BETONG!$A$7:$A$18,ÅRSTOT!$A7)+SUMIFS(TØMRERE!B$7:B$18,TØMRERE!$A$7:$A$18,ÅRSTOT!$A7)+SUMIFS(RØRLEGGERE!B$7:B$18,RØRLEGGERE!$A$7:$A$18,ÅRSTOT!$A7)+SUMIFS(MURERE!B$7:B$18,MURERE!$A$7:$A$18,ÅRSTOT!$A7)+SUMIFS('BLIKK OG VENTILASJON'!B$7:B$18,'BLIKK OG VENTILASJON'!$A$7:$A$18,ÅRSTOT!$A7)+SUMIFS(ISOLATØR!B$7:B$18,ISOLATØR!$A$7:$A$18,ÅRSTOT!$A7)+SUMIFS(MALERE!B$7:B$18,MALERE!$A$7:$A$18,ÅRSTOT!$A7)+SUMIFS(TAKTEKKERE!B$7:B$18,TAKTEKKERE!$A$7:$A$18,ÅRSTOT!$A7)","v":10620699},{"$f":"SUMIFS(BETONG!C$7:C$18,BETONG!$A$7:$A$18,ÅRSTOT!$A7)+SUMIFS(TØMRERE!C$7:C$18,TØMRERE!$A$7:$A$18,ÅRSTOT!$A7)+SUMIFS(RØRLEGGERE!C$7:C$18,RØRLEGGERE!$A$7:$A$18,ÅRSTOT!$A7)+SUMIFS(MURERE!C$7:C$18,MURERE!$A$7:$A$18,ÅRSTOT!$A7)+SUMIFS('BLIKK OG VENTILASJON'!C$7:C$18,'BLIKK OG VENTILASJON'!$A$7:$A$18,ÅRSTOT!$A7)+SUMIFS(ISOLATØR!C$7:C$18,ISOLATØR!$A$7:$A$18,ÅRSTOT!$A7)+SUMIFS(MALERE!C$7:C$18,MALERE!$A$7:$A$18,ÅRSTOT!$A7)+SUMIFS(TAKTEKKERE!C$7:C$18,TAKTEKKERE!$A$7:$A$18,ÅRSTOT!$A7)","v":330230},{"$f":"SUMIFS(BETONG!D$7:D$18,BETONG!$A$7:$A$18,ÅRSTOT!$A7)+SUMIFS(TØMRERE!D$7:D$18,TØMRERE!$A$7:$A$18,ÅRSTOT!$A7)+SUMIFS(RØRLEGGERE!D$7:D$18,RØRLEGGERE!$A$7:$A$18,ÅRSTOT!$A7)+SUMIFS(MURERE!D$7:D$18,MURERE!$A$7:$A$18,ÅRSTOT!$A7)+SUMIFS('BLIKK OG VENTILASJON'!D$7:D$18,'BLIKK OG VENTILASJON'!$A$7:$A$18,ÅRSTOT!$A7)+SUMIFS(ISOLATØR!D$7:D$18,ISOLATØR!$A$7:$A$18,ÅRSTOT!$A7)+SUMIFS(MALERE!D$7:D$18,MALERE!$A$7:$A$18,ÅRSTOT!$A7)+SUMIFS(TAKTEKKERE!D$7:D$18,TAKTEKKERE!$A$7:$A$18,ÅRSTOT!$A7)","v":35891},{"$f":"SUMIFS(BETONG!E$7:E$18,BETONG!$A$7:$A$18,ÅRSTOT!$A7)+SUMIFS(TØMRERE!E$7:E$18,TØMRERE!$A$7:$A$18,ÅRSTOT!$A7)+SUMIFS(RØRLEGGERE!E$7:E$18,RØRLEGGERE!$A$7:$A$18,ÅRSTOT!$A7)+SUMIFS(MURERE!E$7:E$18,MURERE!$A$7:$A$18,ÅRSTOT!$A7)+SUMIFS('BLIKK OG VENTILASJON'!E$7:E$18,'BLIKK OG VENTILASJON'!$A$7:$A$18,ÅRSTOT!$A7)+SUMIFS(ISOLATØR!E$7:E$18,ISOLATØR!$A$7:$A$18,ÅRSTOT!$A7)+SUMIFS(MALERE!E$7:E$18,MALERE!$A$7:$A$18,ÅRSTOT!$A7)+SUMIFS(TAKTEKKERE!E$7:E$18,TAKTEKKERE!$A$7:$A$18,ÅRSTOT!$A7)","v":1511},{"$f":"IF(D7=0,0,B7/D7)","v":295.91538268646735},{"$f":"IF(E7=0,0,C7/E7)","v":218.5506287227002},{"$f":"IF(D7+E7=0,0,(B7+C7)/(D7+E7))","v":292.78993101973157},{"$f":"SUMIFS(BETONG!I$7:I$18,BETONG!$A$7:$A$18,ÅRSTOT!$A7)+SUMIFS(TØMRERE!I$7:I$18,TØMRERE!$A$7:$A$18,ÅRSTOT!$A7)+SUMIFS(RØRLEGGERE!I$7:I$18,RØRLEGGERE!$A$7:$A$18,ÅRSTOT!$A7)+SUMIFS(MURERE!I$7:I$18,MURERE!$A$7:$A$18,ÅRSTOT!$A7)+SUMIFS('BLIKK OG VENTILASJON'!I$7:I$18,'BLIKK OG VENTILASJON'!$A$7:$A$18,ÅRSTOT!$A7)+SUMIFS(ISOLATØR!I$7:I$18,ISOLATØR!$A$7:$A$18,ÅRSTOT!$A7)+SUMIFS(MALERE!I$7:I$18,MALERE!$A$7:$A$18,ÅRSTOT!$A7)+SUMIFS(TAKTEKKERE!I$7:I$18,TAKTEKKERE!$A$7:$A$18,ÅRSTOT!$A7)","v":12805599},{"$f":"SUMIFS(BETONG!J$7:J$18,BETONG!$A$7:$A$18,ÅRSTOT!$A7)+SUMIFS(TØMRERE!J$7:J$18,TØMRERE!$A$7:$A$18,ÅRSTOT!$A7)+SUMIFS(RØRLEGGERE!J$7:J$18,RØRLEGGERE!$A$7:$A$18,ÅRSTOT!$A7)+SUMIFS(MURERE!J$7:J$18,MURERE!$A$7:$A$18,ÅRSTOT!$A7)+SUMIFS('BLIKK OG VENTILASJON'!J$7:J$18,'BLIKK OG VENTILASJON'!$A$7:$A$18,ÅRSTOT!$A7)+SUMIFS(ISOLATØR!J$7:J$18,ISOLATØR!$A$7:$A$18,ÅRSTOT!$A7)+SUMIFS(MALERE!J$7:J$18,MALERE!$A$7:$A$18,ÅRSTOT!$A7)+SUMIFS(TAKTEKKERE!J$7:J$18,TAKTEKKERE!$A$7:$A$18,ÅRSTOT!$A7)","v":0},298.42,{"$f":"IF(I7=0,0,(B7-I7)/I7)","v":-0.17062067928255445},{"$f":"IF(K7=0,0,(H7-K7)/K7)","v":-1.8866258897756342E-2}]
["Bergen",{"$f":"SUMIFS(BETONG!B$7:B$18,BETONG!$A$7:$A$18,ÅRSTOT!$A8)+SUMIFS(TØMRERE!B$7:B$18,TØMRERE!$A$7:$A$18,ÅRSTOT!$A8)+SUMIFS(RØRLEGGERE!B$7:B$18,RØRLEGGERE!$A$7:$A$18,ÅRSTOT!$A8)+SUMIFS(MURERE!B$7:B$18,MURERE!$A$7:$A$18,ÅRSTOT!$A8)+SUMIFS('BLIKK OG VENTILASJON'!B$7:B$18,'BLIKK OG VENTILASJON'!$A$7:$A$18,ÅRSTOT!$A8)+SUMIFS(ISOLATØR!B$7:B$18,ISOLATØR!$A$7:$A$18,ÅRSTOT!$A8)+SUMIFS(MALERE!B$7:B$18,MALERE!$A$7:$A$18,ÅRSTOT!$A8)+SUMIFS(TAKTEKKERE!B$7:B$18,TAKTEKKERE!$A$7:$A$18,ÅRSTOT!$A8)","v":28112984.920000002},{"$f":"SUMIFS(BETONG!C$7:C$18,BETONG!$A$7:$A$18,ÅRSTOT!$A8)+SUMIFS(TØMRERE!C$7:C$18,TØMRERE!$A$7:$A$18,ÅRSTOT!$A8)+SUMIFS(RØRLEGGERE!C$7:C$18,RØRLEGGERE!$A$7:$A$18,ÅRSTOT!$A8)+SUMIFS(MURERE!C$7:C$18,MURERE!$A$7:$A$18,ÅRSTOT!$A8)+SUMIFS('BLIKK OG VENTILASJON'!C$7:C$18,'BLIKK OG VENTILASJON'!$A$7:$A$18,ÅRSTOT!$A8)+SUMIFS(ISOLATØR!C$7:C$18,ISOLATØR!$A$7:$A$18,ÅRSTOT!$A8)+SUMIFS(MALERE!C$7:C$18,MALERE!$A$7:$A$18,ÅRSTOT!$A8)+SUMIFS(TAKTEKKERE!C$7:C$18,TAKTEKKERE!$A$7:$A$18,ÅRSTOT!$A8)","v":0},{"$f":"SUMIFS(BETONG!D$7:D$18,BETONG!$A$7:$A$18,ÅRSTOT!$A8)+SUMIFS(TØMRERE!D$7:D$18,TØMRERE!$A$7:$A$18,ÅRSTOT!$A8)+SUMIFS(RØRLEGGERE!D$7:D$18,RØRLEGGERE!$A$7:$A$18,ÅRSTOT!$A8)+SUMIFS(MURERE!D$7:D$18,MURERE!$A$7:$A$18,ÅRSTOT!$A8)+SUMIFS('BLIKK OG VENTILASJON'!D$7:D$18,'BLIKK OG VENTILASJON'!$A$7:$A$18,ÅRSTOT!$A8)+SUMIFS(ISOLATØR!D$7:D$18,ISOLATØR!$A$7:$A$18,ÅRSTOT!$A8)+SUMIFS(MALERE!D$7:D$18,MALERE!$A$7:$A$18,ÅRSTOT!$A8)+SUMIFS(TAKTEKKERE!D$7:D$18,TAKTEKKERE!$A$7:$A$18,ÅRSTOT!$A8)","v":93761.86},{"$f":"SUMIFS(BETONG!E$7:E$18,BETONG!$A$7:$A$18,ÅRSTOT!$A8)+SUMIFS(TØMRERE!E$7:E$18,TØMRERE!$A$7:$A$18,ÅRSTOT!$A8)+SUMIFS(RØRLEGGERE!E$7:E$18,RØRLEGGERE!$A$7:$A$18,ÅRSTOT!$A8)+SUMIFS(MURERE!E$7:E$18,MURERE!$A$7:$A$18,ÅRSTOT!$A8)+SUMIFS('BLIKK OG VENTILASJON'!E$7:E$18,'BLIKK OG VENTILASJON'!$A$7:$A$18,ÅRSTOT!$A8)+SUMIFS(ISOLATØR!E$7:E$18,ISOLATØR!$A$7:$A$18,ÅRSTOT!$A8)+SUMIFS(MALERE!E$7:E$18,MALERE!$A$7:$A$18,ÅRSTOT!$A8)+SUMIFS(TAKTEKKERE!E$7:E$18,TAKTEKKERE!$A$7:$A$18,ÅRSTOT!$A8)","v":0},{"$f":"IF(D8=0,0,B8/D8)","v":299.83390815839192},{"$f":"IF(E8=0,0,C8/E8)","v":0},{"$f":"IF(D8+E8=0,0,(B8+C8)/(D8+E8))","v":299.83390815839192},{"$f":"SUMIFS(BETONG!I$7:I$18,BETONG!$A$7:$A$18,ÅRSTOT!$A8)+SUMIFS(TØMRERE!I$7:I$18,TØMRERE!$A$7:$A$18,ÅRSTOT!$A8)+SUMIFS(RØRLEGGERE!I$7:I$18,RØRLEGGERE!$A$7:$A$18,ÅRSTOT!$A8)+SUMIFS(MURERE!I$7:I$18,MURERE!$A$7:$A$18,ÅRSTOT!$A8)+SUMIFS('BLIKK OG VENTILASJON'!I$7:I$18,'BLIKK OG VENTILASJON'!$A$7:$A$18,ÅRSTOT!$A8)+SUMIFS(ISOLATØR!I$7:I$18,ISOLATØR!$A$7:$A$18,ÅRSTOT!$A8)+SUMIFS(MALERE!I$7:I$18,MALERE!$A$7:$A$18,ÅRSTOT!$A8)+SUMIFS(TAKTEKKERE!I$7:I$18,TAKTEKKERE!$A$7:$A$18,ÅRSTOT!$A8)","v":26375961.449999999},{"$f":"SUMIFS(BETONG!J$7:J$18,BETONG!$A$7:$A$18,ÅRSTOT!$A8)+SUMIFS(TØMRERE!J$7:J$18,TØMRERE!$A$7:$A$18,ÅRSTOT!$A8)+SUMIFS(RØRLEGGERE!J$7:J$18,RØRLEGGERE!$A$7:$A$18,ÅRSTOT!$A8)+SUMIFS(MURERE!J$7:J$18,MURERE!$A$7:$A$18,ÅRSTOT!$A8)+SUMIFS('BLIKK OG VENTILASJON'!J$7:J$18,'BLIKK OG VENTILASJON'!$A$7:$A$18,ÅRSTOT!$A8)+SUMIFS(ISOLATØR!J$7:J$18,ISOLATØR!$A$7:$A$18,ÅRSTOT!$A8)+SUMIFS(MALERE!J$7:J$18,MALERE!$A$7:$A$18,ÅRSTOT!$A8)+SUMIFS(TAKTEKKERE!J$7:J$18,TAKTEKKERE!$A$7:$A$18,ÅRSTOT!$A8)","v":0},270.77,{"$f":"IF(I8=0,0,(B8-I8)/I8)","v":6.5856309097691773E-2},{"$f":"IF(K8=0,0,(H8-K8)/K8)","v":0.10733799223840138}]
["Nordland",{"$f":"SUMIFS(BETONG!B$7:B$18,BETONG!$A$7:$A$18,ÅRSTOT!$A9)+SUMIFS(TØMRERE!B$7:B$18,TØMRERE!$A$7:$A$18,ÅRSTOT!$A9)+SUMIFS(RØRLEGGERE!B$7:B$18,RØRLEGGERE!$A$7:$A$18,ÅRSTOT!$A9)+SUMIFS(MURERE!B$7:B$18,MURERE!$A$7:$A$18,ÅRSTOT!$A9)+SUMIFS('BLIKK OG VENTILASJON'!B$7:B$18,'BLIKK OG VENTILASJON'!$A$7:$A$18,ÅRSTOT!$A9)+SUMIFS(ISOLATØR!B$7:B$18,ISOLATØR!$A$7:$A$18,ÅRSTOT!$A9)+SUMIFS(MALERE!B$7:B$18,MALERE!$A$7:$A$18,ÅRSTOT!$A9)+SUMIFS(TAKTEKKERE!B$7:B$18,TAKTEKKERE!$A$7:$A$18,ÅRSTOT!$A9)","v":0},{"$f":"SUMIFS(BETONG!C$7:C$18,BETONG!$A$7:$A$18,ÅRSTOT!$A9)+SUMIFS(TØMRERE!C$7:C$18,TØMRERE!$A$7:$A$18,ÅRSTOT!$A9)+SUMIFS(RØRLEGGERE!C$7:C$18,RØRLEGGERE!$A$7:$A$18,ÅRSTOT!$A9)+SUMIFS(MURERE!C$7:C$18,MURERE!$A$7:$A$18,ÅRSTOT!$A9)+SUMIFS('BLIKK OG VENTILASJON'!C$7:C$18,'BLIKK OG VENTILASJON'!$A$7:$A$18,ÅRSTOT!$A9)+SUMIFS(ISOLATØR!C$7:C$18,ISOLATØR!$A$7:$A$18,ÅRSTOT!$A9)+SUMIFS(MALERE!C$7:C$18,MALERE!$A$7:$A$18,ÅRSTOT!$A9)+SUMIFS(TAKTEKKERE!C$7:C$18,TAKTEKKERE!$A$7:$A$18,ÅRSTOT!$A9)","v":0},{"$f":"SUMIFS(BETONG!D$7:D$18,BETONG!$A$7:$A$18,ÅRSTOT!$A9)+SUMIFS(TØMRERE!D$7:D$18,TØMRERE!$A$7:$A$18,ÅRSTOT!$A9)+SUMIFS(RØRLEGGERE!D$7:D$18,RØRLEGGERE!$A$7:$A$18,ÅRSTOT!$A9)+SUMIFS(MURERE!D$7:D$18,MURERE!$A$7:$A$18,ÅRSTOT!$A9)+SUMIFS('BLIKK OG VENTILASJON'!D$7:D$18,'BLIKK OG VENTILASJON'!$A$7:$A$18,ÅRSTOT!$A9)+SUMIFS(ISOLATØR!D$7:D$18,ISOLATØR!$A$7:$A$18,ÅRSTOT!$A9)+SUMIFS(MALERE!D$7:D$18,MALERE!$A$7:$A$18,ÅRSTOT!$A9)+SUMIFS(TAKTEKKERE!D$7:D$18,TAKTEKKERE!$A$7:$A$18,ÅRSTOT!$A9)","v":0},{"$f":"SUMIFS(BETONG!E$7:E$18,BETONG!$A$7:$A$18,ÅRSTOT!$A9)+SUMIFS(TØMRERE!E$7:E$18,TØMRERE!$A$7:$A$18,ÅRSTOT!$A9)+SUMIFS(RØRLEGGERE!E$7:E$18,RØRLEGGERE!$A$7:$A$18,ÅRSTOT!$A9)+SUMIFS(MURERE!E$7:E$18,MURERE!$A$7:$A$18,ÅRSTOT!$A9)+SUMIFS('BLIKK OG VENTILASJON'!E$7:E$18,'BLIKK OG VENTILASJON'!$A$7:$A$18,ÅRSTOT!$A9)+SUMIFS(ISOLATØR!E$7:E$18,ISOLATØR!$A$7:$A$18,ÅRSTOT!$A9)+SUMIFS(MALERE!E$7:E$18,MALERE!$A$7:$A$18,ÅRSTOT!$A9)+SUMIFS(TAKTEKKERE!E$7:E$18,TAKTEKKERE!$A$7:$A$18,ÅRSTOT!$A9)","v":0},{"$f":"IF(D9=0,0,B9/D9)","v":0},{"$f":"IF(E9=0,0,C9/E9)","v":0},{"$f":"IF(D9+E9=0,0,(B9+C9)/(D9+E9))","v":0},{"$f":"SUMIFS(BETONG!I$7:I$18,BETONG!$A$7:$A$18,ÅRSTOT!$A9)+SUMIFS(TØMRERE!I$7:I$18,TØMRERE!$A$7:$A$18,ÅRSTOT!$A9)+SUMIFS(RØRLEGGERE!I$7:I$18,RØRLEGGERE!$A$7:$A$18,ÅRSTOT!$A9)+SUMIFS(MURERE!I$7:I$18,MURERE!$A$7:$A$18,ÅRSTOT!$A9)+SUMIFS('BLIKK OG VENTILASJON'!I$7:I$18,'BLIKK OG VENTILASJON'!$A$7:$A$18,ÅRSTOT!$A9)+SUMIFS(ISOLATØR!I$7:I$18,ISOLATØR!$A$7:$A$18,ÅRSTOT!$A9)+SUMIFS(MALERE!I$7:I$18,MALERE!$A$7:$A$18,ÅRSTOT!$A9)+SUMIFS(TAKTEKKERE!I$7:I$18,TAKTEKKERE!$A$7:$A$18,ÅRSTOT!$A9)","v":0},{"$f":"SUMIFS(BETONG!J$7:J$18,BETONG!$A$7:$A$18,ÅRSTOT!$A9)+SUMIFS(TØMRERE!J$7:J$18,TØMRERE!$A$7:$A$18,ÅRSTOT!$A9)+SUMIFS(RØRLEGGERE!J$7:J$18,RØRLEGGERE!$A$7:$A$18,ÅRSTOT!$A9)+SUMIFS(MURERE!J$7:J$18,MURERE!$A$7:$A$18,ÅRSTOT!$A9)+SUMIFS('BLIKK OG VENTILASJON'!J$7:J$18,'BLIKK OG VENTILASJON'!$A$7:$A$18,ÅRSTOT!$A9)+SUMIFS(ISOLATØR!J$7:J$18,ISOLATØR!$A$7:$A$18,ÅRSTOT!$A9)+SUMIFS(MALERE!J$7:J$18,MALERE!$A$7:$A$18,ÅRSTOT!$A9)+SUMIFS(TAKTEKKERE!J$7:J$18,TAKTEKKERE!$A$7:$A$18,ÅRSTOT!$A9)","v":0},null,{"$f":"IF(I9=0,0,(B9-I9)/I9)","v":0},{"$f":"IF(K9=0,0,(H9-K9)/K9)","v":0}]
["Drammen - Bærum",{"$f":"SUMIFS(BETONG!B$7:B$18,BETONG!$A$7:$A$18,ÅRSTOT!$A10)+SUMIFS(TØMRERE!B$7:B$18,TØMRERE!$A$7:$A$18,ÅRSTOT!$A10)+SUMIFS(RØRLEGGERE!B$7:B$18,RØRLEGGERE!$A$7:$A$18,ÅRSTOT!$A10)+SUMIFS(MURERE!B$7:B$18,MURERE!$A$7:$A$18,ÅRSTOT!$A10)+SUMIFS('BLIKK OG VENTILASJON'!B$7:B$18,'BLIKK OG VENTILASJON'!$A$7:$A$18,ÅRSTOT!$A10)+SUMIFS(ISOLATØR!B$7:B$18,ISOLATØR!$A$7:$A$18,ÅRSTOT!$A10)+SUMIFS(MALERE!B$7:B$18,MALERE!$A$7:$A$18,ÅRSTOT!$A10)+SUMIFS(TAKTEKKERE!B$7:B$18,TAKTEKKERE!$A$7:$A$18,ÅRSTOT!$A10)","v":0},{"$f":"SUMIFS(BETONG!C$7:C$18,BETONG!$A$7:$A$18,ÅRSTOT!$A10)+SUMIFS(TØMRERE!C$7:C$18,TØMRERE!$A$7:$A$18,ÅRSTOT!$A10)+SUMIFS(RØRLEGGERE!C$7:C$18,RØRLEGGERE!$A$7:$A$18,ÅRSTOT!$A10)+SUMIFS(MURERE!C$7:C$18,MURERE!$A$7:$A$18,ÅRSTOT!$A10)+SUMIFS('BLIKK OG VENTILASJON'!C$7:C$18,'BLIKK OG VENTILASJON'!$A$7:$A$18,ÅRSTOT!$A10)+SUMIFS(ISOLATØR!C$7:C$18,ISOLATØR!$A$7:$A$18,ÅRSTOT!$A10)+SUMIFS(MALERE!C$7:C$18,MALERE!$A$7:$A$18,ÅRSTOT!$A10)+SUMIFS(TAKTEKKERE!C$7:C$18,TAKTEKKERE!$A$7:$A$18,ÅRSTOT!$A10)","v":0},{"$f":"SUMIFS(BETONG!D$7:D$18,BETONG!$A$7:$A$18,ÅRSTOT!$A10)+SUMIFS(TØMRERE!D$7:D$18,TØMRERE!$A$7:$A$18,ÅRSTOT!$A10)+SUMIFS(RØRLEGGERE!D$7:D$18,RØRLEGGERE!$A$7:$A$18,ÅRSTOT!$A10)+SUMIFS(MURERE!D$7:D$18,MURERE!$A$7:$A$18,ÅRSTOT!$A10)+SUMIFS('BLIKK OG VENTILASJON'!D$7:D$18,'BLIKK OG VENTILASJON'!$A$7:$A$18,ÅRSTOT!$A10)+SUMIFS(ISOLATØR!D$7:D$18,ISOLATØR!$A$7:$A$18,ÅRSTOT!$A10)+SUMIFS(MALERE!D$7:D$18,MALERE!$A$7:$A$18,ÅRSTOT!$A10)+SUMIFS(TAKTEKKERE!D$7:D$18,TAKTEKKERE!$A$7:$A$18,ÅRSTOT!$A10)","v":0},{"$f":"SUMIFS(BETONG!E$7:E$18,BETONG!$A$7:$A$18,ÅRSTOT!$A10)+SUMIFS(TØMRERE!E$7:E$18,TØMRERE!$A$7:$A$18,ÅRSTOT!$A10)+SUMIFS(RØRLEGGERE!E$7:E$18,RØRLEGGERE!$A$7:$A$18,ÅRSTOT!$A10)+SUMIFS(MURERE!E$7:E$18,MURERE!$A$7:$A$18,ÅRSTOT!$A10)+SUMIFS('BLIKK OG VENTILASJON'!E$7:E$18,'BLIKK OG VENTILASJON'!$A$7:$A$18,ÅRSTOT!$A10)+SUMIFS(ISOLATØR!E$7:E$18,ISOLATØR!$A$7:$A$18,ÅRSTOT!$A10)+SUMIFS(MALERE!E$7:E$18,MALERE!$A$7:$A$18,ÅRSTOT!$A10)+SUMIFS(TAKTEKKERE!E$7:E$18,TAKTEKKERE!$A$7:$A$18,ÅRSTOT!$A10)","v":0},{"$f":"IF(D10=0,0,B10/D10)","v":0},0,{"$f":"IF(D10+E10=0,0,(B10+C10)/(D10+E10))","v":0},{"$f":"SUMIFS(BETONG!I$7:I$18,BETONG!$A$7:$A$18,ÅRSTOT!$A10)+SUMIFS(TØMRERE!I$7:I$18,TØMRERE!$A$7:$A$18,ÅRSTOT!$A10)+SUMIFS(RØRLEGGERE!I$7:I$18,RØRLEGGERE!$A$7:$A$18,ÅRSTOT!$A10)+SUMIFS(MURERE!I$7:I$18,MURERE!$A$7:$A$18,ÅRSTOT!$A10)+SUMIFS('BLIKK OG VENTILASJON'!I$7:I$18,'BLIKK OG VENTILASJON'!$A$7:$A$18,ÅRSTOT!$A10)+SUMIFS(ISOLATØR!I$7:I$18,ISOLATØR!$A$7:$A$18,ÅRSTOT!$A10)+SUMIFS(MALERE!I$7:I$18,MALERE!$A$7:$A$18,ÅRSTOT!$A10)+SUMIFS(TAKTEKKERE!I$7:I$18,TAKTEKKERE!$A$7:$A$18,ÅRSTOT!$A10)","v":0},{"$f":"SUMIFS(BETONG!J$7:J$18,BETONG!$A$7:$A$18,ÅRSTOT!$A10)+SUMIFS(TØMRERE!J$7:J$18,TØMRERE!$A$7:$A$18,ÅRSTOT!$A10)+SUMIFS(RØRLEGGERE!J$7:J$18,RØRLEGGERE!$A$7:$A$18,ÅRSTOT!$A10)+SUMIFS(MURERE!J$7:J$18,MURERE!$A$7:$A$18,ÅRSTOT!$A10)+SUMIFS('BLIKK OG VENTILASJON'!J$7:J$18,'BLIKK OG VENTILASJON'!$A$7:$A$18,ÅRSTOT!$A10)+SUMIFS(ISOLATØR!J$7:J$18,ISOLATØR!$A$7:$A$18,ÅRSTOT!$A10)+SUMIFS(MALERE!J$7:J$18,MALERE!$A$7:$A$18,ÅRSTOT!$A10)+SUMIFS(TAKTEKKERE!J$7:J$18,TAKTEKKERE!$A$7:$A$18,ÅRSTOT!$A10)","v":0},null,0,0]
["Haugesund",{"$f":"SUMIFS(BETONG!B$7:B$18,BETONG!$A$7:$A$18,ÅRSTOT!$A11)+SUMIFS(TØMRERE!B$7:B$18,TØMRERE!$A$7:$A$18,ÅRSTOT!$A11)+SUMIFS(RØRLEGGERE!B$7:B$18,RØRLEGGERE!$A$7:$A$18,ÅRSTOT!$A11)+SUMIFS(MURERE!B$7:B$18,MURERE!$A$7:$A$18,ÅRSTOT!$A11)+SUMIFS('BLIKK OG VENTILASJON'!B$7:B$18,'BLIKK OG VENTILASJON'!$A$7:$A$18,ÅRSTOT!$A11)+SUMIFS(ISOLATØR!B$7:B$18,ISOLATØR!$A$7:$A$18,ÅRSTOT!$A11)+SUMIFS(MALERE!B$7:B$18,MALERE!$A$7:$A$18,ÅRSTOT!$A11)+SUMIFS(TAKTEKKERE!B$7:B$18,TAKTEKKERE!$A$7:$A$18,ÅRSTOT!$A11)","v":12167164},{"$f":"SUMIFS(BETONG!C$7:C$18,BETONG!$A$7:$A$18,ÅRSTOT!$A11)+SUMIFS(TØMRERE!C$7:C$18,TØMRERE!$A$7:$A$18,ÅRSTOT!$A11)+SUMIFS(RØRLEGGERE!C$7:C$18,RØRLEGGERE!$A$7:$A$18,ÅRSTOT!$A11)+SUMIFS(MURERE!C$7:C$18,MURERE!$A$7:$A$18,ÅRSTOT!$A11)+SUMIFS('BLIKK OG VENTILASJON'!C$7:C$18,'BLIKK OG VENTILASJON'!$A$7:$A$18,ÅRSTOT!$A11)+SUMIFS(ISOLATØR!C$7:C$18,ISOLATØR!$A$7:$A$18,ÅRSTOT!$A11)+SUMIFS(MALERE!C$7:C$18,MALERE!$A$7:$A$18,ÅRSTOT!$A11)+SUMIFS(TAKTEKKERE!C$7:C$18,TAKTEKKERE!$A$7:$A$18,ÅRSTOT!$A11)","v":0},{"$f":"SUMIFS(BETONG!D$7:D$18,BETONG!$A$7:$A$18,ÅRSTOT!$A11)+SUMIFS(TØMRERE!D$7:D$18,TØMRERE!$A$7:$A$18,ÅRSTOT!$A11)+SUMIFS(RØRLEGGERE!D$7:D$18,RØRLEGGERE!$A$7:$A$18,ÅRSTOT!$A11)+SUMIFS(MURERE!D$7:D$18,MURERE!$A$7:$A$18,ÅRSTOT!$A11)+SUMIFS('BLIKK OG VENTILASJON'!D$7:D$18,'BLIKK OG VENTILASJON'!$A$7:$A$18,ÅRSTOT!$A11)+SUMIFS(ISOLATØR!D$7:D$18,ISOLATØR!$A$7:$A$18,ÅRSTOT!$A11)+SUMIFS(MALERE!D$7:D$18,MALERE!$A$7:$A$18,ÅRSTOT!$A11)+SUMIFS(TAKTEKKERE!D$7:D$18,TAKTEKKERE!$A$7:$A$18,ÅRSTOT!$A11)","v":42803},{"$f":"SUMIFS(BETONG!E$7:E$18,BETONG!$A$7:$A$18,ÅRSTOT!$A11)+SUMIFS(TØMRERE!E$7:E$18,TØMRERE!$A$7:$A$18,ÅRSTOT!$A11)+SUMIFS(RØRLEGGERE!E$7:E$18,RØRLEGGERE!$A$7:$A$18,ÅRSTOT!$A11)+SUMIFS(MURERE!E$7:E$18,MURERE!$A$7:$A$18,ÅRSTOT!$A11)+SUMIFS('BLIKK OG VENTILASJON'!E$7:E$18,'BLIKK OG VENTILASJON'!$A$7:$A$18,ÅRSTOT!$A11)+SUMIFS(ISOLATØR!E$7:E$18,ISOLATØR!$A$7:$A$18,ÅRSTOT!$A11)+SUMIFS(MALERE!E$7:E$18,MALERE!$A$7:$A$18,ÅRSTOT!$A11)+SUMIFS(TAKTEKKERE!E$7:E$18,TAKTEKKERE!$A$7:$A$18,ÅRSTOT!$A11)","v":0},284.25960797140385,0,284.25960797140385,{"$f":"SUMIFS(BETONG!I$7:I$18,BETONG!$A$7:$A$18,ÅRSTOT!$A11)+SUMIFS(TØMRERE!I$7:I$18,TØMRERE!$A$7:$A$18,ÅRSTOT!$A11)+SUMIFS(RØRLEGGERE!I$7:I$18,RØRLEGGERE!$A$7:$A$18,ÅRSTOT!$A11)+SUMIFS(MURERE!I$7:I$18,MURERE!$A$7:$A$18,ÅRSTOT!$A11)+SUMIFS('BLIKK OG VENTILASJON'!I$7:I$18,'BLIKK OG VENTILASJON'!$A$7:$A$18,ÅRSTOT!$A11)+SUMIFS(ISOLATØR!I$7:I$18,ISOLATØR!$A$7:$A$18,ÅRSTOT!$A11)+SUMIFS(MALERE!I$7:I$18,MALERE!$A$7:$A$18,ÅRSTOT!$A11)+SUMIFS(TAKTEKKERE!I$7:I$18,TAKTEKKERE!$A$7:$A$18,ÅRSTOT!$A11)","v":12693010},{"$f":"SUMIFS(BETONG!J$7:J$18,BETONG!$A$7:$A$18,ÅRSTOT!$A11)+SUMIFS(TØMRERE!J$7:J$18,TØMRERE!$A$7:$A$18,ÅRSTOT!$A11)+SUMIFS(RØRLEGGERE!J$7:J$18,RØRLEGGERE!$A$7:$A$18,ÅRSTOT!$A11)+SUMIFS(MURERE!J$7:J$18,MURERE!$A$7:$A$18,ÅRSTOT!$A11)+SUMIFS('BLIKK OG VENTILASJON'!J$7:J$18,'BLIKK OG VENTILASJON'!$A$7:$A$18,ÅRSTOT!$A11)+SUMIFS(ISOLATØR!J$7:J$18,ISOLATØR!$A$7:$A$18,ÅRSTOT!$A11)+SUMIFS(MALERE!J$7:J$18,MALERE!$A$7:$A$18,ÅRSTOT!$A11)+SUMIFS(TAKTEKKERE!J$7:J$18,TAKTEKKERE!$A$7:$A$18,ÅRSTOT!$A11)","v":0},274.88,-4.1427998559837267E-2,3.4122555192825442E-2]
["Hamar og Omegn",{"$f":"SUMIFS(BETONG!B$7:B$18,BETONG!$A$7:$A$18,ÅRSTOT!$A12)+SUMIFS(TØMRERE!B$7:B$18,TØMRERE!$A$7:$A$18,ÅRSTOT!$A12)+SUMIFS(RØRLEGGERE!B$7:B$18,RØRLEGGERE!$A$7:$A$18,ÅRSTOT!$A12)+SUMIFS(MURERE!B$7:B$18,MURERE!$A$7:$A$18,ÅRSTOT!$A12)+SUMIFS('BLIKK OG VENTILASJON'!B$7:B$18,'BLIKK OG VENTILASJON'!$A$7:$A$18,ÅRSTOT!$A12)+SUMIFS(ISOLATØR!B$7:B$18,ISOLATØR!$A$7:$A$18,ÅRSTOT!$A12)+SUMIFS(MALERE!B$7:B$18,MALERE!$A$7:$A$18,ÅRSTOT!$A12)+SUMIFS(TAKTEKKERE!B$7:B$18,TAKTEKKERE!$A$7:$A$18,ÅRSTOT!$A12)","v":15133578},{"$f":"SUMIFS(BETONG!C$7:C$18,BETONG!$A$7:$A$18,ÅRSTOT!$A12)+SUMIFS(TØMRERE!C$7:C$18,TØMRERE!$A$7:$A$18,ÅRSTOT!$A12)+SUMIFS(RØRLEGGERE!C$7:C$18,RØRLEGGERE!$A$7:$A$18,ÅRSTOT!$A12)+SUMIFS(MURERE!C$7:C$18,MURERE!$A$7:$A$18,ÅRSTOT!$A12)+SUMIFS('BLIKK OG VENTILASJON'!C$7:C$18,'BLIKK OG VENTILASJON'!$A$7:$A$18,ÅRSTOT!$A12)+SUMIFS(ISOLATØR!C$7:C$18,ISOLATØR!$A$7:$A$18,ÅRSTOT!$A12)+SUMIFS(MALERE!C$7:C$18,MALERE!$A$7:$A$18,ÅRSTOT!$A12)+SUMIFS(TAKTEKKERE!C$7:C$18,TAKTEKKERE!$A$7:$A$18,ÅRSTOT!$A12)","v":629711},{"$f":"SUMIFS(BETONG!D$7:D$18,BETONG!$A$7:$A$18,ÅRSTOT!$A12)+SUMIFS(TØMRERE!D$7:D$18,TØMRERE!$A$7:$A$18,ÅRSTOT!$A12)+SUMIFS(RØRLEGGERE!D$7:D$18,RØRLEGGERE!$A$7:$A$18,ÅRSTOT!$A12)+SUMIFS(MURERE!D$7:D$18,MURERE!$A$7:$A$18,ÅRSTOT!$A12)+SUMIFS('BLIKK OG VENTILASJON'!D$7:D$18,'BLIKK OG VENTILASJON'!$A$7:$A$18,ÅRSTOT!$A12)+SUMIFS(ISOLATØR!D$7:D$18,ISOLATØR!$A$7:$A$18,ÅRSTOT!$A12)+SUMIFS(MALERE!D$7:D$18,MALERE!$A$7:$A$18,ÅRSTOT!$A12)+SUMIFS(TAKTEKKERE!D$7:D$18,TAKTEKKERE!$A$7:$A$18,ÅRSTOT!$A12)","v":44574.42},{"$f":"SUMIFS(BETONG!E$7:E$18,BETONG!$A$7:$A$18,ÅRSTOT!$A12)+SUMIFS(TØMRERE!E$7:E$18,TØMRERE!$A$7:$A$18,ÅRSTOT!$A12)+SUMIFS(RØRLEGGERE!E$7:E$18,RØRLEGGERE!$A$7:$A$18,ÅRSTOT!$A12)+SUMIFS(MURERE!E$7:E$18,MURERE!$A$7:$A$18,ÅRSTOT!$A12)+SUMIFS('BLIKK OG VENTILASJON'!E$7:E$18,'BLIKK OG VENTILASJON'!$A$7:$A$18,ÅRSTOT!$A12)+SUMIFS(ISOLATØR!E$7:E$18,ISOLATØR!$A$7:$A$18,ÅRSTOT!$A12)+SUMIFS(MALERE!E$7:E$18,MALERE!$A$7:$A$18,ÅRSTOT!$A12)+SUMIFS(TAKTEKKERE!E$7:E$18,TAKTEKKERE!$A$7:$A$18,ÅRSTOT!$A12)","v":2911.48},339.51261732626023,216.28553175704454,331.95725467981021,{"$f":"SUMIFS(BETONG!I$7:I$18,BETONG!$A$7:$A$18,ÅRSTOT!$A12)+SUMIFS(TØMRERE!I$7:I$18,TØMRERE!$A$7:$A$18,ÅRSTOT!$A12)+SUMIFS(RØRLEGGERE!I$7:I$18,RØRLEGGERE!$A$7:$A$18,ÅRSTOT!$A12)+SUMIFS(MURERE!I$7:I$18,MURERE!$A$7:$A$18,ÅRSTOT!$A12)+SUMIFS('BLIKK OG VENTILASJON'!I$7:I$18,'BLIKK OG VENTILASJON'!$A$7:$A$18,ÅRSTOT!$A12)+SUMIFS(ISOLATØR!I$7:I$18,ISOLATØR!$A$7:$A$18,ÅRSTOT!$A12)+SUMIFS(MALERE!I$7:I$18,MALERE!$A$7:$A$18,ÅRSTOT!$A12)+SUMIFS(TAKTEKKERE!I$7:I$18,TAKTEKKERE!$A$7:$A$18,ÅRSTOT!$A12)","v":16858994.52},{"$f":"SUMIFS(BETONG!J$7:J$18,BETONG!$A$7:$A$18,ÅRSTOT!$A12)+SUMIFS(TØMRERE!J$7:J$18,TØMRERE!$A$7:$A$18,ÅRSTOT!$A12)+SUMIFS(RØRLEGGERE!J$7:J$18,RØRLEGGERE!$A$7:$A$18,ÅRSTOT!$A12)+SUMIFS(MURERE!J$7:J$18,MURERE!$A$7:$A$18,ÅRSTOT!$A12)+SUMIFS('BLIKK OG VENTILASJON'!J$7:J$18,'BLIKK OG VENTILASJON'!$A$7:$A$18,ÅRSTOT!$A12)+SUMIFS(ISOLATØR!J$7:J$18,ISOLATØR!$A$7:$A$18,ÅRSTOT!$A12)+SUMIFS(MALERE!J$7:J$18,MALERE!$A$7:$A$18,ÅRSTOT!$A12)+SUMIFS(TAKTEKKERE!J$7:J$18,TAKTEKKERE!$A$7:$A$18,ÅRSTOT!$A12)","v":0},303.25,-0.10234397537487304,9.4665308095004799E-2]
["Sandnes",{"$f":"SUMIFS(BETONG!B$7:B$18,BETONG!$A$7:$A$18,ÅRSTOT!$A13)+SUMIFS(TØMRERE!B$7:B$18,TØMRERE!$A$7:$A$18,ÅRSTOT!$A13)+SUMIFS(RØRLEGGERE!B$7:B$18,RØRLEGGERE!$A$7:$A$18,ÅRSTOT!$A13)+SUMIFS(MURERE!B$7:B$18,MURERE!$A$7:$A$18,ÅRSTOT!$A13)+SUMIFS('BLIKK OG VENTILASJON'!B$7:B$18,'BLIKK OG VENTILASJON'!$A$7:$A$18,ÅRSTOT!$A13)+SUMIFS(ISOLATØR!B$7:B$18,ISOLATØR!$A$7:$A$18,ÅRSTOT!$A13)+SUMIFS(MALERE!B$7:B$18,MALERE!$A$7:$A$18,ÅRSTOT!$A13)+SUMIFS(TAKTEKKERE!B$7:B$18,TAKTEKKERE!$A$7:$A$18,ÅRSTOT!$A13)","v":13507839.1},{"$f":"SUMIFS(BETONG!C$7:C$18,BETONG!$A$7:$A$18,ÅRSTOT!$A13)+SUMIFS(TØMRERE!C$7:C$18,TØMRERE!$A$7:$A$18,ÅRSTOT!$A13)+SUMIFS(RØRLEGGERE!C$7:C$18,RØRLEGGERE!$A$7:$A$18,ÅRSTOT!$A13)+SUMIFS(MURERE!C$7:C$18,MURERE!$A$7:$A$18,ÅRSTOT!$A13)+SUMIFS('BLIKK OG VENTILASJON'!C$7:C$18,'BLIKK OG VENTILASJON'!$A$7:$A$18,ÅRSTOT!$A13)+SUMIFS(ISOLATØR!C$7:C$18,ISOLATØR!$A$7:$A$18,ÅRSTOT!$A13)+SUMIFS(MALERE!C$7:C$18,MALERE!$A$7:$A$18,ÅRSTOT!$A13)+SUMIFS(TAKTEKKERE!C$7:C$18,TAKTEKKERE!$A$7:$A$18,ÅRSTOT!$A13)","v":0},{"$f":"SUMIFS(BETONG!D$7:D$18,BETONG!$A$7:$A$18,ÅRSTOT!$A13)+SUMIFS(TØMRERE!D$7:D$18,TØMRERE!$A$7:$A$18,ÅRSTOT!$A13)+SUMIFS(RØRLEGGERE!D$7:D$18,RØRLEGGERE!$A$7:$A$18,ÅRSTOT!$A13)+SUMIFS(MURERE!D$7:D$18,MURERE!$A$7:$A$18,ÅRSTOT!$A13)+SUMIFS('BLIKK OG VENTILASJON'!D$7:D$18,'BLIKK OG VENTILASJON'!$A$7:$A$18,ÅRSTOT!$A13)+SUMIFS(ISOLATØR!D$7:D$18,ISOLATØR!$A$7:$A$18,ÅRSTOT!$A13)+SUMIFS(MALERE!D$7:D$18,MALERE!$A$7:$A$18,ÅRSTOT!$A13)+SUMIFS(TAKTEKKERE!D$7:D$18,TAKTEKKERE!$A$7:$A$18,ÅRSTOT!$A13)","v":40521.46},{"$f":"SUMIFS(BETONG!E$7:E$18,BETONG!$A$7:$A$18,ÅRSTOT!$A13)+SUMIFS(TØMRERE!E$7:E$18,TØMRERE!$A$7:$A$18,ÅRSTOT!$A13)+SUMIFS(RØRLEGGERE!E$7:E$18,RØRLEGGERE!$A$7:$A$18,ÅRSTOT!$A13)+SUMIFS(MURERE!E$7:E$18,MURERE!$A$7:$A$18,ÅRSTOT!$A13)+SUMIFS('BLIKK OG VENTILASJON'!E$7:E$18,'BLIKK OG VENTILASJON'!$A$7:$A$18,ÅRSTOT!$A13)+SUMIFS(ISOLATØR!E$7:E$18,ISOLATØR!$A$7:$A$18,ÅRSTOT!$A13)+SUMIFS(MALERE!E$7:E$18,MALERE!$A$7:$A$18,ÅRSTOT!$A13)+SUMIFS(TAKTEKKERE!E$7:E$18,TAKTEKKERE!$A$7:$A$18,ÅRSTOT!$A13)","v":0},333.350256876233,0,333.350256876233,{"$f":"SUMIFS(BETONG!I$7:I$18,BETONG!$A$7:$A$18,ÅRSTOT!$A13)+SUMIFS(TØMRERE!I$7:I$18,TØMRERE!$A$7:$A$18,ÅRSTOT!$A13)+SUMIFS(RØRLEGGERE!I$7:I$18,RØRLEGGERE!$A$7:$A$18,ÅRSTOT!$A13)+SUMIFS(MURERE!I$7:I$18,MURERE!$A$7:$A$18,ÅRSTOT!$A13)+SUMIFS('BLIKK OG VENTILASJON'!I$7:I$18,'BLIKK OG VENTILASJON'!$A$7:$A$18,ÅRSTOT!$A13)+SUMIFS(ISOLATØR!I$7:I$18,ISOLATØR!$A$7:$A$18,ÅRSTOT!$A13)+SUMIFS(MALERE!I$7:I$18,MALERE!$A$7:$A$18,ÅRSTOT!$A13)+SUMIFS(TAKTEKKERE!I$7:I$18,TAKTEKKERE!$A$7:$A$18,ÅRSTOT!$A13)","v":12109542.189999999},{"$f":"SUMIFS(BETONG!J$7:J$18,BETONG!$A$7:$A$18,ÅRSTOT!$A13)+SUMIFS(TØMRERE!J$7:J$18,TØMRERE!$A$7:$A$18,ÅRSTOT!$A13)+SUMIFS(RØRLEGGERE!J$7:J$18,RØRLEGGERE!$A$7:$A$18,ÅRSTOT!$A13)+SUMIFS(MURERE!J$7:J$18,MURERE!$A$7:$A$18,ÅRSTOT!$A13)+SUMIFS('BLIKK OG VENTILASJON'!J$7:J$18,'BLIKK OG VENTILASJON'!$A$7:$A$18,ÅRSTOT!$A13)+SUMIFS(ISOLATØR!J$7:J$18,ISOLATØR!$A$7:$A$18,ÅRSTOT!$A13)+SUMIFS(MALERE!J$7:J$18,MALERE!$A$7:$A$18,ÅRSTOT!$A13)+SUMIFS(TAKTEKKERE!J$7:J$18,TAKTEKKERE!$A$7:$A$18,ÅRSTOT!$A13)","v":0},319.32,0.11547066669082724,4.3937920819970597E-2]
["Stavanger",{"$f":"SUMIFS(BETONG!B$7:B$18,BETONG!$A$7:$A$18,ÅRSTOT!$A14)+SUMIFS(TØMRERE!B$7:B$18,TØMRERE!$A$7:$A$18,ÅRSTOT!$A14)+SUMIFS(RØRLEGGERE!B$7:B$18,RØRLEGGERE!$A$7:$A$18,ÅRSTOT!$A14)+SUMIFS(MURERE!B$7:B$18,MURERE!$A$7:$A$18,ÅRSTOT!$A14)+SUMIFS('BLIKK OG VENTILASJON'!B$7:B$18,'BLIKK OG VENTILASJON'!$A$7:$A$18,ÅRSTOT!$A14)+SUMIFS(ISOLATØR!B$7:B$18,ISOLATØR!$A$7:$A$18,ÅRSTOT!$A14)+SUMIFS(MALERE!B$7:B$18,MALERE!$A$7:$A$18,ÅRSTOT!$A14)+SUMIFS(TAKTEKKERE!B$7:B$18,TAKTEKKERE!$A$7:$A$18,ÅRSTOT!$A14)","v":5391913.6500000004},{"$f":"SUMIFS(BETONG!C$7:C$18,BETONG!$A$7:$A$18,ÅRSTOT!$A14)+SUMIFS(TØMRERE!C$7:C$18,TØMRERE!$A$7:$A$18,ÅRSTOT!$A14)+SUMIFS(RØRLEGGERE!C$7:C$18,RØRLEGGERE!$A$7:$A$18,ÅRSTOT!$A14)+SUMIFS(MURERE!C$7:C$18,MURERE!$A$7:$A$18,ÅRSTOT!$A14)+SUMIFS('BLIKK OG VENTILASJON'!C$7:C$18,'BLIKK OG VENTILASJON'!$A$7:$A$18,ÅRSTOT!$A14)+SUMIFS(ISOLATØR!C$7:C$18,ISOLATØR!$A$7:$A$18,ÅRSTOT!$A14)+SUMIFS(MALERE!C$7:C$18,MALERE!$A$7:$A$18,ÅRSTOT!$A14)+SUMIFS(TAKTEKKERE!C$7:C$18,TAKTEKKERE!$A$7:$A$18,ÅRSTOT!$A14)","v":0},{"$f":"SUMIFS(BETONG!D$7:D$18,BETONG!$A$7:$A$18,ÅRSTOT!$A14)+SUMIFS(TØMRERE!D$7:D$18,TØMRERE!$A$7:$A$18,ÅRSTOT!$A14)+SUMIFS(RØRLEGGERE!D$7:D$18,RØRLEGGERE!$A$7:$A$18,ÅRSTOT!$A14)+SUMIFS(MURERE!D$7:D$18,MURERE!$A$7:$A$18,ÅRSTOT!$A14)+SUMIFS('BLIKK OG VENTILASJON'!D$7:D$18,'BLIKK OG VENTILASJON'!$A$7:$A$18,ÅRSTOT!$A14)+SUMIFS(ISOLATØR!D$7:D$18,ISOLATØR!$A$7:$A$18,ÅRSTOT!$A14)+SUMIFS(MALERE!D$7:D$18,MALERE!$A$7:$A$18,ÅRSTOT!$A14)+SUMIFS(TAKTEKKERE!D$7:D$18,TAKTEKKERE!$A$7:$A$18,ÅRSTOT!$A14)","v":18397.5},{"$f":"SUMIFS(BETONG!E$7:E$18,BETONG!$A$7:$A$18,ÅRSTOT!$A14)+SUMIFS(TØMRERE!E$7:E$18,TØMRERE!$A$7:$A$18,ÅRSTOT!$A14)+SUMIFS(RØRLEGGERE!E$7:E$18,RØRLEGGERE!$A$7:$A$18,ÅRSTOT!$A14)+SUMIFS(MURERE!E$7:E$18,MURERE!$A$7:$A$18,ÅRSTOT!$A14)+SUMIFS('BLIKK OG VENTILASJON'!E$7:E$18,'BLIKK OG VENTILASJON'!$A$7:$A$18,ÅRSTOT!$A14)+SUMIFS(ISOLATØR!E$7:E$18,ISOLATØR!$A$7:$A$18,ÅRSTOT!$A14)+SUMIFS(MALERE!E$7:E$18,MALERE!$A$7:$A$18,ÅRSTOT!$A14)+SUMIFS(TAKTEKKERE!E$7:E$18,TAKTEKKERE!$A$7:$A$18,ÅRSTOT!$A14)","v":0},293.07860578883003,0,293.07860578883003,{"$f":"SUMIFS(BETONG!I$7:I$18,BETONG!$A$7:$A$18,ÅRSTOT!$A14)+SUMIFS(TØMRERE!I$7:I$18,TØMRERE!$A$7:$A$18,ÅRSTOT!$A14)+SUMIFS(RØRLEGGERE!I$7:I$18,RØRLEGGERE!$A$7:$A$18,ÅRSTOT!$A14)+SUMIFS(MURERE!I$7:I$18,MURERE!$A$7:$A$18,ÅRSTOT!$A14)+SUMIFS('BLIKK OG VENTILASJON'!I$7:I$18,'BLIKK OG VENTILASJON'!$A$7:$A$18,ÅRSTOT!$A14)+SUMIFS(ISOLATØR!I$7:I$18,ISOLATØR!$A$7:$A$18,ÅRSTOT!$A14)+SUMIFS(MALERE!I$7:I$18,MALERE!$A$7:$A$18,ÅRSTOT!$A14)+SUMIFS(TAKTEKKERE!I$7:I$18,TAKTEKKERE!$A$7:$A$18,ÅRSTOT!$A14)","v":6104845.0899999999},{"$f":"SUMIFS(BETONG!J$7:J$18,BETONG!$A$7:$A$18,ÅRSTOT!$A14)+SUMIFS(TØMRERE!J$7:J$18,TØMRERE!$A$7:$A$18,ÅRSTOT!$A14)+SUMIFS(RØRLEGGERE!J$7:J$18,RØRLEGGERE!$A$7:$A$18,ÅRSTOT!$A14)+SUMIFS(MURERE!J$7:J$18,MURERE!$A$7:$A$18,ÅRSTOT!$A14)+SUMIFS('BLIKK OG VENTILASJON'!J$7:J$18,'BLIKK OG VENTILASJON'!$A$7:$A$18,ÅRSTOT!$A14)+SUMIFS(ISOLATØR!J$7:J$18,ISOLATØR!$A$7:$A$18,ÅRSTOT!$A14)+SUMIFS(MALERE!J$7:J$18,MALERE!$A$7:$A$18,ÅRSTOT!$A14)+SUMIFS(TAKTEKKERE!J$7:J$18,TAKTEKKERE!$A$7:$A$18,ÅRSTOT!$A14)","v":582107},317.44,-0.11678124989081411,-7.6743303336598928E-2]
["Telemark",{"$f":"SUMIFS(BETONG!B$7:B$18,BETONG!$A$7:$A$18,ÅRSTOT!$A15)+SUMIFS(TØMRERE!B$7:B$18,TØMRERE!$A$7:$A$18,ÅRSTOT!$A15)+SUMIFS(RØRLEGGERE!B$7:B$18,RØRLEGGERE!$A$7:$A$18,ÅRSTOT!$A15)+SUMIFS(MURERE!B$7:B$18,MURERE!$A$7:$A$18,ÅRSTOT!$A15)+SUMIFS('BLIKK OG VENTILASJON'!B$7:B$18,'BLIKK OG VENTILASJON'!$A$7:$A$18,ÅRSTOT!$A15)+SUMIFS(ISOLATØR!B$7:B$18,ISOLATØR!$A$7:$A$18,ÅRSTOT!$A15)+SUMIFS(MALERE!B$7:B$18,MALERE!$A$7:$A$18,ÅRSTOT!$A15)+SUMIFS(TAKTEKKERE!B$7:B$18,TAKTEKKERE!$A$7:$A$18,ÅRSTOT!$A15)","v":26445934.600000001},{"$f":"SUMIFS(BETONG!C$7:C$18,BETONG!$A$7:$A$18,ÅRSTOT!$A15)+SUMIFS(TØMRERE!C$7:C$18,TØMRERE!$A$7:$A$18,ÅRSTOT!$A15)+SUMIFS(RØRLEGGERE!C$7:C$18,RØRLEGGERE!$A$7:$A$18,ÅRSTOT!$A15)+SUMIFS(MURERE!C$7:C$18,MURERE!$A$7:$A$18,ÅRSTOT!$A15)+SUMIFS('BLIKK OG VENTILASJON'!C$7:C$18,'BLIKK OG VENTILASJON'!$A$7:$A$18,ÅRSTOT!$A15)+SUMIFS(ISOLATØR!C$7:C$18,ISOLATØR!$A$7:$A$18,ÅRSTOT!$A15)+SUMIFS(MALERE!C$7:C$18,MALERE!$A$7:$A$18,ÅRSTOT!$A15)+SUMIFS(TAKTEKKERE!C$7:C$18,TAKTEKKERE!$A$7:$A$18,ÅRSTOT!$A15)","v":265600},{"$f":"SUMIFS(BETONG!D$7:D$18,BETONG!$A$7:$A$18,ÅRSTOT!$A15)+SUMIFS(TØMRERE!D$7:D$18,TØMRERE!$A$7:$A$18,ÅRSTOT!$A15)+SUMIFS(RØRLEGGERE!D$7:D$18,RØRLEGGERE!$A$7:$A$18,ÅRSTOT!$A15)+SUMIFS(MURERE!D$7:D$18,MURERE!$A$7:$A$18,ÅRSTOT!$A15)+SUMIFS('BLIKK OG VENTILASJON'!D$7:D$18,'BLIKK OG VENTILASJON'!$A$7:$A$18,ÅRSTOT!$A15)+SUMIFS(ISOLATØR!D$7:D$18,ISOLATØR!$A$7:$A$18,ÅRSTOT!$A15)+SUMIFS(MALERE!D$7:D$18,MALERE!$A$7:$A$18,ÅRSTOT!$A15)+SUMIFS(TAKTEKKERE!D$7:D$18,TAKTEKKERE!$A$7:$A$18,ÅRSTOT!$A15)","v":86294.5},{"$f":"SUMIFS(BETONG!E$7:E$18,BETONG!$A$7:$A$18,ÅRSTOT!$A15)+SUMIFS(TØMRERE!E$7:E$18,TØMRERE!$A$7:$A$18,ÅRSTOT!$A15)+SUMIFS(RØRLEGGERE!E$7:E$18,RØRLEGGERE!$A$7:$A$18,ÅRSTOT!$A15)+SUMIFS(MURERE!E$7:E$18,MURERE!$A$7:$A$18,ÅRSTOT!$A15)+SUMIFS('BLIKK OG VENTILASJON'!E$7:E$18,'BLIKK OG VENTILASJON'!$A$7:$A$18,ÅRSTOT!$A15)+SUMIFS(ISOLATØR!E$7:E$18,ISOLATØR!$A$7:$A$18,ÅRSTOT!$A15)+SUMIFS(MALERE!E$7:E$18,MALERE!$A$7:$A$18,ÅRSTOT!$A15)+SUMIFS(TAKTEKKERE!E$7:E$18,TAKTEKKERE!$A$7:$A$18,ÅRSTOT!$A15)","v":1270},306.46141526980284,209.13385826771653,305.04981585003054,{"$f":"SUMIFS(BETONG!I$7:I$18,BETONG!$A$7:$A$18,ÅRSTOT!$A15)+SUMIFS(TØMRERE!I$7:I$18,TØMRERE!$A$7:$A$18,ÅRSTOT!$A15)+SUMIFS(RØRLEGGERE!I$7:I$18,RØRLEGGERE!$A$7:$A$18,ÅRSTOT!$A15)+SUMIFS(MURERE!I$7:I$18,MURERE!$A$7:$A$18,ÅRSTOT!$A15)+SUMIFS('BLIKK OG VENTILASJON'!I$7:I$18,'BLIKK OG VENTILASJON'!$A$7:$A$18,ÅRSTOT!$A15)+SUMIFS(ISOLATØR!I$7:I$18,ISOLATØR!$A$7:$A$18,ÅRSTOT!$A15)+SUMIFS(MALERE!I$7:I$18,MALERE!$A$7:$A$18,ÅRSTOT!$A15)+SUMIFS(TAKTEKKERE!I$7:I$18,TAKTEKKERE!$A$7:$A$18,ÅRSTOT!$A15)","v":14191200},{"$f":"SUMIFS(BETONG!J$7:J$18,BETONG!$A$7:$A$18,ÅRSTOT!$A15)+SUMIFS(TØMRERE!J$7:J$18,TØMRERE!$A$7:$A$18,ÅRSTOT!$A15)+SUMIFS(RØRLEGGERE!J$7:J$18,RØRLEGGERE!$A$7:$A$18,ÅRSTOT!$A15)+SUMIFS(MURERE!J$7:J$18,MURERE!$A$7:$A$18,ÅRSTOT!$A15)+SUMIFS('BLIKK OG VENTILASJON'!J$7:J$18,'BLIKK OG VENTILASJON'!$A$7:$A$18,ÅRSTOT!$A15)+SUMIFS(ISOLATØR!J$7:J$18,ISOLATØR!$A$7:$A$18,ÅRSTOT!$A15)+SUMIFS(MALERE!J$7:J$18,MALERE!$A$7:$A$18,ÅRSTOT!$A15)+SUMIFS(TAKTEKKERE!J$7:J$18,TAKTEKKERE!$A$7:$A$18,ÅRSTOT!$A15)","v":0},306.23,0.86354463329387232,-3.8539142147061924E-3]
["Trondheim",{"$f":"SUMIFS(BETONG!B$7:B$18,BETONG!$A$7:$A$18,ÅRSTOT!$A16)+SUMIFS(TØMRERE!B$7:B$18,TØMRERE!$A$7:$A$18,ÅRSTOT!$A16)+SUMIFS(RØRLEGGERE!B$7:B$18,RØRLEGGERE!$A$7:$A$18,ÅRSTOT!$A16)+SUMIFS(MURERE!B$7:B$18,MURERE!$A$7:$A$18,ÅRSTOT!$A16)+SUMIFS('BLIKK OG VENTILASJON'!B$7:B$18,'BLIKK OG VENTILASJON'!$A$7:$A$18,ÅRSTOT!$A16)+SUMIFS(ISOLATØR!B$7:B$18,ISOLATØR!$A$7:$A$18,ÅRSTOT!$A16)+SUMIFS(MALERE!B$7:B$18,MALERE!$A$7:$A$18,ÅRSTOT!$A16)+SUMIFS(TAKTEKKERE!B$7:B$18,TAKTEKKERE!$A$7:$A$18,ÅRSTOT!$A16)","v":124184189.99000001},{"$f":"SUMIFS(BETONG!C$7:C$18,BETONG!$A$7:$A$18,ÅRSTOT!$A16)+SUMIFS(TØMRERE!C$7:C$18,TØMRERE!$A$7:$A$18,ÅRSTOT!$A16)+SUMIFS(RØRLEGGERE!C$7:C$18,RØRLEGGERE!$A$7:$A$18,ÅRSTOT!$A16)+SUMIFS(MURERE!C$7:C$18,MURERE!$A$7:$A$18,ÅRSTOT!$A16)+SUMIFS('BLIKK OG VENTILASJON'!C$7:C$18,'BLIKK OG VENTILASJON'!$A$7:$A$18,ÅRSTOT!$A16)+SUMIFS(ISOLATØR!C$7:C$18,ISOLATØR!$A$7:$A$18,ÅRSTOT!$A16)+SUMIFS(MALERE!C$7:C$18,MALERE!$A$7:$A$18,ÅRSTOT!$A16)+SUMIFS(TAKTEKKERE!C$7:C$18,TAKTEKKERE!$A$7:$A$18,ÅRSTOT!$A16)","v":12547056.780000001},{"$f":"SUMIFS(BETONG!D$7:D$18,BETONG!$A$7:$A$18,ÅRSTOT!$A16)+SUMIFS(TØMRERE!D$7:D$18,TØMRERE!$A$7:$A$18,ÅRSTOT!$A16)+SUMIFS(RØRLEGGERE!D$7:D$18,RØRLEGGERE!$A$7:$A$18,ÅRSTOT!$A16)+SUMIFS(MURERE!D$7:D$18,MURERE!$A$7:$A$18,ÅRSTOT!$A16)+SUMIFS('BLIKK OG VENTILASJON'!D$7:D$18,'BLIKK OG VENTILASJON'!$A$7:$A$18,ÅRSTOT!$A16)+SUMIFS(ISOLATØR!D$7:D$18,ISOLATØR!$A$7:$A$18,ÅRSTOT!$A16)+SUMIFS(MALERE!D$7:D$18,MALERE!$A$7:$A$18,ÅRSTOT!$A16)+SUMIFS(TAKTEKKERE!D$7:D$18,TAKTEKKERE!$A$7:$A$18,ÅRSTOT!$A16)","v":393951.08},{"$f":"SUMIFS(BETONG!E$7:E$18,BETONG!$A$7:$A$18,ÅRSTOT!$A16)+SUMIFS(TØMRERE!E$7:E$18,TØMRERE!$A$7:$A$18,ÅRSTOT!$A16)+SUMIFS(RØRLEGGERE!E$7:E$18,RØRLEGGERE!$A$7:$A$18,ÅRSTOT!$A16)+SUMIFS(MURERE!E$7:E$18,MURERE!$A$7:$A$18,ÅRSTOT!$A16)+SUMIFS('BLIKK OG VENTILASJON'!E$7:E$18,'BLIKK OG VENTILASJON'!$A$7:$A$18,ÅRSTOT!$A16)+SUMIFS(ISOLATØR!E$7:E$18,ISOLATØR!$A$7:$A$18,ÅRSTOT!$A16)+SUMIFS(MALERE!E$7:E$18,MALERE!$A$7:$A$18,ÅRSTOT!$A16)+SUMIFS(TAKTEKKERE!E$7:E$18,TAKTEKKERE!$A$7:$A$18,ÅRSTOT!$A16)","v":64069.08},{"$f":"IF(D16=0,0,B16/D16)","v":315.22743887388253},195.83638129344141,{"$f":"IF(D16+E16=0,0,(B16+C16)/(D16+E16))","v":298.52669971994248},{"$f":"SUMIFS(BETONG!I$7:I$18,BETONG!$A$7:$A$18,ÅRSTOT!$A16)+SUMIFS(TØMRERE!I$7:I$18,TØMRERE!$A$7:$A$18,ÅRSTOT!$A16)+SUMIFS(RØRLEGGERE!I$7:I$18,RØRLEGGERE!$A$7:$A$18,ÅRSTOT!$A16)+SUMIFS(MURERE!I$7:I$18,MURERE!$A$7:$A$18,ÅRSTOT!$A16)+SUMIFS('BLIKK OG VENTILASJON'!I$7:I$18,'BLIKK OG VENTILASJON'!$A$7:$A$18,ÅRSTOT!$A16)+SUMIFS(ISOLATØR!I$7:I$18,ISOLATØR!$A$7:$A$18,ÅRSTOT!$A16)+SUMIFS(MALERE!I$7:I$18,MALERE!$A$7:$A$18,ÅRSTOT!$A16)+SUMIFS(TAKTEKKERE!I$7:I$18,TAKTEKKERE!$A$7:$A$18,ÅRSTOT!$A16)","v":162442109.97},{"$f":"SUMIFS(BETONG!J$7:J$18,BETONG!$A$7:$A$18,ÅRSTOT!$A16)+SUMIFS(TØMRERE!J$7:J$18,TØMRERE!$A$7:$A$18,ÅRSTOT!$A16)+SUMIFS(RØRLEGGERE!J$7:J$18,RØRLEGGERE!$A$7:$A$18,ÅRSTOT!$A16)+SUMIFS(MURERE!J$7:J$18,MURERE!$A$7:$A$18,ÅRSTOT!$A16)+SUMIFS('BLIKK OG VENTILASJON'!J$7:J$18,'BLIKK OG VENTILASJON'!$A$7:$A$18,ÅRSTOT!$A16)+SUMIFS(ISOLATØR!J$7:J$18,ISOLATØR!$A$7:$A$18,ÅRSTOT!$A16)+SUMIFS(MALERE!J$7:J$18,MALERE!$A$7:$A$18,ÅRSTOT!$A16)+SUMIFS(TAKTEKKERE!J$7:J$18,TAKTEKKERE!$A$7:$A$18,ÅRSTOT!$A16)","v":13217204.33},294.04000000000002,-0.23551725588312974,1.5258807372950838E-2]
["Vestfold",{"$f":"SUMIFS(BETONG!B$7:B$18,BETONG!$A$7:$A$18,ÅRSTOT!$A17)+SUMIFS(TØMRERE!B$7:B$18,TØMRERE!$A$7:$A$18,ÅRSTOT!$A17)+SUMIFS(RØRLEGGERE!B$7:B$18,RØRLEGGERE!$A$7:$A$18,ÅRSTOT!$A17)+SUMIFS(MURERE!B$7:B$18,MURERE!$A$7:$A$18,ÅRSTOT!$A17)+SUMIFS('BLIKK OG VENTILASJON'!B$7:B$18,'BLIKK OG VENTILASJON'!$A$7:$A$18,ÅRSTOT!$A17)+SUMIFS(ISOLATØR!B$7:B$18,ISOLATØR!$A$7:$A$18,ÅRSTOT!$A17)+SUMIFS(MALERE!B$7:B$18,MALERE!$A$7:$A$18,ÅRSTOT!$A17)+SUMIFS(TAKTEKKERE!B$7:B$18,TAKTEKKERE!$A$7:$A$18,ÅRSTOT!$A17)","v":854436.06},{"$f":"SUMIFS(BETONG!C$7:C$18,BETONG!$A$7:$A$18,ÅRSTOT!$A17)+SUMIFS(TØMRERE!C$7:C$18,TØMRERE!$A$7:$A$18,ÅRSTOT!$A17)+SUMIFS(RØRLEGGERE!C$7:C$18,RØRLEGGERE!$A$7:$A$18,ÅRSTOT!$A17)+SUMIFS(MURERE!C$7:C$18,MURERE!$A$7:$A$18,ÅRSTOT!$A17)+SUMIFS('BLIKK OG VENTILASJON'!C$7:C$18,'BLIKK OG VENTILASJON'!$A$7:$A$18,ÅRSTOT!$A17)+SUMIFS(ISOLATØR!C$7:C$18,ISOLATØR!$A$7:$A$18,ÅRSTOT!$A17)+SUMIFS(MALERE!C$7:C$18,MALERE!$A$7:$A$18,ÅRSTOT!$A17)+SUMIFS(TAKTEKKERE!C$7:C$18,TAKTEKKERE!$A$7:$A$18,ÅRSTOT!$A17)","v":0},{"$f":"SUMIFS(BETONG!D$7:D$18,BETONG!$A$7:$A$18,ÅRSTOT!$A17)+SUMIFS(TØMRERE!D$7:D$18,TØMRERE!$A$7:$A$18,ÅRSTOT!$A17)+SUMIFS(RØRLEGGERE!D$7:D$18,RØRLEGGERE!$A$7:$A$18,ÅRSTOT!$A17)+SUMIFS(MURERE!D$7:D$18,MURERE!$A$7:$A$18,ÅRSTOT!$A17)+SUMIFS('BLIKK OG VENTILASJON'!D$7:D$18,'BLIKK OG VENTILASJON'!$A$7:$A$18,ÅRSTOT!$A17)+SUMIFS(ISOLATØR!D$7:D$18,ISOLATØR!$A$7:$A$18,ÅRSTOT!$A17)+SUMIFS(MALERE!D$7:D$18,MALERE!$A$7:$A$18,ÅRSTOT!$A17)+SUMIFS(TAKTEKKERE!D$7:D$18,TAKTEKKERE!$A$7:$A$18,ÅRSTOT!$A17)","v":1897},{"$f":"SUMIFS(BETONG!E$7:E$18,BETONG!$A$7:$A$18,ÅRSTOT!$A17)+SUMIFS(TØMRERE!E$7:E$18,TØMRERE!$A$7:$A$18,ÅRSTOT!$A17)+SUMIFS(RØRLEGGERE!E$7:E$18,RØRLEGGERE!$A$7:$A$18,ÅRSTOT!$A17)+SUMIFS(MURERE!E$7:E$18,MURERE!$A$7:$A$18,ÅRSTOT!$A17)+SUMIFS('BLIKK OG VENTILASJON'!E$7:E$18,'BLIKK OG VENTILASJON'!$A$7:$A$18,ÅRSTOT!$A17)+SUMIFS(ISOLATØR!E$7:E$18,ISOLATØR!$A$7:$A$18,ÅRSTOT!$A17)+SUMIFS(MALERE!E$7:E$18,MALERE!$A$7:$A$18,ÅRSTOT!$A17)+SUMIFS(TAKTEKKERE!E$7:E$18,TAKTEKKERE!$A$7:$A$18,ÅRSTOT!$A17)","v":0},450.41437005798633,0,450.41437005798633,{"$f":"SUMIFS(BETONG!I$7:I$18,BETONG!$A$7:$A$18,ÅRSTOT!$A17)+SUMIFS(TØMRERE!I$7:I$18,TØMRERE!$A$7:$A$18,ÅRSTOT!$A17)+SUMIFS(RØRLEGGERE!I$7:I$18,RØRLEGGERE!$A$7:$A$18,ÅRSTOT!$A17)+SUMIFS(MURERE!I$7:I$18,MURERE!$A$7:$A$18,ÅRSTOT!$A17)+SUMIFS('BLIKK OG VENTILASJON'!I$7:I$18,'BLIKK OG VENTILASJON'!$A$7:$A$18,ÅRSTOT!$A17)+SUMIFS(ISOLATØR!I$7:I$18,ISOLATØR!$A$7:$A$18,ÅRSTOT!$A17)+SUMIFS(MALERE!I$7:I$18,MALERE!$A$7:$A$18,ÅRSTOT!$A17)+SUMIFS(TAKTEKKERE!I$7:I$18,TAKTEKKERE!$A$7:$A$18,ÅRSTOT!$A17)","v":955217.98},{"$f":"SUMIFS(BETONG!J$7:J$18,BETONG!$A$7:$A$18,ÅRSTOT!$A17)+SUMIFS(TØMRERE!J$7:J$18,TØMRERE!$A$7:$A$18,ÅRSTOT!$A17)+SUMIFS(RØRLEGGERE!J$7:J$18,RØRLEGGERE!$A$7:$A$18,ÅRSTOT!$A17)+SUMIFS(MURERE!J$7:J$18,MURERE!$A$7:$A$18,ÅRSTOT!$A17)+SUMIFS('BLIKK OG VENTILASJON'!J$7:J$18,'BLIKK OG VENTILASJON'!$A$7:$A$18,ÅRSTOT!$A17)+SUMIFS(ISOLATØR!J$7:J$18,ISOLATØR!$A$7:$A$18,ÅRSTOT!$A17)+SUMIFS(MALERE!J$7:J$18,MALERE!$A$7:$A$18,ÅRSTOT!$A17)+SUMIFS(TAKTEKKERE!J$7:J$18,TAKTEKKERE!$A$7:$A$18,ÅRSTOT!$A17)","v":944328},179.14,-0.10550672423481804,1.5143148937031727]
["Østfold",{"$f":"SUMIFS(BETONG!B$7:B$18,BETONG!$A$7:$A$18,ÅRSTOT!$A18)+SUMIFS(TØMRERE!B$7:B$18,TØMRERE!$A$7:$A$18,ÅRSTOT!$A18)+SUMIFS(RØRLEGGERE!B$7:B$18,RØRLEGGERE!$A$7:$A$18,ÅRSTOT!$A18)+SUMIFS(MURERE!B$7:B$18,MURERE!$A$7:$A$18,ÅRSTOT!$A18)+SUMIFS('BLIKK OG VENTILASJON'!B$7:B$18,'BLIKK OG VENTILASJON'!$A$7:$A$18,ÅRSTOT!$A18)+SUMIFS(ISOLATØR!B$7:B$18,ISOLATØR!$A$7:$A$18,ÅRSTOT!$A18)+SUMIFS(MALERE!B$7:B$18,MALERE!$A$7:$A$18,ÅRSTOT!$A18)+SUMIFS(TAKTEKKERE!B$7:B$18,TAKTEKKERE!$A$7:$A$18,ÅRSTOT!$A18)","v":9501433},{"$f":"SUMIFS(BETONG!C$7:C$18,BETONG!$A$7:$A$18,ÅRSTOT!$A18)+SUMIFS(TØMRERE!C$7:C$18,TØMRERE!$A$7:$A$18,ÅRSTOT!$A18)+SUMIFS(RØRLEGGERE!C$7:C$18,RØRLEGGERE!$A$7:$A$18,ÅRSTOT!$A18)+SUMIFS(MURERE!C$7:C$18,MURERE!$A$7:$A$18,ÅRSTOT!$A18)+SUMIFS('BLIKK OG VENTILASJON'!C$7:C$18,'BLIKK OG VENTILASJON'!$A$7:$A$18,ÅRSTOT!$A18)+SUMIFS(ISOLATØR!C$7:C$18,ISOLATØR!$A$7:$A$18,ÅRSTOT!$A18)+SUMIFS(MALERE!C$7:C$18,MALERE!$A$7:$A$18,ÅRSTOT!$A18)+SUMIFS(TAKTEKKERE!C$7:C$18,TAKTEKKERE!$A$7:$A$18,ÅRSTOT!$A18)","v":2279375},{"$f":"SUMIFS(BETONG!D$7:D$18,BETONG!$A$7:$A$18,ÅRSTOT!$A18)+SUMIFS(TØMRERE!D$7:D$18,TØMRERE!$A$7:$A$18,ÅRSTOT!$A18)+SUMIFS(RØRLEGGERE!D$7:D$18,RØRLEGGERE!$A$7:$A$18,ÅRSTOT!$A18)+SUMIFS(MURERE!D$7:D$18,MURERE!$A$7:$A$18,ÅRSTOT!$A18)+SUMIFS('BLIKK OG VENTILASJON'!D$7:D$18,'BLIKK OG VENTILASJON'!$A$7:$A$18,ÅRSTOT!$A18)+SUMIFS(ISOLATØR!D$7:D$18,ISOLATØR!$A$7:$A$18,ÅRSTOT!$A18)+SUMIFS(MALERE!D$7:D$18,MALERE!$A$7:$A$18,ÅRSTOT!$A18)+SUMIFS(TAKTEKKERE!D$7:D$18,TAKTEKKERE!$A$7:$A$18,ÅRSTOT!$A18)","v":30747},{"$f":"SUMIFS(BETONG!E$7:E$18,BETONG!$A$7:$A$18,ÅRSTOT!$A18)+SUMIFS(TØMRERE!E$7:E$18,TØMRERE!$A$7:$A$18,ÅRSTOT!$A18)+SUMIFS(RØRLEGGERE!E$7:E$18,RØRLEGGERE!$A$7:$A$18,ÅRSTOT!$A18)+SUMIFS(MURERE!E$7:E$18,MURERE!$A$7:$A$18,ÅRSTOT!$A18)+SUMIFS('BLIKK OG VENTILASJON'!E$7:E$18,'BLIKK OG VENTILASJON'!$A$7:$A$18,ÅRSTOT!$A18)+SUMIFS(ISOLATØR!E$7:E$18,ISOLATØR!$A$7:$A$18,ÅRSTOT!$A18)+SUMIFS(MALERE!E$7:E$18,MALERE!$A$7:$A$18,ÅRSTOT!$A18)+SUMIFS(TAKTEKKERE!E$7:E$18,TAKTEKKERE!$A$7:$A$18,ÅRSTOT!$A18)","v":10349.5},309.01983933391875,220.2401082177883,286.66207584587494,{"$f":"SUMIFS(BETONG!I$7:I$18,BETONG!$A$7:$A$18,ÅRSTOT!$A18)+SUMIFS(TØMRERE!I$7:I$18,TØMRERE!$A$7:$A$18,ÅRSTOT!$A18)+SUMIFS(RØRLEGGERE!I$7:I$18,RØRLEGGERE!$A$7:$A$18,ÅRSTOT!$A18)+SUMIFS(MURERE!I$7:I$18,MURERE!$A$7:$A$18,ÅRSTOT!$A18)+SUMIFS('BLIKK OG VENTILASJON'!I$7:I$18,'BLIKK OG VENTILASJON'!$A$7:$A$18,ÅRSTOT!$A18)+SUMIFS(ISOLATØR!I$7:I$18,ISOLATØR!$A$7:$A$18,ÅRSTOT!$A18)+SUMIFS(MALERE!I$7:I$18,MALERE!$A$7:$A$18,ÅRSTOT!$A18)+SUMIFS(TAKTEKKERE!I$7:I$18,TAKTEKKERE!$A$7:$A$18,ÅRSTOT!$A18)","v":9063849},{"$f":"SUMIFS(BETONG!J$7:J$18,BETONG!$A$7:$A$18,ÅRSTOT!$A18)+SUMIFS(TØMRERE!J$7:J$18,TØMRERE!$A$7:$A$18,ÅRSTOT!$A18)+SUMIFS(RØRLEGGERE!J$7:J$18,RØRLEGGERE!$A$7:$A$18,ÅRSTOT!$A18)+SUMIFS(MURERE!J$7:J$18,MURERE!$A$7:$A$18,ÅRSTOT!$A18)+SUMIFS('BLIKK OG VENTILASJON'!J$7:J$18,'BLIKK OG VENTILASJON'!$A$7:$A$18,ÅRSTOT!$A18)+SUMIFS(ISOLATØR!J$7:J$18,ISOLATØR!$A$7:$A$18,ÅRSTOT!$A18)+SUMIFS(MALERE!J$7:J$18,MALERE!$A$7:$A$18,ÅRSTOT!$A18)+SUMIFS(TAKTEKKERE!J$7:J$18,TAKTEKKERE!$A$7:$A$18,ÅRSTOT!$A18)","v":6304938},262.49,4.8277944612713647E-2,9.2087606559773424E-2]
["Oslo",{"$f":"SUMIFS(BETONG!B$7:B$18,BETONG!$A$7:$A$18,ÅRSTOT!$A19)+SUMIFS(TØMRERE!B$7:B$18,TØMRERE!$A$7:$A$18,ÅRSTOT!$A19)+SUMIFS(RØRLEGGERE!B$7:B$18,RØRLEGGERE!$A$7:$A$18,ÅRSTOT!$A19)+SUMIFS(MURERE!B$7:B$18,MURERE!$A$7:$A$18,ÅRSTOT!$A19)+SUMIFS('BLIKK OG VENTILASJON'!B$7:B$18,'BLIKK OG VENTILASJON'!$A$7:$A$18,ÅRSTOT!$A19)+SUMIFS(ISOLATØR!B$7:B$18,ISOLATØR!$A$7:$A$18,ÅRSTOT!$A19)+SUMIFS(MALERE!B$7:B$18,MALERE!$A$7:$A$18,ÅRSTOT!$A19)+SUMIFS(TAKTEKKERE!B$7:B$18,TAKTEKKERE!$A$7:$A$18,ÅRSTOT!$A19)","v":105329865.76000001},{"$f":"SUMIFS(BETONG!C$7:C$18,BETONG!$A$7:$A$18,ÅRSTOT!$A19)+SUMIFS(TØMRERE!C$7:C$18,TØMRERE!$A$7:$A$18,ÅRSTOT!$A19)+SUMIFS(RØRLEGGERE!C$7:C$18,RØRLEGGERE!$A$7:$A$18,ÅRSTOT!$A19)+SUMIFS(MURERE!C$7:C$18,MURERE!$A$7:$A$18,ÅRSTOT!$A19)+SUMIFS('BLIKK OG VENTILASJON'!C$7:C$18,'BLIKK OG VENTILASJON'!$A$7:$A$18,ÅRSTOT!$A19)+SUMIFS(ISOLATØR!C$7:C$18,ISOLATØR!$A$7:$A$18,ÅRSTOT!$A19)+SUMIFS(MALERE!C$7:C$18,MALERE!$A$7:$A$18,ÅRSTOT!$A19)+SUMIFS(TAKTEKKERE!C$7:C$18,TAKTEKKERE!$A$7:$A$18,ÅRSTOT!$A19)","v":2745163.0300000003},{"$f":"SUMIFS(BETONG!D$7:D$18,BETONG!$A$7:$A$18,ÅRSTOT!$A19)+SUMIFS(TØMRERE!D$7:D$18,TØMRERE!$A$7:$A$18,ÅRSTOT!$A19)+SUMIFS(RØRLEGGERE!D$7:D$18,RØRLEGGERE!$A$7:$A$18,ÅRSTOT!$A19)+SUMIFS(MURERE!D$7:D$18,MURERE!$A$7:$A$18,ÅRSTOT!$A19)+SUMIFS('BLIKK OG VENTILASJON'!D$7:D$18,'BLIKK OG VENTILASJON'!$A$7:$A$18,ÅRSTOT!$A19)+SUMIFS(ISOLATØR!D$7:D$18,ISOLATØR!$A$7:$A$18,ÅRSTOT!$A19)+SUMIFS(MALERE!D$7:D$18,MALERE!$A$7:$A$18,ÅRSTOT!$A19)+SUMIFS(TAKTEKKERE!D$7:D$18,TAKTEKKERE!$A$7:$A$18,ÅRSTOT!$A19)","v":312700.40000000002},{"$f":"SUMIFS(BETONG!E$7:E$18,BETONG!$A$7:$A$18,ÅRSTOT!$A19)+SUMIFS(TØMRERE!E$7:E$18,TØMRERE!$A$7:$A$18,ÅRSTOT!$A19)+SUMIFS(RØRLEGGERE!E$7:E$18,RØRLEGGERE!$A$7:$A$18,ÅRSTOT!$A19)+SUMIFS(MURERE!E$7:E$18,MURERE!$A$7:$A$18,ÅRSTOT!$A19)+SUMIFS('BLIKK OG VENTILASJON'!E$7:E$18,'BLIKK OG VENTILASJON'!$A$7:$A$18,ÅRSTOT!$A19)+SUMIFS(ISOLATØR!E$7:E$18,ISOLATØR!$A$7:$A$18,ÅRSTOT!$A19)+SUMIFS(MALERE!E$7:E$18,MALERE!$A$7:$A$18,ÅRSTOT!$A19)+SUMIFS(TAKTEKKERE!E$7:E$18,TAKTEKKERE!$A$7:$A$18,ÅRSTOT!$A19)","v":12826.7},336.83956195770776,214.01943056281038,332.0000970426118,{"$f":"SUMIFS(BETONG!I$7:I$18,BETONG!$A$7:$A$18,ÅRSTOT!$A19)+SUMIFS(TØMRERE!I$7:I$18,TØMRERE!$A$7:$A$18,ÅRSTOT!$A19)+SUMIFS(RØRLEGGERE!I$7:I$18,RØRLEGGERE!$A$7:$A$18,ÅRSTOT!$A19)+SUMIFS(MURERE!I$7:I$18,MURERE!$A$7:$A$18,ÅRSTOT!$A19)+SUMIFS('BLIKK OG VENTILASJON'!I$7:I$18,'BLIKK OG VENTILASJON'!$A$7:$A$18,ÅRSTOT!$A19)+SUMIFS(ISOLATØR!I$7:I$18,ISOLATØR!$A$7:$A$18,ÅRSTOT!$A19)+SUMIFS(MALERE!I$7:I$18,MALERE!$A$7:$A$18,ÅRSTOT!$A19)+SUMIFS(TAKTEKKERE!I$7:I$18,TAKTEKKERE!$A$7:$A$18,ÅRSTOT!$A19)","v":96996939.170000017},{"$f":"SUMIFS(BETONG!J$7:J$18,BETONG!$A$7:$A$18,ÅRSTOT!$A19)+SUMIFS(TØMRERE!J$7:J$18,TØMRERE!$A$7:$A$18,ÅRSTOT!$A19)+SUMIFS(RØRLEGGERE!J$7:J$18,RØRLEGGERE!$A$7:$A$18,ÅRSTOT!$A19)+SUMIFS(MURERE!J$7:J$18,MURERE!$A$7:$A$18,ÅRSTOT!$A19)+SUMIFS('BLIKK OG VENTILASJON'!J$7:J$18,'BLIKK OG VENTILASJON'!$A$7:$A$18,ÅRSTOT!$A19)+SUMIFS(ISOLATØR!J$7:J$18,ISOLATØR!$A$7:$A$18,ÅRSTOT!$A19)+SUMIFS(MALERE!J$7:J$18,MALERE!$A$7:$A$18,ÅRSTOT!$A19)+SUMIFS(TAKTEKKERE!J$7:J$18,TAKTEKKERE!$A$7:$A$18,ÅRSTOT!$A19)","v":8481271.4100000001},306.61,8.5909170550169917E-2,8.280909638502261E-2]
["Landet i alt",{"$f":"SUM(B7:B19)","v":351250038.08000004},{"$f":"SUM(C7:C19)","v":18797135.810000002},{"$f":"SUM(D7:D19)","v":1101539.2200000002},{"$f":"SUM(E7:E19)","v":92937.76},{"$f":"IF(D20=0,0,B20/D20)","v":318.87202171521409},{"$f":"IF(E20=0,0,C20/E20)","v":202.25509857349698},{"$f":"IF(D20+E20=0,0,(B20+C20)/(D20+E20))","v":309.79849765710844},{"$f":"SUM(I7:I19)","v":370597268.37},{"$f":"SUM(J7:J19)","v":29529848.739999998},294.64999999999998,{"$f":"IF(I20=0,0,(B20-I20)/I20)","v":-5.2205539385368357E-2},{"$f":"IF(K20=0,0,(H20-K20)/K20)","v":5.1411836609904858E-2}]
[]
[]
[{"$f":"\"MÅLESTATISTIKK FOR ALLE BYGGFAG - 2. HALVÅR \"&FORS!$A$14","v":"MÅLESTATISTIKK FOR ALLE BYGGFAG - 2. HALVÅR 2020"}]
[]
[null,"Målesum i kroner",null,"Timer",null,{"$f":"\"Fortjeneste 2. halvår  \"&FORS!$A$14-0","v":"Fortjeneste 2. halvår  2020"},null,null,{"$f":"\" 2. halvår  \"&FORS!$A$14-1","v":" 2. halvår  2019"},null,null,"Endringer i %"]
[null,"Innmålt m/","Innmålt m/","Innmålt m/","Innmålt m/","Innmålt m/","Innmålt m/","Gjennom-","Innmålt m/","Innmålt m/","Gjen.snitt","Innmålt m/","Gjen.snitt"]
[null,"overskudd","underskudd","overskudd","underskudd","overskudd","underskudd","snitt","overskudd","underskudd","fortjeneste","overskudd","fortjeneste"]
["Agder",{"$f":"SUMIFS(BETONG!B$27:B$38,BETONG!$A$27:$A$38,ÅRSTOT!$A28)+SUMIFS(TØMRERE!B$27:B$38,TØMRERE!$A$27:$A$38,ÅRSTOT!$A28)+SUMIFS(RØRLEGGERE!B$27:B$38,RØRLEGGERE!$A$27:$A$38,ÅRSTOT!$A28)+SUMIFS(MURERE!B$27:B$38,MURERE!$A$27:$A$38,ÅRSTOT!$A28)+SUMIFS('BLIKK OG VENTILASJON'!B$27:B$38,'BLIKK OG VENTILASJON'!$A$27:$A$38,ÅRSTOT!$A28)+SUMIFS(ISOLATØR!B$27:B$38,ISOLATØR!$A$27:$A$38,ÅRSTOT!$A28)+SUMIFS(MALERE!B$27:B$38,MALERE!$A$27:$A$38,ÅRSTOT!$A28)+SUMIFS(TAKTEKKERE!B$27:B$38,TAKTEKKERE!$A$27:$A$38,ÅRSTOT!$A28)","v":11804988},{"$f":"SUMIFS(BETONG!C$27:C$38,BETONG!$A$27:$A$38,ÅRSTOT!$A28)+SUMIFS(TØMRERE!C$27:C$38,TØMRERE!$A$27:$A$38,ÅRSTOT!$A28)+SUMIFS(RØRLEGGERE!C$27:C$38,RØRLEGGERE!$A$27:$A$38,ÅRSTOT!$A28)+SUMIFS(MURERE!C$27:C$38,MURERE!$A$27:$A$38,ÅRSTOT!$A28)+SUMIFS('BLIKK OG VENTILASJON'!C$27:C$38,'BLIKK OG VENTILASJON'!$A$27:$A$38,ÅRSTOT!$A28)+SUMIFS(ISOLATØR!C$27:C$38,ISOLATØR!$A$27:$A$38,ÅRSTOT!$A28)+SUMIFS(MALERE!C$27:C$38,MALERE!$A$27:$A$38,ÅRSTOT!$A28)+SUMIFS(TAKTEKKERE!C$27:C$38,TAKTEKKERE!$A$27:$A$38,ÅRSTOT!$A28)","v":0},{"$f":"SUMIFS(BETONG!D$27:D$38,BETONG!$A$27:$A$38,ÅRSTOT!$A28)+SUMIFS(TØMRERE!D$27:D$38,TØMRERE!$A$27:$A$38,ÅRSTOT!$A28)+SUMIFS(RØRLEGGERE!D$27:D$38,RØRLEGGERE!$A$27:$A$38,ÅRSTOT!$A28)+SUMIFS(MURERE!D$27:D$38,MURERE!$A$27:$A$38,ÅRSTOT!$A28)+SUMIFS('BLIKK OG VENTILASJON'!D$27:D$38,'BLIKK OG VENTILASJON'!$A$27:$A$38,ÅRSTOT!$A28)+SUMIFS(ISOLATØR!D$27:D$38,ISOLATØR!$A$27:$A$38,ÅRSTOT!$A28)+SUMIFS(MALERE!D$27:D$38,MALERE!$A$27:$A$38,ÅRSTOT!$A28)+SUMIFS(TAKTEKKERE!D$27:D$38,TAKTEKKERE!$A$27:$A$38,ÅRSTOT!$A28)","v":38347},{"$f":"SUMIFS(BETONG!E$27:E$38,BETONG!$A$27:$A$38,ÅRSTOT!$A28)+SUMIFS(TØMRERE!E$27:E$38,TØMRERE!$A$27:$A$38,ÅRSTOT!$A28)+SUMIFS(RØRLEGGERE!E$27:E$38,RØRLEGGERE!$A$27:$A$38,ÅRSTOT!$A28)+SUMIFS(MURERE!E$27:E$38,MURERE!$A$27:$A$38,ÅRSTOT!$A28)+SUMIFS('BLIKK OG VENTILASJON'!E$27:E$38,'BLIKK OG VENTILASJON'!$A$27:$A$38,ÅRSTOT!$A28)+SUMIFS(ISOLATØR!E$27:E$38,ISOLATØR!$A$27:$A$38,ÅRSTOT!$A28)+SUMIFS(MALERE!E$27:E$38,MALERE!$A$27:$A$38,ÅRSTOT!$A28)+SUMIFS(TAKTEKKERE!E$27:E$38,TAKTEKKERE!$A$27:$A$38,ÅRSTOT!$A28)","v":0},{"$f":"IF(D28=0,0,B28/D28)","v":307.84645474222236},{"$f":"IF(E28=0,0,C28/E28)","v":0},{"$f":"IF(D28+E28=0,0,(B28+C28)/(D28+E28))","v":307.84645474222236},{"$f":"SUMIFS(BETONG!I$27:I$38,BETONG!$A$27:$A$38,ÅRSTOT!$A28)+SUMIFS(TØMRERE!I$27:I$38,TØMRERE!$A$27:$A$38,ÅRSTOT!$A28)+SUMIFS(RØRLEGGERE!I$27:I$38,RØRLEGGERE!$A$27:$A$38,ÅRSTOT!$A28)+SUMIFS(MURERE!I$27:I$38,MURERE!$A$27:$A$38,ÅRSTOT!$A28)+SUMIFS('BLIKK OG VENTILASJON'!I$27:I$38,'BLIKK OG VENTILASJON'!$A$27:$A$38,ÅRSTOT!$A28)+SUMIFS(ISOLATØR!I$27:I$38,ISOLATØR!$A$27:$A$38,ÅRSTOT!$A28)+SUMIFS(MALERE!I$27:I$38,MALERE!$A$27:$A$38,ÅRSTOT!$A28)+SUMIFS(TAKTEKKERE!I$27:I$38,TAKTEKKERE!$A$27:$A$38,ÅRSTOT!$A28)","v":4983250},{"$f":"SUMIFS(BETONG!J$27:J$38,BETONG!$A$27:$A$38,ÅRSTOT!$A28)+SUMIFS(TØMRERE!J$27:J$38,TØMRERE!$A$27:$A$38,ÅRSTOT!$A28)+SUMIFS(RØRLEGGERE!J$27:J$38,RØRLEGGERE!$A$27:$A$38,ÅRSTOT!$A28)+SUMIFS(MURERE!J$27:J$38,MURERE!$A$27:$A$38,ÅRSTOT!$A28)+SUMIFS('BLIKK OG VENTILASJON'!J$27:J$38,'BLIKK OG VENTILASJON'!$A$27:$A$38,ÅRSTOT!$A28)+SUMIFS(ISOLATØR!J$27:J$38,ISOLATØR!$A$27:$A$38,ÅRSTOT!$A28)+SUMIFS(MALERE!J$27:J$38,MALERE!$A$27:$A$38,ÅRSTOT!$A28)+SUMIFS(TAKTEKKERE!J$27:J$38,TAKTEKKERE!$A$27:$A$38,ÅRSTOT!$A28)","v":277034},287.75,{"$f":"IF(I28=0,0,(B28-I28)/I28)","v":1.3689335273165104},{"$f":"IF(K28=0,0,(H28-K28)/K28)","v":6.9839981727966516E-2}]
["Bergen",{"$f":"SUMIFS(BETONG!B$27:B$38,BETONG!$A$27:$A$38,ÅRSTOT!$A29)+SUMIFS(TØMRERE!B$27:B$38,TØMRERE!$A$27:$A$38,ÅRSTOT!$A29)+SUMIFS(RØRLEGGERE!B$27:B$38,RØRLEGGERE!$A$27:$A$38,ÅRSTOT!$A29)+SUMIFS(MURERE!B$27:B$38,MURERE!$A$27:$A$38,ÅRSTOT!$A29)+SUMIFS('BLIKK OG VENTILASJON'!B$27:B$38,'BLIKK OG VENTILASJON'!$A$27:$A$38,ÅRSTOT!$A29)+SUMIFS(ISOLATØR!B$27:B$38,ISOLATØR!$A$27:$A$38,ÅRSTOT!$A29)+SUMIFS(MALERE!B$27:B$38,MALERE!$A$27:$A$38,ÅRSTOT!$A29)+SUMIFS(TAKTEKKERE!B$27:B$38,TAKTEKKERE!$A$27:$A$38,ÅRSTOT!$A29)","v":38863806.780000001},{"$f":"SUMIFS(BETONG!C$27:C$38,BETONG!$A$27:$A$38,ÅRSTOT!$A29)+SUMIFS(TØMRERE!C$27:C$38,TØMRERE!$A$27:$A$38,ÅRSTOT!$A29)+SUMIFS(RØRLEGGERE!C$27:C$38,RØRLEGGERE!$A$27:$A$38,ÅRSTOT!$A29)+SUMIFS(MURERE!C$27:C$38,MURERE!$A$27:$A$38,ÅRSTOT!$A29)+SUMIFS('BLIKK OG VENTILASJON'!C$27:C$38,'BLIKK OG VENTILASJON'!$A$27:$A$38,ÅRSTOT!$A29)+SUMIFS(ISOLATØR!C$27:C$38,ISOLATØR!$A$27:$A$38,ÅRSTOT!$A29)+SUMIFS(MALERE!C$27:C$38,MALERE!$A$27:$A$38,ÅRSTOT!$A29)+SUMIFS(TAKTEKKERE!C$27:C$38,TAKTEKKERE!$A$27:$A$38,ÅRSTOT!$A29)","v":0},{"$f":"SUMIFS(BETONG!D$27:D$38,BETONG!$A$27:$A$38,ÅRSTOT!$A29)+SUMIFS(TØMRERE!D$27:D$38,TØMRERE!$A$27:$A$38,ÅRSTOT!$A29)+SUMIFS(RØRLEGGERE!D$27:D$38,RØRLEGGERE!$A$27:$A$38,ÅRSTOT!$A29)+SUMIFS(MURERE!D$27:D$38,MURERE!$A$27:$A$38,ÅRSTOT!$A29)+SUMIFS('BLIKK OG VENTILASJON'!D$27:D$38,'BLIKK OG VENTILASJON'!$A$27:$A$38,ÅRSTOT!$A29)+SUMIFS(ISOLATØR!D$27:D$38,ISOLATØR!$A$27:$A$38,ÅRSTOT!$A29)+SUMIFS(MALERE!D$27:D$38,MALERE!$A$27:$A$38,ÅRSTOT!$A29)+SUMIFS(TAKTEKKERE!D$27:D$38,TAKTEKKERE!$A$27:$A$38,ÅRSTOT!$A29)","v":135363.47000000003},{"$f":"SUMIFS(BETONG!E$27:E$38,BETONG!$A$27:$A$38,ÅRSTOT!$A29)+SUMIFS(TØMRERE!E$27:E$38,TØMRERE!$A$27:$A$38,ÅRSTOT!$A29)+SUMIFS(RØRLEGGERE!E$27:E$38,RØRLEGGERE!$A$27:$A$38,ÅRSTOT!$A29)+SUMIFS(MURERE!E$27:E$38,MURERE!$A$27:$A$38,ÅRSTOT!$A29)+SUMIFS('BLIKK OG VENTILASJON'!E$27:E$38,'BLIKK OG VENTILASJON'!$A$27:$A$38,ÅRSTOT!$A29)+SUMIFS(ISOLATØR!E$27:E$38,ISOLATØR!$A$27:$A$38,ÅRSTOT!$A29)+SUMIFS(MALERE!E$27:E$38,MALERE!$A$27:$A$38,ÅRSTOT!$A29)+SUMIFS(TAKTEKKERE!E$27:E$38,TAKTEKKERE!$A$27:$A$38,ÅRSTOT!$A29)","v":0},287.1070517030924,0,287.1070517030924,{"$f":"SUMIFS(BETONG!I$27:I$38,BETONG!$A$27:$A$38,ÅRSTOT!$A29)+SUMIFS(TØMRERE!I$27:I$38,TØMRERE!$A$27:$A$38,ÅRSTOT!$A29)+SUMIFS(RØRLEGGERE!I$27:I$38,RØRLEGGERE!$A$27:$A$38,ÅRSTOT!$A29)+SUMIFS(MURERE!I$27:I$38,MURERE!$A$27:$A$38,ÅRSTOT!$A29)+SUMIFS('BLIKK OG VENTILASJON'!I$27:I$38,'BLIKK OG VENTILASJON'!$A$27:$A$38,ÅRSTOT!$A29)+SUMIFS(ISOLATØR!I$27:I$38,ISOLATØR!$A$27:$A$38,ÅRSTOT!$A29)+SUMIFS(MALERE!I$27:I$38,MALERE!$A$27:$A$38,ÅRSTOT!$A29)+SUMIFS(TAKTEKKERE!I$27:I$38,TAKTEKKERE!$A$27:$A$38,ÅRSTOT!$A29)","v":20959880.149999999},{"$f":"SUMIFS(BETONG!J$27:J$38,BETONG!$A$27:$A$38,ÅRSTOT!$A29)+SUMIFS(TØMRERE!J$27:J$38,TØMRERE!$A$27:$A$38,ÅRSTOT!$A29)+SUMIFS(RØRLEGGERE!J$27:J$38,RØRLEGGERE!$A$27:$A$38,ÅRSTOT!$A29)+SUMIFS(MURERE!J$27:J$38,MURERE!$A$27:$A$38,ÅRSTOT!$A29)+SUMIFS('BLIKK OG VENTILASJON'!J$27:J$38,'BLIKK OG VENTILASJON'!$A$27:$A$38,ÅRSTOT!$A29)+SUMIFS(ISOLATØR!J$27:J$38,ISOLATØR!$A$27:$A$38,ÅRSTOT!$A29)+SUMIFS(MALERE!J$27:J$38,MALERE!$A$27:$A$38,ÅRSTOT!$A29)+SUMIFS(TAKTEKKERE!J$27:J$38,TAKTEKKERE!$A$27:$A$38,ÅRSTOT!$A29)","v":0},290.69,{"$f":"IF(I29=0,0,(B29-I29)/I29)","v":0.85419985714946967},-1.2325667538985181E-2]
["Nordland",{"$f":"SUMIFS(BETONG!B$27:B$38,BETONG!$A$27:$A$38,ÅRSTOT!$A30)+SUMIFS(TØMRERE!B$27:B$38,TØMRERE!$A$27:$A$38,ÅRSTOT!$A30)+SUMIFS(RØRLEGGERE!B$27:B$38,RØRLEGGERE!$A$27:$A$38,ÅRSTOT!$A30)+SUMIFS(MURERE!B$27:B$38,MURERE!$A$27:$A$38,ÅRSTOT!$A30)+SUMIFS('BLIKK OG VENTILASJON'!B$27:B$38,'BLIKK OG VENTILASJON'!$A$27:$A$38,ÅRSTOT!$A30)+SUMIFS(ISOLATØR!B$27:B$38,ISOLATØR!$A$27:$A$38,ÅRSTOT!$A30)+SUMIFS(MALERE!B$27:B$38,MALERE!$A$27:$A$38,ÅRSTOT!$A30)+SUMIFS(TAKTEKKERE!B$27:B$38,TAKTEKKERE!$A$27:$A$38,ÅRSTOT!$A30)","v":0},{"$f":"SUMIFS(BETONG!C$27:C$38,BETONG!$A$27:$A$38,ÅRSTOT!$A30)+SUMIFS(TØMRERE!C$27:C$38,TØMRERE!$A$27:$A$38,ÅRSTOT!$A30)+SUMIFS(RØRLEGGERE!C$27:C$38,RØRLEGGERE!$A$27:$A$38,ÅRSTOT!$A30)+SUMIFS(MURERE!C$27:C$38,MURERE!$A$27:$A$38,ÅRSTOT!$A30)+SUMIFS('BLIKK OG VENTILASJON'!C$27:C$38,'BLIKK OG VENTILASJON'!$A$27:$A$38,ÅRSTOT!$A30)+SUMIFS(ISOLATØR!C$27:C$38,ISOLATØR!$A$27:$A$38,ÅRSTOT!$A30)+SUMIFS(MALERE!C$27:C$38,MALERE!$A$27:$A$38,ÅRSTOT!$A30)+SUMIFS(TAKTEKKERE!C$27:C$38,TAKTEKKERE!$A$27:$A$38,ÅRSTOT!$A30)","v":424816.48},{"$f":"SUMIFS(BETONG!D$27:D$38,BETONG!$A$27:$A$38,ÅRSTOT!$A30)+SUMIFS(TØMRERE!D$27:D$38,TØMRERE!$A$27:$A$38,ÅRSTOT!$A30)+SUMIFS(RØRLEGGERE!D$27:D$38,RØRLEGGERE!$A$27:$A$38,ÅRSTOT!$A30)+SUMIFS(MURERE!D$27:D$38,MURERE!$A$27:$A$38,ÅRSTOT!$A30)+SUMIFS('BLIKK OG VENTILASJON'!D$27:D$38,'BLIKK OG VENTILASJON'!$A$27:$A$38,ÅRSTOT!$A30)+SUMIFS(ISOLATØR!D$27:D$38,ISOLATØR!$A$27:$A$38,ÅRSTOT!$A30)+SUMIFS(MALERE!D$27:D$38,MALERE!$A$27:$A$38,ÅRSTOT!$A30)+SUMIFS(TAKTEKKERE!D$27:D$38,TAKTEKKERE!$A$27:$A$38,ÅRSTOT!$A30)","v":0},{"$f":"SUMIFS(BETONG!E$27:E$38,BETONG!$A$27:$A$38,ÅRSTOT!$A30)+SUMIFS(TØMRERE!E$27:E$38,TØMRERE!$A$27:$A$38,ÅRSTOT!$A30)+SUMIFS(RØRLEGGERE!E$27:E$38,RØRLEGGERE!$A$27:$A$38,ÅRSTOT!$A30)+SUMIFS(MURERE!E$27:E$38,MURERE!$A$27:$A$38,ÅRSTOT!$A30)+SUMIFS('BLIKK OG VENTILASJON'!E$27:E$38,'BLIKK OG VENTILASJON'!$A$27:$A$38,ÅRSTOT!$A30)+SUMIFS(ISOLATØR!E$27:E$38,ISOLATØR!$A$27:$A$38,ÅRSTOT!$A30)+SUMIFS(MALERE!E$27:E$38,MALERE!$A$27:$A$38,ÅRSTOT!$A30)+SUMIFS(TAKTEKKERE!E$27:E$38,TAKTEKKERE!$A$27:$A$38,ÅRSTOT!$A30)","v":2105.5},0,201.76512942293991,201.76512942293991,{"$f":"SUMIFS(BETONG!I$27:I$38,BETONG!$A$27:$A$38,ÅRSTOT!$A30)+SUMIFS(TØMRERE!I$27:I$38,TØMRERE!$A$27:$A$38,ÅRSTOT!$A30)+SUMIFS(RØRLEGGERE!I$27:I$38,RØRLEGGERE!$A$27:$A$38,ÅRSTOT!$A30)+SUMIFS(MURERE!I$27:I$38,MURERE!$A$27:$A$38,ÅRSTOT!$A30)+SUMIFS('BLIKK OG VENTILASJON'!I$27:I$38,'BLIKK OG VENTILASJON'!$A$27:$A$38,ÅRSTOT!$A30)+SUMIFS(ISOLATØR!I$27:I$38,ISOLATØR!$A$27:$A$38,ÅRSTOT!$A30)+SUMIFS(MALERE!I$27:I$38,MALERE!$A$27:$A$38,ÅRSTOT!$A30)+SUMIFS(TAKTEKKERE!I$27:I$38,TAKTEKKERE!$A$27:$A$38,ÅRSTOT!$A30)","v":0},{"$f":"SUMIFS(BETONG!J$27:J$38,BETONG!$A$27:$A$38,ÅRSTOT!$A30)+SUMIFS(TØMRERE!J$27:J$38,TØMRERE!$A$27:$A$38,ÅRSTOT!$A30)+SUMIFS(RØRLEGGERE!J$27:J$38,RØRLEGGERE!$A$27:$A$38,ÅRSTOT!$A30)+SUMIFS(MURERE!J$27:J$38,MURERE!$A$27:$A$38,ÅRSTOT!$A30)+SUMIFS('BLIKK OG VENTILASJON'!J$27:J$38,'BLIKK OG VENTILASJON'!$A$27:$A$38,ÅRSTOT!$A30)+SUMIFS(ISOLATØR!J$27:J$38,ISOLATØR!$A$27:$A$38,ÅRSTOT!$A30)+SUMIFS(MALERE!J$27:J$38,MALERE!$A$27:$A$38,ÅRSTOT!$A30)+SUMIFS(TAKTEKKERE!J$27:J$38,TAKTEKKERE!$A$27:$A$38,ÅRSTOT!$A30)","v":0},{"$f":"IF(G30+H30=0,0,(E30+F30)/(G30+H30))","v":5.2177004173661059},0,37.669358775640653]
["Drammen - Bærum",{"$f":"SUMIFS(BETONG!B$27:B$38,BETONG!$A$27:$A$38,ÅRSTOT!$A31)+SUMIFS(TØMRERE!B$27:B$38,TØMRERE!$A$27:$A$38,ÅRSTOT!$A31)+SUMIFS(RØRLEGGERE!B$27:B$38,RØRLEGGERE!$A$27:$A$38,ÅRSTOT!$A31)+SUMIFS(MURERE!B$27:B$38,MURERE!$A$27:$A$38,ÅRSTOT!$A31)+SUMIFS('BLIKK OG VENTILASJON'!B$27:B$38,'BLIKK OG VENTILASJON'!$A$27:$A$38,ÅRSTOT!$A31)+SUMIFS(ISOLATØR!B$27:B$38,ISOLATØR!$A$27:$A$38,ÅRSTOT!$A31)+SUMIFS(MALERE!B$27:B$38,MALERE!$A$27:$A$38,ÅRSTOT!$A31)+SUMIFS(TAKTEKKERE!B$27:B$38,TAKTEKKERE!$A$27:$A$38,ÅRSTOT!$A31)","v":0},{"$f":"SUMIFS(BETONG!C$27:C$38,BETONG!$A$27:$A$38,ÅRSTOT!$A31)+SUMIFS(TØMRERE!C$27:C$38,TØMRERE!$A$27:$A$38,ÅRSTOT!$A31)+SUMIFS(RØRLEGGERE!C$27:C$38,RØRLEGGERE!$A$27:$A$38,ÅRSTOT!$A31)+SUMIFS(MURERE!C$27:C$38,MURERE!$A$27:$A$38,ÅRSTOT!$A31)+SUMIFS('BLIKK OG VENTILASJON'!C$27:C$38,'BLIKK OG VENTILASJON'!$A$27:$A$38,ÅRSTOT!$A31)+SUMIFS(ISOLATØR!C$27:C$38,ISOLATØR!$A$27:$A$38,ÅRSTOT!$A31)+SUMIFS(MALERE!C$27:C$38,MALERE!$A$27:$A$38,ÅRSTOT!$A31)+SUMIFS(TAKTEKKERE!C$27:C$38,TAKTEKKERE!$A$27:$A$38,ÅRSTOT!$A31)","v":0},{"$f":"SUMIFS(BETONG!D$27:D$38,BETONG!$A$27:$A$38,ÅRSTOT!$A31)+SUMIFS(TØMRERE!D$27:D$38,TØMRERE!$A$27:$A$38,ÅRSTOT!$A31)+SUMIFS(RØRLEGGERE!D$27:D$38,RØRLEGGERE!$A$27:$A$38,ÅRSTOT!$A31)+SUMIFS(MURERE!D$27:D$38,MURERE!$A$27:$A$38,ÅRSTOT!$A31)+SUMIFS('BLIKK OG VENTILASJON'!D$27:D$38,'BLIKK OG VENTILASJON'!$A$27:$A$38,ÅRSTOT!$A31)+SUMIFS(ISOLATØR!D$27:D$38,ISOLATØR!$A$27:$A$38,ÅRSTOT!$A31)+SUMIFS(MALERE!D$27:D$38,MALERE!$A$27:$A$38,ÅRSTOT!$A31)+SUMIFS(TAKTEKKERE!D$27:D$38,TAKTEKKERE!$A$27:$A$38,ÅRSTOT!$A31)","v":0},{"$f":"SUMIFS(BETONG!E$27:E$38,BETONG!$A$27:$A$38,ÅRSTOT!$A31)+SUMIFS(TØMRERE!E$27:E$38,TØMRERE!$A$27:$A$38,ÅRSTOT!$A31)+SUMIFS(RØRLEGGERE!E$27:E$38,RØRLEGGERE!$A$27:$A$38,ÅRSTOT!$A31)+SUMIFS(MURERE!E$27:E$38,MURERE!$A$27:$A$38,ÅRSTOT!$A31)+SUMIFS('BLIKK OG VENTILASJON'!E$27:E$38,'BLIKK OG VENTILASJON'!$A$27:$A$38,ÅRSTOT!$A31)+SUMIFS(ISOLATØR!E$27:E$38,ISOLATØR!$A$27:$A$38,ÅRSTOT!$A31)+SUMIFS(MALERE!E$27:E$38,MALERE!$A$27:$A$38,ÅRSTOT!$A31)+SUMIFS(TAKTEKKERE!E$27:E$38,TAKTEKKERE!$A$27:$A$38,ÅRSTOT!$A31)","v":0},0,0,0,{"$f":"SUMIFS(BETONG!I$27:I$38,BETONG!$A$27:$A$38,ÅRSTOT!$A31)+SUMIFS(TØMRERE!I$27:I$38,TØMRERE!$A$27:$A$38,ÅRSTOT!$A31)+SUMIFS(RØRLEGGERE!I$27:I$38,RØRLEGGERE!$A$27:$A$38,ÅRSTOT!$A31)+SUMIFS(MURERE!I$27:I$38,MURERE!$A$27:$A$38,ÅRSTOT!$A31)+SUMIFS('BLIKK OG VENTILASJON'!I$27:I$38,'BLIKK OG VENTILASJON'!$A$27:$A$38,ÅRSTOT!$A31)+SUMIFS(ISOLATØR!I$27:I$38,ISOLATØR!$A$27:$A$38,ÅRSTOT!$A31)+SUMIFS(MALERE!I$27:I$38,MALERE!$A$27:$A$38,ÅRSTOT!$A31)+SUMIFS(TAKTEKKERE!I$27:I$38,TAKTEKKERE!$A$27:$A$38,ÅRSTOT!$A31)","v":0},{"$f":"SUMIFS(BETONG!J$27:J$38,BETONG!$A$27:$A$38,ÅRSTOT!$A31)+SUMIFS(TØMRERE!J$27:J$38,TØMRERE!$A$27:$A$38,ÅRSTOT!$A31)+SUMIFS(RØRLEGGERE!J$27:J$38,RØRLEGGERE!$A$27:$A$38,ÅRSTOT!$A31)+SUMIFS(MURERE!J$27:J$38,MURERE!$A$27:$A$38,ÅRSTOT!$A31)+SUMIFS('BLIKK OG VENTILASJON'!J$27:J$38,'BLIKK OG VENTILASJON'!$A$27:$A$38,ÅRSTOT!$A31)+SUMIFS(ISOLATØR!J$27:J$38,ISOLATØR!$A$27:$A$38,ÅRSTOT!$A31)+SUMIFS(MALERE!J$27:J$38,MALERE!$A$27:$A$38,ÅRSTOT!$A31)+SUMIFS(TAKTEKKERE!J$27:J$38,TAKTEKKERE!$A$27:$A$38,ÅRSTOT!$A31)","v":0},0,0,0]
["Haugesund",{"$f":"SUMIFS(BETONG!B$27:B$38,BETONG!$A$27:$A$38,ÅRSTOT!$A32)+SUMIFS(TØMRERE!B$27:B$38,TØMRERE!$A$27:$A$38,ÅRSTOT!$A32)+SUMIFS(RØRLEGGERE!B$27:B$38,RØRLEGGERE!$A$27:$A$38,ÅRSTOT!$A32)+SUMIFS(MURERE!B$27:B$38,MURERE!$A$27:$A$38,ÅRSTOT!$A32)+SUMIFS('BLIKK OG VENTILASJON'!B$27:B$38,'BLIKK OG VENTILASJON'!$A$27:$A$38,ÅRSTOT!$A32)+SUMIFS(ISOLATØR!B$27:B$38,ISOLATØR!$A$27:$A$38,ÅRSTOT!$A32)+SUMIFS(MALERE!B$27:B$38,MALERE!$A$27:$A$38,ÅRSTOT!$A32)+SUMIFS(TAKTEKKERE!B$27:B$38,TAKTEKKERE!$A$27:$A$38,ÅRSTOT!$A32)","v":5537155},{"$f":"SUMIFS(BETONG!C$27:C$38,BETONG!$A$27:$A$38,ÅRSTOT!$A32)+SUMIFS(TØMRERE!C$27:C$38,TØMRERE!$A$27:$A$38,ÅRSTOT!$A32)+SUMIFS(RØRLEGGERE!C$27:C$38,RØRLEGGERE!$A$27:$A$38,ÅRSTOT!$A32)+SUMIFS(MURERE!C$27:C$38,MURERE!$A$27:$A$38,ÅRSTOT!$A32)+SUMIFS('BLIKK OG VENTILASJON'!C$27:C$38,'BLIKK OG VENTILASJON'!$A$27:$A$38,ÅRSTOT!$A32)+SUMIFS(ISOLATØR!C$27:C$38,ISOLATØR!$A$27:$A$38,ÅRSTOT!$A32)+SUMIFS(MALERE!C$27:C$38,MALERE!$A$27:$A$38,ÅRSTOT!$A32)+SUMIFS(TAKTEKKERE!C$27:C$38,TAKTEKKERE!$A$27:$A$38,ÅRSTOT!$A32)","v":0},{"$f":"SUMIFS(BETONG!D$27:D$38,BETONG!$A$27:$A$38,ÅRSTOT!$A32)+SUMIFS(TØMRERE!D$27:D$38,TØMRERE!$A$27:$A$38,ÅRSTOT!$A32)+SUMIFS(RØRLEGGERE!D$27:D$38,RØRLEGGERE!$A$27:$A$38,ÅRSTOT!$A32)+SUMIFS(MURERE!D$27:D$38,MURERE!$A$27:$A$38,ÅRSTOT!$A32)+SUMIFS('BLIKK OG VENTILASJON'!D$27:D$38,'BLIKK OG VENTILASJON'!$A$27:$A$38,ÅRSTOT!$A32)+SUMIFS(ISOLATØR!D$27:D$38,ISOLATØR!$A$27:$A$38,ÅRSTOT!$A32)+SUMIFS(MALERE!D$27:D$38,MALERE!$A$27:$A$38,ÅRSTOT!$A32)+SUMIFS(TAKTEKKERE!D$27:D$38,TAKTEKKERE!$A$27:$A$38,ÅRSTOT!$A32)","v":19727.61},{"$f":"SUMIFS(BETONG!E$27:E$38,BETONG!$A$27:$A$38,ÅRSTOT!$A32)+SUMIFS(TØMRERE!E$27:E$38,TØMRERE!$A$27:$A$38,ÅRSTOT!$A32)+SUMIFS(RØRLEGGERE!E$27:E$38,RØRLEGGERE!$A$27:$A$38,ÅRSTOT!$A32)+SUMIFS(MURERE!E$27:E$38,MURERE!$A$27:$A$38,ÅRSTOT!$A32)+SUMIFS('BLIKK OG VENTILASJON'!E$27:E$38,'BLIKK OG VENTILASJON'!$A$27:$A$38,ÅRSTOT!$A32)+SUMIFS(ISOLATØR!E$27:E$38,ISOLATØR!$A$27:$A$38,ÅRSTOT!$A32)+SUMIFS(MALERE!E$27:E$38,MALERE!$A$27:$A$38,ÅRSTOT!$A32)+SUMIFS(TAKTEKKERE!E$27:E$38,TAKTEKKERE!$A$27:$A$38,ÅRSTOT!$A32)","v":0},280.68047776694692,0,280.68047776694692,{"$f":"SUMIFS(BETONG!I$27:I$38,BETONG!$A$27:$A$38,ÅRSTOT!$A32)+SUMIFS(TØMRERE!I$27:I$38,TØMRERE!$A$27:$A$38,ÅRSTOT!$A32)+SUMIFS(RØRLEGGERE!I$27:I$38,RØRLEGGERE!$A$27:$A$38,ÅRSTOT!$A32)+SUMIFS(MURERE!I$27:I$38,MURERE!$A$27:$A$38,ÅRSTOT!$A32)+SUMIFS('BLIKK OG VENTILASJON'!I$27:I$38,'BLIKK OG VENTILASJON'!$A$27:$A$38,ÅRSTOT!$A32)+SUMIFS(ISOLATØR!I$27:I$38,ISOLATØR!$A$27:$A$38,ÅRSTOT!$A32)+SUMIFS(MALERE!I$27:I$38,MALERE!$A$27:$A$38,ÅRSTOT!$A32)+SUMIFS(TAKTEKKERE!I$27:I$38,TAKTEKKERE!$A$27:$A$38,ÅRSTOT!$A32)","v":15659939},{"$f":"SUMIFS(BETONG!J$27:J$38,BETONG!$A$27:$A$38,ÅRSTOT!$A32)+SUMIFS(TØMRERE!J$27:J$38,TØMRERE!$A$27:$A$38,ÅRSTOT!$A32)+SUMIFS(RØRLEGGERE!J$27:J$38,RØRLEGGERE!$A$27:$A$38,ÅRSTOT!$A32)+SUMIFS(MURERE!J$27:J$38,MURERE!$A$27:$A$38,ÅRSTOT!$A32)+SUMIFS('BLIKK OG VENTILASJON'!J$27:J$38,'BLIKK OG VENTILASJON'!$A$27:$A$38,ÅRSTOT!$A32)+SUMIFS(ISOLATØR!J$27:J$38,ISOLATØR!$A$27:$A$38,ÅRSTOT!$A32)+SUMIFS(MALERE!J$27:J$38,MALERE!$A$27:$A$38,ÅRSTOT!$A32)+SUMIFS(TAKTEKKERE!J$27:J$38,TAKTEKKERE!$A$27:$A$38,ÅRSTOT!$A32)","v":0},272.31,-0.64641273506876373,3.0738782148826409E-2]
["Hamar og Omegn",{"$f":"SUMIFS(BETONG!B$27:B$38,BETONG!$A$27:$A$38,ÅRSTOT!$A33)+SUMIFS(TØMRERE!B$27:B$38,TØMRERE!$A$27:$A$38,ÅRSTOT!$A33)+SUMIFS(RØRLEGGERE!B$27:B$38,RØRLEGGERE!$A$27:$A$38,ÅRSTOT!$A33)+SUMIFS(MURERE!B$27:B$38,MURERE!$A$27:$A$38,ÅRSTOT!$A33)+SUMIFS('BLIKK OG VENTILASJON'!B$27:B$38,'BLIKK OG VENTILASJON'!$A$27:$A$38,ÅRSTOT!$A33)+SUMIFS(ISOLATØR!B$27:B$38,ISOLATØR!$A$27:$A$38,ÅRSTOT!$A33)+SUMIFS(MALERE!B$27:B$38,MALERE!$A$27:$A$38,ÅRSTOT!$A33)+SUMIFS(TAKTEKKERE!B$27:B$38,TAKTEKKERE!$A$27:$A$38,ÅRSTOT!$A33)","v":22236041},{"$f":"SUMIFS(BETONG!C$27:C$38,BETONG!$A$27:$A$38,ÅRSTOT!$A33)+SUMIFS(TØMRERE!C$27:C$38,TØMRERE!$A$27:$A$38,ÅRSTOT!$A33)+SUMIFS(RØRLEGGERE!C$27:C$38,RØRLEGGERE!$A$27:$A$38,ÅRSTOT!$A33)+SUMIFS(MURERE!C$27:C$38,MURERE!$A$27:$A$38,ÅRSTOT!$A33)+SUMIFS('BLIKK OG VENTILASJON'!C$27:C$38,'BLIKK OG VENTILASJON'!$A$27:$A$38,ÅRSTOT!$A33)+SUMIFS(ISOLATØR!C$27:C$38,ISOLATØR!$A$27:$A$38,ÅRSTOT!$A33)+SUMIFS(MALERE!C$27:C$38,MALERE!$A$27:$A$38,ÅRSTOT!$A33)+SUMIFS(TAKTEKKERE!C$27:C$38,TAKTEKKERE!$A$27:$A$38,ÅRSTOT!$A33)","v":388790},{"$f":"SUMIFS(BETONG!D$27:D$38,BETONG!$A$27:$A$38,ÅRSTOT!$A33)+SUMIFS(TØMRERE!D$27:D$38,TØMRERE!$A$27:$A$38,ÅRSTOT!$A33)+SUMIFS(RØRLEGGERE!D$27:D$38,RØRLEGGERE!$A$27:$A$38,ÅRSTOT!$A33)+SUMIFS(MURERE!D$27:D$38,MURERE!$A$27:$A$38,ÅRSTOT!$A33)+SUMIFS('BLIKK OG VENTILASJON'!D$27:D$38,'BLIKK OG VENTILASJON'!$A$27:$A$38,ÅRSTOT!$A33)+SUMIFS(ISOLATØR!D$27:D$38,ISOLATØR!$A$27:$A$38,ÅRSTOT!$A33)+SUMIFS(MALERE!D$27:D$38,MALERE!$A$27:$A$38,ÅRSTOT!$A33)+SUMIFS(TAKTEKKERE!D$27:D$38,TAKTEKKERE!$A$27:$A$38,ÅRSTOT!$A33)","v":72497.66},{"$f":"SUMIFS(BETONG!E$27:E$38,BETONG!$A$27:$A$38,ÅRSTOT!$A33)+SUMIFS(TØMRERE!E$27:E$38,TØMRERE!$A$27:$A$38,ÅRSTOT!$A33)+SUMIFS(RØRLEGGERE!E$27:E$38,RØRLEGGERE!$A$27:$A$38,ÅRSTOT!$A33)+SUMIFS(MURERE!E$27:E$38,MURERE!$A$27:$A$38,ÅRSTOT!$A33)+SUMIFS('BLIKK OG VENTILASJON'!E$27:E$38,'BLIKK OG VENTILASJON'!$A$27:$A$38,ÅRSTOT!$A33)+SUMIFS(ISOLATØR!E$27:E$38,ISOLATØR!$A$27:$A$38,ÅRSTOT!$A33)+SUMIFS(MALERE!E$27:E$38,MALERE!$A$27:$A$38,ÅRSTOT!$A33)+SUMIFS(TAKTEKKERE!E$27:E$38,TAKTEKKERE!$A$27:$A$38,ÅRSTOT!$A33)","v":2098.4},306.7139132490621,185.2792603888677,303.29793557461346,{"$f":"SUMIFS(BETONG!I$27:I$38,BETONG!$A$27:$A$38,ÅRSTOT!$A33)+SUMIFS(TØMRERE!I$27:I$38,TØMRERE!$A$27:$A$38,ÅRSTOT!$A33)+SUMIFS(RØRLEGGERE!I$27:I$38,RØRLEGGERE!$A$27:$A$38,ÅRSTOT!$A33)+SUMIFS(MURERE!I$27:I$38,MURERE!$A$27:$A$38,ÅRSTOT!$A33)+SUMIFS('BLIKK OG VENTILASJON'!I$27:I$38,'BLIKK OG VENTILASJON'!$A$27:$A$38,ÅRSTOT!$A33)+SUMIFS(ISOLATØR!I$27:I$38,ISOLATØR!$A$27:$A$38,ÅRSTOT!$A33)+SUMIFS(MALERE!I$27:I$38,MALERE!$A$27:$A$38,ÅRSTOT!$A33)+SUMIFS(TAKTEKKERE!I$27:I$38,TAKTEKKERE!$A$27:$A$38,ÅRSTOT!$A33)","v":8301724},{"$f":"SUMIFS(BETONG!J$27:J$38,BETONG!$A$27:$A$38,ÅRSTOT!$A33)+SUMIFS(TØMRERE!J$27:J$38,TØMRERE!$A$27:$A$38,ÅRSTOT!$A33)+SUMIFS(RØRLEGGERE!J$27:J$38,RØRLEGGERE!$A$27:$A$38,ÅRSTOT!$A33)+SUMIFS(MURERE!J$27:J$38,MURERE!$A$27:$A$38,ÅRSTOT!$A33)+SUMIFS('BLIKK OG VENTILASJON'!J$27:J$38,'BLIKK OG VENTILASJON'!$A$27:$A$38,ÅRSTOT!$A33)+SUMIFS(ISOLATØR!J$27:J$38,ISOLATØR!$A$27:$A$38,ÅRSTOT!$A33)+SUMIFS(MALERE!J$27:J$38,MALERE!$A$27:$A$38,ÅRSTOT!$A33)+SUMIFS(TAKTEKKERE!J$27:J$38,TAKTEKKERE!$A$27:$A$38,ÅRSTOT!$A33)","v":337597},288.08,1.6784847340142843,5.282538036175187E-2]
["Sandnes",{"$f":"SUMIFS(BETONG!B$27:B$38,BETONG!$A$27:$A$38,ÅRSTOT!$A34)+SUMIFS(TØMRERE!B$27:B$38,TØMRERE!$A$27:$A$38,ÅRSTOT!$A34)+SUMIFS(RØRLEGGERE!B$27:B$38,RØRLEGGERE!$A$27:$A$38,ÅRSTOT!$A34)+SUMIFS(MURERE!B$27:B$38,MURERE!$A$27:$A$38,ÅRSTOT!$A34)+SUMIFS('BLIKK OG VENTILASJON'!B$27:B$38,'BLIKK OG VENTILASJON'!$A$27:$A$38,ÅRSTOT!$A34)+SUMIFS(ISOLATØR!B$27:B$38,ISOLATØR!$A$27:$A$38,ÅRSTOT!$A34)+SUMIFS(MALERE!B$27:B$38,MALERE!$A$27:$A$38,ÅRSTOT!$A34)+SUMIFS(TAKTEKKERE!B$27:B$38,TAKTEKKERE!$A$27:$A$38,ÅRSTOT!$A34)","v":31744816.84},{"$f":"SUMIFS(BETONG!C$27:C$38,BETONG!$A$27:$A$38,ÅRSTOT!$A34)+SUMIFS(TØMRERE!C$27:C$38,TØMRERE!$A$27:$A$38,ÅRSTOT!$A34)+SUMIFS(RØRLEGGERE!C$27:C$38,RØRLEGGERE!$A$27:$A$38,ÅRSTOT!$A34)+SUMIFS(MURERE!C$27:C$38,MURERE!$A$27:$A$38,ÅRSTOT!$A34)+SUMIFS('BLIKK OG VENTILASJON'!C$27:C$38,'BLIKK OG VENTILASJON'!$A$27:$A$38,ÅRSTOT!$A34)+SUMIFS(ISOLATØR!C$27:C$38,ISOLATØR!$A$27:$A$38,ÅRSTOT!$A34)+SUMIFS(MALERE!C$27:C$38,MALERE!$A$27:$A$38,ÅRSTOT!$A34)+SUMIFS(TAKTEKKERE!C$27:C$38,TAKTEKKERE!$A$27:$A$38,ÅRSTOT!$A34)","v":0},{"$f":"SUMIFS(BETONG!D$27:D$38,BETONG!$A$27:$A$38,ÅRSTOT!$A34)+SUMIFS(TØMRERE!D$27:D$38,TØMRERE!$A$27:$A$38,ÅRSTOT!$A34)+SUMIFS(RØRLEGGERE!D$27:D$38,RØRLEGGERE!$A$27:$A$38,ÅRSTOT!$A34)+SUMIFS(MURERE!D$27:D$38,MURERE!$A$27:$A$38,ÅRSTOT!$A34)+SUMIFS('BLIKK OG VENTILASJON'!D$27:D$38,'BLIKK OG VENTILASJON'!$A$27:$A$38,ÅRSTOT!$A34)+SUMIFS(ISOLATØR!D$27:D$38,ISOLATØR!$A$27:$A$38,ÅRSTOT!$A34)+SUMIFS(MALERE!D$27:D$38,MALERE!$A$27:$A$38,ÅRSTOT!$A34)+SUMIFS(TAKTEKKERE!D$27:D$38,TAKTEKKERE!$A$27:$A$38,ÅRSTOT!$A34)","v":96720.36},{"$f":"SUMIFS(BETONG!E$27:E$38,BETONG!$A$27:$A$38,ÅRSTOT!$A34)+SUMIFS(TØMRERE!E$27:E$38,TØMRERE!$A$27:$A$38,ÅRSTOT!$A34)+SUMIFS(RØRLEGGERE!E$27:E$38,RØRLEGGERE!$A$27:$A$38,ÅRSTOT!$A34)+SUMIFS(MURERE!E$27:E$38,MURERE!$A$27:$A$38,ÅRSTOT!$A34)+SUMIFS('BLIKK OG VENTILASJON'!E$27:E$38,'BLIKK OG VENTILASJON'!$A$27:$A$38,ÅRSTOT!$A34)+SUMIFS(ISOLATØR!E$27:E$38,ISOLATØR!$A$27:$A$38,ÅRSTOT!$A34)+SUMIFS(MALERE!E$27:E$38,MALERE!$A$27:$A$38,ÅRSTOT!$A34)+SUMIFS(TAKTEKKERE!E$27:E$38,TAKTEKKERE!$A$27:$A$38,ÅRSTOT!$A34)","v":0},328.21235198049305,0,328.21235198049305,{"$f":"SUMIFS(BETONG!I$27:I$38,BETONG!$A$27:$A$38,ÅRSTOT!$A34)+SUMIFS(TØMRERE!I$27:I$38,TØMRERE!$A$27:$A$38,ÅRSTOT!$A34)+SUMIFS(RØRLEGGERE!I$27:I$38,RØRLEGGERE!$A$27:$A$38,ÅRSTOT!$A34)+SUMIFS(MURERE!I$27:I$38,MURERE!$A$27:$A$38,ÅRSTOT!$A34)+SUMIFS('BLIKK OG VENTILASJON'!I$27:I$38,'BLIKK OG VENTILASJON'!$A$27:$A$38,ÅRSTOT!$A34)+SUMIFS(ISOLATØR!I$27:I$38,ISOLATØR!$A$27:$A$38,ÅRSTOT!$A34)+SUMIFS(MALERE!I$27:I$38,MALERE!$A$27:$A$38,ÅRSTOT!$A34)+SUMIFS(TAKTEKKERE!I$27:I$38,TAKTEKKERE!$A$27:$A$38,ÅRSTOT!$A34)","v":8190668.9800000004},{"$f":"SUMIFS(BETONG!J$27:J$38,BETONG!$A$27:$A$38,ÅRSTOT!$A34)+SUMIFS(TØMRERE!J$27:J$38,TØMRERE!$A$27:$A$38,ÅRSTOT!$A34)+SUMIFS(RØRLEGGERE!J$27:J$38,RØRLEGGERE!$A$27:$A$38,ÅRSTOT!$A34)+SUMIFS(MURERE!J$27:J$38,MURERE!$A$27:$A$38,ÅRSTOT!$A34)+SUMIFS('BLIKK OG VENTILASJON'!J$27:J$38,'BLIKK OG VENTILASJON'!$A$27:$A$38,ÅRSTOT!$A34)+SUMIFS(ISOLATØR!J$27:J$38,ISOLATØR!$A$27:$A$38,ÅRSTOT!$A34)+SUMIFS(MALERE!J$27:J$38,MALERE!$A$27:$A$38,ÅRSTOT!$A34)+SUMIFS(TAKTEKKERE!J$27:J$38,TAKTEKKERE!$A$27:$A$38,ÅRSTOT!$A34)","v":0},325.06,2.8757294327868195,9.6977542007415599E-3]
["Stavanger",{"$f":"SUMIFS(BETONG!B$27:B$38,BETONG!$A$27:$A$38,ÅRSTOT!$A35)+SUMIFS(TØMRERE!B$27:B$38,TØMRERE!$A$27:$A$38,ÅRSTOT!$A35)+SUMIFS(RØRLEGGERE!B$27:B$38,RØRLEGGERE!$A$27:$A$38,ÅRSTOT!$A35)+SUMIFS(MURERE!B$27:B$38,MURERE!$A$27:$A$38,ÅRSTOT!$A35)+SUMIFS('BLIKK OG VENTILASJON'!B$27:B$38,'BLIKK OG VENTILASJON'!$A$27:$A$38,ÅRSTOT!$A35)+SUMIFS(ISOLATØR!B$27:B$38,ISOLATØR!$A$27:$A$38,ÅRSTOT!$A35)+SUMIFS(MALERE!B$27:B$38,MALERE!$A$27:$A$38,ÅRSTOT!$A35)+SUMIFS(TAKTEKKERE!B$27:B$38,TAKTEKKERE!$A$27:$A$38,ÅRSTOT!$A35)","v":4132135.4299999997},{"$f":"SUMIFS(BETONG!C$27:C$38,BETONG!$A$27:$A$38,ÅRSTOT!$A35)+SUMIFS(TØMRERE!C$27:C$38,TØMRERE!$A$27:$A$38,ÅRSTOT!$A35)+SUMIFS(RØRLEGGERE!C$27:C$38,RØRLEGGERE!$A$27:$A$38,ÅRSTOT!$A35)+SUMIFS(MURERE!C$27:C$38,MURERE!$A$27:$A$38,ÅRSTOT!$A35)+SUMIFS('BLIKK OG VENTILASJON'!C$27:C$38,'BLIKK OG VENTILASJON'!$A$27:$A$38,ÅRSTOT!$A35)+SUMIFS(ISOLATØR!C$27:C$38,ISOLATØR!$A$27:$A$38,ÅRSTOT!$A35)+SUMIFS(MALERE!C$27:C$38,MALERE!$A$27:$A$38,ÅRSTOT!$A35)+SUMIFS(TAKTEKKERE!C$27:C$38,TAKTEKKERE!$A$27:$A$38,ÅRSTOT!$A35)","v":0},{"$f":"SUMIFS(BETONG!D$27:D$38,BETONG!$A$27:$A$38,ÅRSTOT!$A35)+SUMIFS(TØMRERE!D$27:D$38,TØMRERE!$A$27:$A$38,ÅRSTOT!$A35)+SUMIFS(RØRLEGGERE!D$27:D$38,RØRLEGGERE!$A$27:$A$38,ÅRSTOT!$A35)+SUMIFS(MURERE!D$27:D$38,MURERE!$A$27:$A$38,ÅRSTOT!$A35)+SUMIFS('BLIKK OG VENTILASJON'!D$27:D$38,'BLIKK OG VENTILASJON'!$A$27:$A$38,ÅRSTOT!$A35)+SUMIFS(ISOLATØR!D$27:D$38,ISOLATØR!$A$27:$A$38,ÅRSTOT!$A35)+SUMIFS(MALERE!D$27:D$38,MALERE!$A$27:$A$38,ÅRSTOT!$A35)+SUMIFS(TAKTEKKERE!D$27:D$38,TAKTEKKERE!$A$27:$A$38,ÅRSTOT!$A35)","v":13268.5},{"$f":"SUMIFS(BETONG!E$27:E$38,BETONG!$A$27:$A$38,ÅRSTOT!$A35)+SUMIFS(TØMRERE!E$27:E$38,TØMRERE!$A$27:$A$38,ÅRSTOT!$A35)+SUMIFS(RØRLEGGERE!E$27:E$38,RØRLEGGERE!$A$27:$A$38,ÅRSTOT!$A35)+SUMIFS(MURERE!E$27:E$38,MURERE!$A$27:$A$38,ÅRSTOT!$A35)+SUMIFS('BLIKK OG VENTILASJON'!E$27:E$38,'BLIKK OG VENTILASJON'!$A$27:$A$38,ÅRSTOT!$A35)+SUMIFS(ISOLATØR!E$27:E$38,ISOLATØR!$A$27:$A$38,ÅRSTOT!$A35)+SUMIFS(MALERE!E$27:E$38,MALERE!$A$27:$A$38,ÅRSTOT!$A35)+SUMIFS(TAKTEKKERE!E$27:E$38,TAKTEKKERE!$A$27:$A$38,ÅRSTOT!$A35)","v":0},311.42445868033309,0,311.42445868033309,{"$f":"SUMIFS(BETONG!I$27:I$38,BETONG!$A$27:$A$38,ÅRSTOT!$A35)+SUMIFS(TØMRERE!I$27:I$38,TØMRERE!$A$27:$A$38,ÅRSTOT!$A35)+SUMIFS(RØRLEGGERE!I$27:I$38,RØRLEGGERE!$A$27:$A$38,ÅRSTOT!$A35)+SUMIFS(MURERE!I$27:I$38,MURERE!$A$27:$A$38,ÅRSTOT!$A35)+SUMIFS('BLIKK OG VENTILASJON'!I$27:I$38,'BLIKK OG VENTILASJON'!$A$27:$A$38,ÅRSTOT!$A35)+SUMIFS(ISOLATØR!I$27:I$38,ISOLATØR!$A$27:$A$38,ÅRSTOT!$A35)+SUMIFS(MALERE!I$27:I$38,MALERE!$A$27:$A$38,ÅRSTOT!$A35)+SUMIFS(TAKTEKKERE!I$27:I$38,TAKTEKKERE!$A$27:$A$38,ÅRSTOT!$A35)","v":4087320},{"$f":"SUMIFS(BETONG!J$27:J$38,BETONG!$A$27:$A$38,ÅRSTOT!$A35)+SUMIFS(TØMRERE!J$27:J$38,TØMRERE!$A$27:$A$38,ÅRSTOT!$A35)+SUMIFS(RØRLEGGERE!J$27:J$38,RØRLEGGERE!$A$27:$A$38,ÅRSTOT!$A35)+SUMIFS(MURERE!J$27:J$38,MURERE!$A$27:$A$38,ÅRSTOT!$A35)+SUMIFS('BLIKK OG VENTILASJON'!J$27:J$38,'BLIKK OG VENTILASJON'!$A$27:$A$38,ÅRSTOT!$A35)+SUMIFS(ISOLATØR!J$27:J$38,ISOLATØR!$A$27:$A$38,ÅRSTOT!$A35)+SUMIFS(MALERE!J$27:J$38,MALERE!$A$27:$A$38,ÅRSTOT!$A35)+SUMIFS(TAKTEKKERE!J$27:J$38,TAKTEKKERE!$A$27:$A$38,ÅRSTOT!$A35)","v":579766},287.19,1.0964502412338574E-2,8.4384758105550656E-2]
["Telemark",{"$f":"SUMIFS(BETONG!B$27:B$38,BETONG!$A$27:$A$38,ÅRSTOT!$A36)+SUMIFS(TØMRERE!B$27:B$38,TØMRERE!$A$27:$A$38,ÅRSTOT!$A36)+SUMIFS(RØRLEGGERE!B$27:B$38,RØRLEGGERE!$A$27:$A$38,ÅRSTOT!$A36)+SUMIFS(MURERE!B$27:B$38,MURERE!$A$27:$A$38,ÅRSTOT!$A36)+SUMIFS('BLIKK OG VENTILASJON'!B$27:B$38,'BLIKK OG VENTILASJON'!$A$27:$A$38,ÅRSTOT!$A36)+SUMIFS(ISOLATØR!B$27:B$38,ISOLATØR!$A$27:$A$38,ÅRSTOT!$A36)+SUMIFS(MALERE!B$27:B$38,MALERE!$A$27:$A$38,ÅRSTOT!$A36)+SUMIFS(TAKTEKKERE!B$27:B$38,TAKTEKKERE!$A$27:$A$38,ÅRSTOT!$A36)","v":12895111},{"$f":"SUMIFS(BETONG!C$27:C$38,BETONG!$A$27:$A$38,ÅRSTOT!$A36)+SUMIFS(TØMRERE!C$27:C$38,TØMRERE!$A$27:$A$38,ÅRSTOT!$A36)+SUMIFS(RØRLEGGERE!C$27:C$38,RØRLEGGERE!$A$27:$A$38,ÅRSTOT!$A36)+SUMIFS(MURERE!C$27:C$38,MURERE!$A$27:$A$38,ÅRSTOT!$A36)+SUMIFS('BLIKK OG VENTILASJON'!C$27:C$38,'BLIKK OG VENTILASJON'!$A$27:$A$38,ÅRSTOT!$A36)+SUMIFS(ISOLATØR!C$27:C$38,ISOLATØR!$A$27:$A$38,ÅRSTOT!$A36)+SUMIFS(MALERE!C$27:C$38,MALERE!$A$27:$A$38,ÅRSTOT!$A36)+SUMIFS(TAKTEKKERE!C$27:C$38,TAKTEKKERE!$A$27:$A$38,ÅRSTOT!$A36)","v":2000000},{"$f":"SUMIFS(BETONG!D$27:D$38,BETONG!$A$27:$A$38,ÅRSTOT!$A36)+SUMIFS(TØMRERE!D$27:D$38,TØMRERE!$A$27:$A$38,ÅRSTOT!$A36)+SUMIFS(RØRLEGGERE!D$27:D$38,RØRLEGGERE!$A$27:$A$38,ÅRSTOT!$A36)+SUMIFS(MURERE!D$27:D$38,MURERE!$A$27:$A$38,ÅRSTOT!$A36)+SUMIFS('BLIKK OG VENTILASJON'!D$27:D$38,'BLIKK OG VENTILASJON'!$A$27:$A$38,ÅRSTOT!$A36)+SUMIFS(ISOLATØR!D$27:D$38,ISOLATØR!$A$27:$A$38,ÅRSTOT!$A36)+SUMIFS(MALERE!D$27:D$38,MALERE!$A$27:$A$38,ÅRSTOT!$A36)+SUMIFS(TAKTEKKERE!D$27:D$38,TAKTEKKERE!$A$27:$A$38,ÅRSTOT!$A36)","v":37800.5},{"$f":"SUMIFS(BETONG!E$27:E$38,BETONG!$A$27:$A$38,ÅRSTOT!$A36)+SUMIFS(TØMRERE!E$27:E$38,TØMRERE!$A$27:$A$38,ÅRSTOT!$A36)+SUMIFS(RØRLEGGERE!E$27:E$38,RØRLEGGERE!$A$27:$A$38,ÅRSTOT!$A36)+SUMIFS(MURERE!E$27:E$38,MURERE!$A$27:$A$38,ÅRSTOT!$A36)+SUMIFS('BLIKK OG VENTILASJON'!E$27:E$38,'BLIKK OG VENTILASJON'!$A$27:$A$38,ÅRSTOT!$A36)+SUMIFS(ISOLATØR!E$27:E$38,ISOLATØR!$A$27:$A$38,ÅRSTOT!$A36)+SUMIFS(MALERE!E$27:E$38,MALERE!$A$27:$A$38,ÅRSTOT!$A36)+SUMIFS(TAKTEKKERE!E$27:E$38,TAKTEKKERE!$A$27:$A$38,ÅRSTOT!$A36)","v":8500},{"$f":"IF(D36=0,0,B36/D36)","v":341.13599026467904},235.29411764705881,321.70518676904135,{"$f":"SUMIFS(BETONG!I$27:I$38,BETONG!$A$27:$A$38,ÅRSTOT!$A36)+SUMIFS(TØMRERE!I$27:I$38,TØMRERE!$A$27:$A$38,ÅRSTOT!$A36)+SUMIFS(RØRLEGGERE!I$27:I$38,RØRLEGGERE!$A$27:$A$38,ÅRSTOT!$A36)+SUMIFS(MURERE!I$27:I$38,MURERE!$A$27:$A$38,ÅRSTOT!$A36)+SUMIFS('BLIKK OG VENTILASJON'!I$27:I$38,'BLIKK OG VENTILASJON'!$A$27:$A$38,ÅRSTOT!$A36)+SUMIFS(ISOLATØR!I$27:I$38,ISOLATØR!$A$27:$A$38,ÅRSTOT!$A36)+SUMIFS(MALERE!I$27:I$38,MALERE!$A$27:$A$38,ÅRSTOT!$A36)+SUMIFS(TAKTEKKERE!I$27:I$38,TAKTEKKERE!$A$27:$A$38,ÅRSTOT!$A36)","v":17494668},{"$f":"SUMIFS(BETONG!J$27:J$38,BETONG!$A$27:$A$38,ÅRSTOT!$A36)+SUMIFS(TØMRERE!J$27:J$38,TØMRERE!$A$27:$A$38,ÅRSTOT!$A36)+SUMIFS(RØRLEGGERE!J$27:J$38,RØRLEGGERE!$A$27:$A$38,ÅRSTOT!$A36)+SUMIFS(MURERE!J$27:J$38,MURERE!$A$27:$A$38,ÅRSTOT!$A36)+SUMIFS('BLIKK OG VENTILASJON'!J$27:J$38,'BLIKK OG VENTILASJON'!$A$27:$A$38,ÅRSTOT!$A36)+SUMIFS(ISOLATØR!J$27:J$38,ISOLATØR!$A$27:$A$38,ÅRSTOT!$A36)+SUMIFS(MALERE!J$27:J$38,MALERE!$A$27:$A$38,ÅRSTOT!$A36)+SUMIFS(TAKTEKKERE!J$27:J$38,TAKTEKKERE!$A$27:$A$38,ÅRSTOT!$A36)","v":500000},303.95,-0.26291193408185853,5.8414827336869091E-2]
["Trondheim",{"$f":"SUMIFS(BETONG!B$27:B$38,BETONG!$A$27:$A$38,ÅRSTOT!$A37)+SUMIFS(TØMRERE!B$27:B$38,TØMRERE!$A$27:$A$38,ÅRSTOT!$A37)+SUMIFS(RØRLEGGERE!B$27:B$38,RØRLEGGERE!$A$27:$A$38,ÅRSTOT!$A37)+SUMIFS(MURERE!B$27:B$38,MURERE!$A$27:$A$38,ÅRSTOT!$A37)+SUMIFS('BLIKK OG VENTILASJON'!B$27:B$38,'BLIKK OG VENTILASJON'!$A$27:$A$38,ÅRSTOT!$A37)+SUMIFS(ISOLATØR!B$27:B$38,ISOLATØR!$A$27:$A$38,ÅRSTOT!$A37)+SUMIFS(MALERE!B$27:B$38,MALERE!$A$27:$A$38,ÅRSTOT!$A37)+SUMIFS(TAKTEKKERE!B$27:B$38,TAKTEKKERE!$A$27:$A$38,ÅRSTOT!$A37)","v":135011761.03999999},{"$f":"SUMIFS(BETONG!C$27:C$38,BETONG!$A$27:$A$38,ÅRSTOT!$A37)+SUMIFS(TØMRERE!C$27:C$38,TØMRERE!$A$27:$A$38,ÅRSTOT!$A37)+SUMIFS(RØRLEGGERE!C$27:C$38,RØRLEGGERE!$A$27:$A$38,ÅRSTOT!$A37)+SUMIFS(MURERE!C$27:C$38,MURERE!$A$27:$A$38,ÅRSTOT!$A37)+SUMIFS('BLIKK OG VENTILASJON'!C$27:C$38,'BLIKK OG VENTILASJON'!$A$27:$A$38,ÅRSTOT!$A37)+SUMIFS(ISOLATØR!C$27:C$38,ISOLATØR!$A$27:$A$38,ÅRSTOT!$A37)+SUMIFS(MALERE!C$27:C$38,MALERE!$A$27:$A$38,ÅRSTOT!$A37)+SUMIFS(TAKTEKKERE!C$27:C$38,TAKTEKKERE!$A$27:$A$38,ÅRSTOT!$A37)","v":15532124.66},{"$f":"SUMIFS(BETONG!D$27:D$38,BETONG!$A$27:$A$38,ÅRSTOT!$A37)+SUMIFS(TØMRERE!D$27:D$38,TØMRERE!$A$27:$A$38,ÅRSTOT!$A37)+SUMIFS(RØRLEGGERE!D$27:D$38,RØRLEGGERE!$A$27:$A$38,ÅRSTOT!$A37)+SUMIFS(MURERE!D$27:D$38,MURERE!$A$27:$A$38,ÅRSTOT!$A37)+SUMIFS('BLIKK OG VENTILASJON'!D$27:D$38,'BLIKK OG VENTILASJON'!$A$27:$A$38,ÅRSTOT!$A37)+SUMIFS(ISOLATØR!D$27:D$38,ISOLATØR!$A$27:$A$38,ÅRSTOT!$A37)+SUMIFS(MALERE!D$27:D$38,MALERE!$A$27:$A$38,ÅRSTOT!$A37)+SUMIFS(TAKTEKKERE!D$27:D$38,TAKTEKKERE!$A$27:$A$38,ÅRSTOT!$A37)","v":423789},{"$f":"SUMIFS(BETONG!E$27:E$38,BETONG!$A$27:$A$38,ÅRSTOT!$A37)+SUMIFS(TØMRERE!E$27:E$38,TØMRERE!$A$27:$A$38,ÅRSTOT!$A37)+SUMIFS(RØRLEGGERE!E$27:E$38,RØRLEGGERE!$A$27:$A$38,ÅRSTOT!$A37)+SUMIFS(MURERE!E$27:E$38,MURERE!$A$27:$A$38,ÅRSTOT!$A37)+SUMIFS('BLIKK OG VENTILASJON'!E$27:E$38,'BLIKK OG VENTILASJON'!$A$27:$A$38,ÅRSTOT!$A37)+SUMIFS(ISOLATØR!E$27:E$38,ISOLATØR!$A$27:$A$38,ÅRSTOT!$A37)+SUMIFS(MALERE!E$27:E$38,MALERE!$A$27:$A$38,ÅRSTOT!$A37)+SUMIFS(TAKTEKKERE!E$27:E$38,TAKTEKKERE!$A$27:$A$38,ÅRSTOT!$A37)","v":84450.020000000019},{"$f":"IF(B37=0,0,B37/D37)","v":318.58250459544723},{"$f":"IF(E37=0,0,C37/E37)","v":183.92091156402327},296.20686286542889,{"$f":"SUMIFS(BETONG!I$27:I$38,BETONG!$A$27:$A$38,ÅRSTOT!$A37)+SUMIFS(TØMRERE!I$27:I$38,TØMRERE!$A$27:$A$38,ÅRSTOT!$A37)+SUMIFS(RØRLEGGERE!I$27:I$38,RØRLEGGERE!$A$27:$A$38,ÅRSTOT!$A37)+SUMIFS(MURERE!I$27:I$38,MURERE!$A$27:$A$38,ÅRSTOT!$A37)+SUMIFS('BLIKK OG VENTILASJON'!I$27:I$38,'BLIKK OG VENTILASJON'!$A$27:$A$38,ÅRSTOT!$A37)+SUMIFS(ISOLATØR!I$27:I$38,ISOLATØR!$A$27:$A$38,ÅRSTOT!$A37)+SUMIFS(MALERE!I$27:I$38,MALERE!$A$27:$A$38,ÅRSTOT!$A37)+SUMIFS(TAKTEKKERE!I$27:I$38,TAKTEKKERE!$A$27:$A$38,ÅRSTOT!$A37)","v":148082191.69999999},{"$f":"SUMIFS(BETONG!J$27:J$38,BETONG!$A$27:$A$38,ÅRSTOT!$A37)+SUMIFS(TØMRERE!J$27:J$38,TØMRERE!$A$27:$A$38,ÅRSTOT!$A37)+SUMIFS(RØRLEGGERE!J$27:J$38,RØRLEGGERE!$A$27:$A$38,ÅRSTOT!$A37)+SUMIFS(MURERE!J$27:J$38,MURERE!$A$27:$A$38,ÅRSTOT!$A37)+SUMIFS('BLIKK OG VENTILASJON'!J$27:J$38,'BLIKK OG VENTILASJON'!$A$27:$A$38,ÅRSTOT!$A37)+SUMIFS(ISOLATØR!J$27:J$38,ISOLATØR!$A$27:$A$38,ÅRSTOT!$A37)+SUMIFS(MALERE!J$27:J$38,MALERE!$A$27:$A$38,ÅRSTOT!$A37)+SUMIFS(TAKTEKKERE!J$27:J$38,TAKTEKKERE!$A$27:$A$38,ÅRSTOT!$A37)","v":8930640.0999999978},298.77999999999997,-8.8264702932540379E-2,-8.6121465110485448E-3]
["Vestfold",{"$f":"SUMIFS(BETONG!B$27:B$38,BETONG!$A$27:$A$38,ÅRSTOT!$A38)+SUMIFS(TØMRERE!B$27:B$38,TØMRERE!$A$27:$A$38,ÅRSTOT!$A38)+SUMIFS(RØRLEGGERE!B$27:B$38,RØRLEGGERE!$A$27:$A$38,ÅRSTOT!$A38)+SUMIFS(MURERE!B$27:B$38,MURERE!$A$27:$A$38,ÅRSTOT!$A38)+SUMIFS('BLIKK OG VENTILASJON'!B$27:B$38,'BLIKK OG VENTILASJON'!$A$27:$A$38,ÅRSTOT!$A38)+SUMIFS(ISOLATØR!B$27:B$38,ISOLATØR!$A$27:$A$38,ÅRSTOT!$A38)+SUMIFS(MALERE!B$27:B$38,MALERE!$A$27:$A$38,ÅRSTOT!$A38)+SUMIFS(TAKTEKKERE!B$27:B$38,TAKTEKKERE!$A$27:$A$38,ÅRSTOT!$A38)","v":328413},{"$f":"SUMIFS(BETONG!C$27:C$38,BETONG!$A$27:$A$38,ÅRSTOT!$A38)+SUMIFS(TØMRERE!C$27:C$38,TØMRERE!$A$27:$A$38,ÅRSTOT!$A38)+SUMIFS(RØRLEGGERE!C$27:C$38,RØRLEGGERE!$A$27:$A$38,ÅRSTOT!$A38)+SUMIFS(MURERE!C$27:C$38,MURERE!$A$27:$A$38,ÅRSTOT!$A38)+SUMIFS('BLIKK OG VENTILASJON'!C$27:C$38,'BLIKK OG VENTILASJON'!$A$27:$A$38,ÅRSTOT!$A38)+SUMIFS(ISOLATØR!C$27:C$38,ISOLATØR!$A$27:$A$38,ÅRSTOT!$A38)+SUMIFS(MALERE!C$27:C$38,MALERE!$A$27:$A$38,ÅRSTOT!$A38)+SUMIFS(TAKTEKKERE!C$27:C$38,TAKTEKKERE!$A$27:$A$38,ÅRSTOT!$A38)","v":0},{"$f":"SUMIFS(BETONG!D$27:D$38,BETONG!$A$27:$A$38,ÅRSTOT!$A38)+SUMIFS(TØMRERE!D$27:D$38,TØMRERE!$A$27:$A$38,ÅRSTOT!$A38)+SUMIFS(RØRLEGGERE!D$27:D$38,RØRLEGGERE!$A$27:$A$38,ÅRSTOT!$A38)+SUMIFS(MURERE!D$27:D$38,MURERE!$A$27:$A$38,ÅRSTOT!$A38)+SUMIFS('BLIKK OG VENTILASJON'!D$27:D$38,'BLIKK OG VENTILASJON'!$A$27:$A$38,ÅRSTOT!$A38)+SUMIFS(ISOLATØR!D$27:D$38,ISOLATØR!$A$27:$A$38,ÅRSTOT!$A38)+SUMIFS(MALERE!D$27:D$38,MALERE!$A$27:$A$38,ÅRSTOT!$A38)+SUMIFS(TAKTEKKERE!D$27:D$38,TAKTEKKERE!$A$27:$A$38,ÅRSTOT!$A38)","v":834},{"$f":"SUMIFS(BETONG!E$27:E$38,BETONG!$A$27:$A$38,ÅRSTOT!$A38)+SUMIFS(TØMRERE!E$27:E$38,TØMRERE!$A$27:$A$38,ÅRSTOT!$A38)+SUMIFS(RØRLEGGERE!E$27:E$38,RØRLEGGERE!$A$27:$A$38,ÅRSTOT!$A38)+SUMIFS(MURERE!E$27:E$38,MURERE!$A$27:$A$38,ÅRSTOT!$A38)+SUMIFS('BLIKK OG VENTILASJON'!E$27:E$38,'BLIKK OG VENTILASJON'!$A$27:$A$38,ÅRSTOT!$A38)+SUMIFS(ISOLATØR!E$27:E$38,ISOLATØR!$A$27:$A$38,ÅRSTOT!$A38)+SUMIFS(MALERE!E$27:E$38,MALERE!$A$27:$A$38,ÅRSTOT!$A38)+SUMIFS(TAKTEKKERE!E$27:E$38,TAKTEKKERE!$A$27:$A$38,ÅRSTOT!$A38)","v":0},{"$f":"IF(D38=0,0,B38/D38)","v":393.78057553956836},0,393.78057553956836,{"$f":"SUMIFS(BETONG!I$27:I$38,BETONG!$A$27:$A$38,ÅRSTOT!$A38)+SUMIFS(TØMRERE!I$27:I$38,TØMRERE!$A$27:$A$38,ÅRSTOT!$A38)+SUMIFS(RØRLEGGERE!I$27:I$38,RØRLEGGERE!$A$27:$A$38,ÅRSTOT!$A38)+SUMIFS(MURERE!I$27:I$38,MURERE!$A$27:$A$38,ÅRSTOT!$A38)+SUMIFS('BLIKK OG VENTILASJON'!I$27:I$38,'BLIKK OG VENTILASJON'!$A$27:$A$38,ÅRSTOT!$A38)+SUMIFS(ISOLATØR!I$27:I$38,ISOLATØR!$A$27:$A$38,ÅRSTOT!$A38)+SUMIFS(MALERE!I$27:I$38,MALERE!$A$27:$A$38,ÅRSTOT!$A38)+SUMIFS(TAKTEKKERE!I$27:I$38,TAKTEKKERE!$A$27:$A$38,ÅRSTOT!$A38)","v":3289787.8},{"$f":"SUMIFS(BETONG!J$27:J$38,BETONG!$A$27:$A$38,ÅRSTOT!$A38)+SUMIFS(TØMRERE!J$27:J$38,TØMRERE!$A$27:$A$38,ÅRSTOT!$A38)+SUMIFS(RØRLEGGERE!J$27:J$38,RØRLEGGERE!$A$27:$A$38,ÅRSTOT!$A38)+SUMIFS(MURERE!J$27:J$38,MURERE!$A$27:$A$38,ÅRSTOT!$A38)+SUMIFS('BLIKK OG VENTILASJON'!J$27:J$38,'BLIKK OG VENTILASJON'!$A$27:$A$38,ÅRSTOT!$A38)+SUMIFS(ISOLATØR!J$27:J$38,ISOLATØR!$A$27:$A$38,ÅRSTOT!$A38)+SUMIFS(MALERE!J$27:J$38,MALERE!$A$27:$A$38,ÅRSTOT!$A38)+SUMIFS(TAKTEKKERE!J$27:J$38,TAKTEKKERE!$A$27:$A$38,ÅRSTOT!$A38)","v":397062.27},265.8,-0.90017198069735682,0.48149200729709685]
["Østfold",{"$f":"SUMIFS(BETONG!B$27:B$38,BETONG!$A$27:$A$38,ÅRSTOT!$A39)+SUMIFS(TØMRERE!B$27:B$38,TØMRERE!$A$27:$A$38,ÅRSTOT!$A39)+SUMIFS(RØRLEGGERE!B$27:B$38,RØRLEGGERE!$A$27:$A$38,ÅRSTOT!$A39)+SUMIFS(MURERE!B$27:B$38,MURERE!$A$27:$A$38,ÅRSTOT!$A39)+SUMIFS('BLIKK OG VENTILASJON'!B$27:B$38,'BLIKK OG VENTILASJON'!$A$27:$A$38,ÅRSTOT!$A39)+SUMIFS(ISOLATØR!B$27:B$38,ISOLATØR!$A$27:$A$38,ÅRSTOT!$A39)+SUMIFS(MALERE!B$27:B$38,MALERE!$A$27:$A$38,ÅRSTOT!$A39)+SUMIFS(TAKTEKKERE!B$27:B$38,TAKTEKKERE!$A$27:$A$38,ÅRSTOT!$A39)","v":17242127},{"$f":"SUMIFS(BETONG!C$27:C$38,BETONG!$A$27:$A$38,ÅRSTOT!$A39)+SUMIFS(TØMRERE!C$27:C$38,TØMRERE!$A$27:$A$38,ÅRSTOT!$A39)+SUMIFS(RØRLEGGERE!C$27:C$38,RØRLEGGERE!$A$27:$A$38,ÅRSTOT!$A39)+SUMIFS(MURERE!C$27:C$38,MURERE!$A$27:$A$38,ÅRSTOT!$A39)+SUMIFS('BLIKK OG VENTILASJON'!C$27:C$38,'BLIKK OG VENTILASJON'!$A$27:$A$38,ÅRSTOT!$A39)+SUMIFS(ISOLATØR!C$27:C$38,ISOLATØR!$A$27:$A$38,ÅRSTOT!$A39)+SUMIFS(MALERE!C$27:C$38,MALERE!$A$27:$A$38,ÅRSTOT!$A39)+SUMIFS(TAKTEKKERE!C$27:C$38,TAKTEKKERE!$A$27:$A$38,ÅRSTOT!$A39)","v":96089},{"$f":"SUMIFS(BETONG!D$27:D$38,BETONG!$A$27:$A$38,ÅRSTOT!$A39)+SUMIFS(TØMRERE!D$27:D$38,TØMRERE!$A$27:$A$38,ÅRSTOT!$A39)+SUMIFS(RØRLEGGERE!D$27:D$38,RØRLEGGERE!$A$27:$A$38,ÅRSTOT!$A39)+SUMIFS(MURERE!D$27:D$38,MURERE!$A$27:$A$38,ÅRSTOT!$A39)+SUMIFS('BLIKK OG VENTILASJON'!D$27:D$38,'BLIKK OG VENTILASJON'!$A$27:$A$38,ÅRSTOT!$A39)+SUMIFS(ISOLATØR!D$27:D$38,ISOLATØR!$A$27:$A$38,ÅRSTOT!$A39)+SUMIFS(MALERE!D$27:D$38,MALERE!$A$27:$A$38,ÅRSTOT!$A39)+SUMIFS(TAKTEKKERE!D$27:D$38,TAKTEKKERE!$A$27:$A$38,ÅRSTOT!$A39)","v":55826.5},{"$f":"SUMIFS(BETONG!E$27:E$38,BETONG!$A$27:$A$38,ÅRSTOT!$A39)+SUMIFS(TØMRERE!E$27:E$38,TØMRERE!$A$27:$A$38,ÅRSTOT!$A39)+SUMIFS(RØRLEGGERE!E$27:E$38,RØRLEGGERE!$A$27:$A$38,ÅRSTOT!$A39)+SUMIFS(MURERE!E$27:E$38,MURERE!$A$27:$A$38,ÅRSTOT!$A39)+SUMIFS('BLIKK OG VENTILASJON'!E$27:E$38,'BLIKK OG VENTILASJON'!$A$27:$A$38,ÅRSTOT!$A39)+SUMIFS(ISOLATØR!E$27:E$38,ISOLATØR!$A$27:$A$38,ÅRSTOT!$A39)+SUMIFS(MALERE!E$27:E$38,MALERE!$A$27:$A$38,ÅRSTOT!$A39)+SUMIFS(TAKTEKKERE!E$27:E$38,TAKTEKKERE!$A$27:$A$38,ÅRSTOT!$A39)","v":441},308.8520147241901,217.88888888888889,308.13908561780778,{"$f":"SUMIFS(BETONG!I$27:I$38,BETONG!$A$27:$A$38,ÅRSTOT!$A39)+SUMIFS(TØMRERE!I$27:I$38,TØMRERE!$A$27:$A$38,ÅRSTOT!$A39)+SUMIFS(RØRLEGGERE!I$27:I$38,RØRLEGGERE!$A$27:$A$38,ÅRSTOT!$A39)+SUMIFS(MURERE!I$27:I$38,MURERE!$A$27:$A$38,ÅRSTOT!$A39)+SUMIFS('BLIKK OG VENTILASJON'!I$27:I$38,'BLIKK OG VENTILASJON'!$A$27:$A$38,ÅRSTOT!$A39)+SUMIFS(ISOLATØR!I$27:I$38,ISOLATØR!$A$27:$A$38,ÅRSTOT!$A39)+SUMIFS(MALERE!I$27:I$38,MALERE!$A$27:$A$38,ÅRSTOT!$A39)+SUMIFS(TAKTEKKERE!I$27:I$38,TAKTEKKERE!$A$27:$A$38,ÅRSTOT!$A39)","v":16069396},{"$f":"SUMIFS(BETONG!J$27:J$38,BETONG!$A$27:$A$38,ÅRSTOT!$A39)+SUMIFS(TØMRERE!J$27:J$38,TØMRERE!$A$27:$A$38,ÅRSTOT!$A39)+SUMIFS(RØRLEGGERE!J$27:J$38,RØRLEGGERE!$A$27:$A$38,ÅRSTOT!$A39)+SUMIFS(MURERE!J$27:J$38,MURERE!$A$27:$A$38,ÅRSTOT!$A39)+SUMIFS('BLIKK OG VENTILASJON'!J$27:J$38,'BLIKK OG VENTILASJON'!$A$27:$A$38,ÅRSTOT!$A39)+SUMIFS(ISOLATØR!J$27:J$38,ISOLATØR!$A$27:$A$38,ÅRSTOT!$A39)+SUMIFS(MALERE!J$27:J$38,MALERE!$A$27:$A$38,ÅRSTOT!$A39)+SUMIFS(TAKTEKKERE!J$27:J$38,TAKTEKKERE!$A$27:$A$38,ÅRSTOT!$A39)","v":776008},291.10000000000002,7.2979158644170566E-2,5.8533444238432687E-2]
["Oslo",{"$f":"SUMIFS(BETONG!B$27:B$38,BETONG!$A$27:$A$38,ÅRSTOT!$A40)+SUMIFS(TØMRERE!B$27:B$38,TØMRERE!$A$27:$A$38,ÅRSTOT!$A40)+SUMIFS(RØRLEGGERE!B$27:B$38,RØRLEGGERE!$A$27:$A$38,ÅRSTOT!$A40)+SUMIFS(MURERE!B$27:B$38,MURERE!$A$27:$A$38,ÅRSTOT!$A40)+SUMIFS('BLIKK OG VENTILASJON'!B$27:B$38,'BLIKK OG VENTILASJON'!$A$27:$A$38,ÅRSTOT!$A40)+SUMIFS(ISOLATØR!B$27:B$38,ISOLATØR!$A$27:$A$38,ÅRSTOT!$A40)+SUMIFS(MALERE!B$27:B$38,MALERE!$A$27:$A$38,ÅRSTOT!$A40)+SUMIFS(TAKTEKKERE!B$27:B$38,TAKTEKKERE!$A$27:$A$38,ÅRSTOT!$A40)","v":132928385.63000001},{"$f":"SUMIFS(BETONG!C$27:C$38,BETONG!$A$27:$A$38,ÅRSTOT!$A40)+SUMIFS(TØMRERE!C$27:C$38,TØMRERE!$A$27:$A$38,ÅRSTOT!$A40)+SUMIFS(RØRLEGGERE!C$27:C$38,RØRLEGGERE!$A$27:$A$38,ÅRSTOT!$A40)+SUMIFS(MURERE!C$27:C$38,MURERE!$A$27:$A$38,ÅRSTOT!$A40)+SUMIFS('BLIKK OG VENTILASJON'!C$27:C$38,'BLIKK OG VENTILASJON'!$A$27:$A$38,ÅRSTOT!$A40)+SUMIFS(ISOLATØR!C$27:C$38,ISOLATØR!$A$27:$A$38,ÅRSTOT!$A40)+SUMIFS(MALERE!C$27:C$38,MALERE!$A$27:$A$38,ÅRSTOT!$A40)+SUMIFS(TAKTEKKERE!C$27:C$38,TAKTEKKERE!$A$27:$A$38,ÅRSTOT!$A40)","v":10551383.850000001},{"$f":"SUMIFS(BETONG!D$27:D$38,BETONG!$A$27:$A$38,ÅRSTOT!$A40)+SUMIFS(TØMRERE!D$27:D$38,TØMRERE!$A$27:$A$38,ÅRSTOT!$A40)+SUMIFS(RØRLEGGERE!D$27:D$38,RØRLEGGERE!$A$27:$A$38,ÅRSTOT!$A40)+SUMIFS(MURERE!D$27:D$38,MURERE!$A$27:$A$38,ÅRSTOT!$A40)+SUMIFS('BLIKK OG VENTILASJON'!D$27:D$38,'BLIKK OG VENTILASJON'!$A$27:$A$38,ÅRSTOT!$A40)+SUMIFS(ISOLATØR!D$27:D$38,ISOLATØR!$A$27:$A$38,ÅRSTOT!$A40)+SUMIFS(MALERE!D$27:D$38,MALERE!$A$27:$A$38,ÅRSTOT!$A40)+SUMIFS(TAKTEKKERE!D$27:D$38,TAKTEKKERE!$A$27:$A$38,ÅRSTOT!$A40)","v":381283.10000000003},{"$f":"SUMIFS(BETONG!E$27:E$38,BETONG!$A$27:$A$38,ÅRSTOT!$A40)+SUMIFS(TØMRERE!E$27:E$38,TØMRERE!$A$27:$A$38,ÅRSTOT!$A40)+SUMIFS(RØRLEGGERE!E$27:E$38,RØRLEGGERE!$A$27:$A$38,ÅRSTOT!$A40)+SUMIFS(MURERE!E$27:E$38,MURERE!$A$27:$A$38,ÅRSTOT!$A40)+SUMIFS('BLIKK OG VENTILASJON'!E$27:E$38,'BLIKK OG VENTILASJON'!$A$27:$A$38,ÅRSTOT!$A40)+SUMIFS(ISOLATØR!E$27:E$38,ISOLATØR!$A$27:$A$38,ÅRSTOT!$A40)+SUMIFS(MALERE!E$27:E$38,MALERE!$A$27:$A$38,ÅRSTOT!$A40)+SUMIFS(TAKTEKKERE!E$27:E$38,TAKTEKKERE!$A$27:$A$38,ÅRSTOT!$A40)","v":48312.53},348.6343497259648,218.3984951729914,333.98796323882533,{"$f":"SUMIFS(BETONG!I$27:I$38,BETONG!$A$27:$A$38,ÅRSTOT!$A40)+SUMIFS(TØMRERE!I$27:I$38,TØMRERE!$A$27:$A$38,ÅRSTOT!$A40)+SUMIFS(RØRLEGGERE!I$27:I$38,RØRLEGGERE!$A$27:$A$38,ÅRSTOT!$A40)+SUMIFS(MURERE!I$27:I$38,MURERE!$A$27:$A$38,ÅRSTOT!$A40)+SUMIFS('BLIKK OG VENTILASJON'!I$27:I$38,'BLIKK OG VENTILASJON'!$A$27:$A$38,ÅRSTOT!$A40)+SUMIFS(ISOLATØR!I$27:I$38,ISOLATØR!$A$27:$A$38,ÅRSTOT!$A40)+SUMIFS(MALERE!I$27:I$38,MALERE!$A$27:$A$38,ÅRSTOT!$A40)+SUMIFS(TAKTEKKERE!I$27:I$38,TAKTEKKERE!$A$27:$A$38,ÅRSTOT!$A40)","v":137059242},{"$f":"SUMIFS(BETONG!J$27:J$38,BETONG!$A$27:$A$38,ÅRSTOT!$A40)+SUMIFS(TØMRERE!J$27:J$38,TØMRERE!$A$27:$A$38,ÅRSTOT!$A40)+SUMIFS(RØRLEGGERE!J$27:J$38,RØRLEGGERE!$A$27:$A$38,ÅRSTOT!$A40)+SUMIFS(MURERE!J$27:J$38,MURERE!$A$27:$A$38,ÅRSTOT!$A40)+SUMIFS('BLIKK OG VENTILASJON'!J$27:J$38,'BLIKK OG VENTILASJON'!$A$27:$A$38,ÅRSTOT!$A40)+SUMIFS(ISOLATØR!J$27:J$38,ISOLATØR!$A$27:$A$38,ÅRSTOT!$A40)+SUMIFS(MALERE!J$27:J$38,MALERE!$A$27:$A$38,ÅRSTOT!$A40)+SUMIFS(TAKTEKKERE!J$27:J$38,TAKTEKKERE!$A$27:$A$38,ÅRSTOT!$A40)","v":549713.38},340.4,-3.0139203381848483E-2,-1.8836770743756309E-2]
["Landet i alt",{"$f":"SUM(B28:B40)","v":412724740.72000003},{"$f":"SUM(C28:C40)","v":28993203.990000002},{"$f":"SUM(D28:D40)","v":1275457.7},{"$f":"SUM(E28:E40)","v":145907.45000000001},{"$f":"IF(D41=0,0,B41/D41)","v":323.58951670447402},198.70955177408692,310.77020898535471,{"$f":"SUM(I28:I40)","v":384178067.63},{"$f":"SUM(J28:J40)","v":12347820.749999998},"309.78",7.4305837566691069E-2,{"$error":"#VALUE!"}]
[]
[]
[{"$f":"\"MÅLESTATISTIKK FOR ALLE BYGGFAG - GJENNOMSNITT HELE ÅRET  \"&FORS!$A$14","v":"MÅLESTATISTIKK FOR ALLE BYGGFAG - GJENNOMSNITT HELE ÅRET  2020"}]
[]
[null,"Målesum i kroner",null,"Timer",null,{"$f":"\"Fortjeneste hele  \"&FORS!$A$14-0","v":"Fortjeneste hele  2020"},null,null,{"$f":"\" Hele året  \"&FORS!$A$14-1","v":" Hele året  2019"},null,null,"Endringer i %"]
[null,"Innmålt m/","Innmålt m/","Innmålt m/","Innmålt m/","Innmålt m/","Innmålt m/","Gjennom-","Innmålt m/","Innmålt m/","Gjen.snitt","Innmålt m/","Gjen.snitt"]
[null,"overskudd","underskudd","overskudd","underskudd","overskudd","underskudd","snitt","overskudd","underskudd","fortjeneste","overskudd","fortjeneste"]
["Agder",{"$f":"SUMIFS(B$7:B$19,$A$7:$A$19,$A49)+SUMIFS(B$28:B$40,$A$28:$A$40,$A49)","v":22425687},{"$f":"SUMIFS(C$7:C$19,$A$7:$A$19,$A49)+SUMIFS(C$28:C$40,$A$28:$A$40,$A49)","v":330230},74238,1511,{"$f":"IF(D49=0,0,B49/D49)","v":302.07827527681241},{"$f":"IF(E49=0,0,C49/E49)","v":218.5506287227002},{"$f":"IF(D49+E49=0,0,(B49+C49)/(D49+E49))","v":300.41211105097096},{"$f":"SUMIFS(I$7:I$19,$A$7:$A$19,$A49)+SUMIFS(I$28:I$40,$A$28:$A$40,$A49)","v":17788849},277034,295.23,{"$f":"IF(I49=0,0,(B49-I49)/I49)","v":0.26065980997421473},{"$f":"IF(K49=0,0,(H49-K49)/K49)","v":1.7552792910513652E-2}]
["Bergen",{"$f":"SUMIFS(B$7:B$19,$A$7:$A$19,$A50)+SUMIFS(B$28:B$40,$A$28:$A$40,$A50)","v":66976791.700000003},0,229125.33000000002,0,292.31509104645914,0,292.31509104645914,47335841.599999994,0,279.25,0.41492766234032713,4.6786360058940539E-2]
["Nordland",0,424816.48,0,2105.5,{"$f":"IF(D51=0,0,B51/D51)","v":0},{"$f":"IF(E51=0,0,C51/E51)","v":201.76512942293991},{"$f":"IF(D51+E51=0,0,(B51+C51)/(D51+E51))","v":201.76512942293991},0,0,{"$f":"IF(G51+H51=0,0,(E51+F51)/(G51+H51))","v":5.2177004173661059},0,37.669358775640653]
["Drammen - Bærum",0,0,0,0,0,0,0,0,0,0,0,0]
["Haugesund",17704319,0,62530.61,0,283.13043803666716,0,283.13043803666716,28352949,0,273.45999999999998,-0.3755739835034444,3.5363263499843409E-2]
["Hamar og Omegn",37369619,1018501,117072.08,5009.88,319.20180285512993,203.29848219917443,314.44547580985756,25160718.52,337597,297.94,0.48523655913463953,5.5398656809617905E-2]
["Sandnes",45252655.939999998,0,137241.82,0,329.7293488238497,0,329.7293488238497,20300211.170000002,0,321.61,1.2291716850155305,2.5245946406671715E-2]
["Stavanger",9524049.0800000001,0,31666,0,300.76577654266407,0,300.76577654266407,10192165.09,1161873,304.27,-6.555192190278776E-2,-1.151682209003816E-2]
["Telemark",39341045.600000001,2265600,124095,9770,317.02361577823444,231.89355168884339,310.81048519030367,31685868,500000,304.95,0.24159595691050664,1.9217856010177659E-2]
["Trondheim",259195951.03,28079181.440000001,817740.08000000007,148519.10000000003,316.96618200492259,189.06107995537272,297.3064974865232,310524301.66999996,22147844.43,296.26,-0.1652957606343724,3.5323617313279148E-3]
["Vestfold",1182849.06,0,2731,0,{"$f":"IF(D59=0,0,B59/D59)","v":433.11939216404249},{"$f":"IF(E59=0,0,C59/E59)","v":0},433.11939216404249,4245005.7799999993,1341390.27,228.25,-0.72135513558711806,0.89756579261354874]
["Østfold",26743560,2375464,86573.5,10790.5,308.91161845137367,220.14401556925074,299.07382605480467,25133245,7080946,276.70999999999998,6.4071113777787153E-2,8.0820447597863082E-2]
["Oslo",238258251.39000002,13296546.880000003,693983.5,61139.229999999996,343.31976392810492,217.47978965387696,{"$f":"IF(D61+E61=0,0,(B61+C61)/(D61+E61))","v":333.13101072987172},234056181.17000002,9030984.790000001,324.86,1.795325463738958E-2,2.5460231268459352E-2]
["Landet i alt",{"$f":"SUM(B49:B61)","v":763974778.80000007},{"$f":"SUM(C49:C61)","v":47790339.800000004},{"$f":"SUM(D49:D61)","v":2376996.92},{"$f":"SUM(E49:E61)","v":238845.21000000002},{"$f":"IF(D62=0,0,B62/D62)","v":321.40335242840791},200.08916988538309,{"$f":"IF(D62+E62=0,0,(B62+C62)/(D62+E62))","v":310.32649458857065},{"$f":"SUM(I49:I61)","v":754775336},{"$f":"SUM(J49:J61)","v":41877669.490000002},301.99,1.2188319306713637E-2,2.7605200796617917E-2]

{"sheet":"BETONG","index":2,"n_rows":59,"n_cols":13,"rows_kept":59,"cut":false,"hidden":false,"merged":[[41,0,41,12],[21,0,21,12],[1,0,1,12]]}
[]
[{"$f":"\"MÅLESTATISTIKK FOR BETONGFAGENE - 1. HALVÅR \"&FORS!$A$14","v":"MÅLESTATISTIKK FOR BETONGFAGENE - 1. HALVÅR 2020"}]
[]
[null,"Målesum i kroner",null,"Timer",null,{"$f":"\"Fortjeneste 1. halvår  \"&FORS!$A$14-0","v":"Fortjeneste 1. halvår  2020"},null,null,{"$f":"\" 1. halvår  \"&FORS!$A$14-1","v":" 1. halvår  2019"},null,null,"Endringer i %"]
[null,"Innmålt m/","Innmålt m/","Innmålt m/","Innmålt m/","Innmålt m/","Innmålt m/","Gjennom-","Innmålt m/","Innmålt m/","Gjen.snitt","Innmålt m/","Gjen.snitt"]
[null,"overskudd","underskudd","overskudd","underskudd","overskudd","underskudd","snitt","overskudd","underskudd","fortjeneste","overskudd","fortjeneste"]
["Agder",5285873,330230,17502,1511,{"$f":"IF(D7=0,0,B7/D7)","v":302.01536967203748},{"$f":"IF(E7=0,0,C7/E7)","v":218.5506287227002},{"$f":"IF(D7+E7=0,0,(B7+C7)/(D7+E7))","v":295.38226476621259},3336295,null,300.38,{"$f":"IF(I7=0,0,(B7-I7)/I7)","v":0.58435420129215188},{"$f":"IF(K7=0,0,(H7-K7)/K7)","v":-1.6638042592008156E-2}]
["Bergen",25422200.280000001,null,83380.479999999996,null,{"$f":"IF(D8=0,0,B8/D8)","v":304.89390658341142},{"$f":"IF(E8=0,0,C8/E8)","v":0},{"$f":"IF(D8+E8=0,0,(B8+C8)/(D8+E8))","v":304.89390658341142},21090345.699999999,null,274.43,{"$f":"IF(I8=0,0,(B8-I8)/I8)","v":0.20539514342811374},{"$f":"IF(K8=0,0,(H8-K8)/K8)","v":0.11100793128816606}]
["Drammen - Bærum",null,null,null,null,{"$f":"IF(D9=0,0,B9/D9)","v":0},{"$f":"IF(E9=0,0,C9/E9)","v":0},{"$f":"IF(D9+E9=0,0,(B9+C9)/(D9+E9))","v":0},null,null,null,{"$f":"IF(I9=0,0,(B9-I9)/I9)","v":0},{"$f":"IF(K9=0,0,(H9-K9)/K9)","v":0}]
["Haugesund",12167164,null,42803,null,284.25960797140385,0,284.25960797140385,12693010,null,274.88,-4.1427998559837267E-2,3.4122555192825442E-2]
["Hamar og Omegn",5400384,null,13867.92,null,389.41557205406434,0,389.41557205406434,5355170,null,320.89,8.4430559627425468E-3,0.21354848095629142]
["Sandnes",13507839.1,null,40521.46,null,333.350256876233,0,333.350256876233,12109542.189999999,null,319.32,0.11547066669082724,4.3937920819970597E-2]
["Stavanger",null,null,null,null,0,0,0,null,null,null,0,0]
["Telemark",9041294,null,32245,null,280.39367343774228,0,280.39367343774228,4818868,null,322.95999999999998,0.87622777797607243,-0.1318006148199706]
["Trondheim",35742579,null,106185.89,null,336.60384633024216,0,336.60384633024216,41401768.43,null,340.62,-0.13668955806968169,{"$f":"IF(K15=0,0,(H15-K15)/K15)","v":-1.1790715958422409E-2}]
["Vestfold",null,null,null,null,0,0,0,null,null,null,0,0]
["Østfold",4907563,null,16324,null,300.63483214898309,0,300.63483214898309,5653147,4707718,258.39999999999998,-0.13188830929038287,0.16344749283662199]
["Oslo",26191837,602075,71697,2815,365.31287222617402,213.88099467140319,359.59190465965213,24142657,null,308.95999999999998,8.487798173995513E-2,0.16387851067986844]
["Landet i alt",{"$f":"SUM(B7:B18)","v":137666733.38},{"$f":"SUM(C7:C18)","v":932305},{"$f":"SUM(D7:D18)","v":424526.75},{"$f":"SUM(E7:E18)","v":4326},{"$f":"IF(D19=0,0,B19/D19)","v":324.28282406232353},{"$f":"IF(E19=0,0,C19/E19)","v":215.51202034211744},{"$f":"IF(D19+E19=0,0,(B19+C19)/(D19+E19))","v":323.18561179798894},{"$f":"SUM(I7:I18)","v":130600803.31999999},{"$f":"SUM(J7:J18)","v":4707718},313.54000000000002,{"$f":"IF(I19=0,0,(B19-I19)/I19)","v":5.4103266445359892E-2},{"$f":"IF(K19=0,0,(H19-K19)/K19)","v":3.0763576570737129E-2}]
[]
[]
[{"$f":"\"MÅLESTATISTIKK FOR BETONGFAGENE - 2. HALVÅR \"&FORS!$A$14","v":"MÅLESTATISTIKK FOR BETONGFAGENE - 2. HALVÅR 2020"}]
[]
[null,"Målesum i kroner",null,"Timer",null,{"$f":"\"Fortjeneste 2. halvår  \"&FORS!$A$14-0","v":"Fortjeneste 2. halvår  2020"},null,null,{"$f":"\" 2. halvår  \"&FORS!$A$14-1","v":" 2. halvår  2019"},null,null,"Endringer i %"]
[null,"Innmålt m/","Innmålt m/","Innmålt m/","Innmålt m/","Innmålt m/","Innmålt m/","Gjennom-","Innmålt m/","Innmålt m/","Gjen.snitt","Innmålt m/","Gjen.snitt"]
[null,"overskudd","underskudd","overskudd","underskudd","overskudd","underskudd","snitt","overskudd","underskudd","fortjeneste","overskudd","fortjeneste"]
["Agder",7913531,null,25367,null,{"$f":"IF(D27=0,0,B27/D27)","v":311.96164307959157},{"$f":"IF(E27=0,0,C27/E27)","v":0},{"$f":"IF(D27+E27=0,0,(B27+C27)/(D27+E27))","v":311.96164307959157},2192463,277034,281.52,{"$f":"IF(I27=0,0,(B27-I27)/I27)","v":2.6094251077441215},{"$f":"IF(K27=0,0,(H27-K27)/K27)","v":0.10813314535234295}]
["Bergen",33342487.23,null,113917.77,null,292.68907941228133,0,{"$f":"IF(D28+E28=0,0,(B28+C28)/(D28+E28))","v":292.68907941228133},15609510.619999999,null,296.27,{"$f":"IF(I28=0,0,(B28-I28)/I28)","v":1.1360366792844401},{"$f":"IF(K28=0,0,(H28-K28)/K28)","v":-1.2086679676371727E-2}]
["Drammen - Bærum",null,null,null,null,0,0,0,null,null,null,0,0]
["Haugesund",5537155,null,19727.61,null,280.68047776694692,0,280.68047776694692,15659939,null,272.31,-0.64641273506876373,3.0738782148826409E-2]
["Hamar og Omegn",3452479,0,10426.43,0,331.12762469992123,0,331.12762469992123,341197,321430,262.52,9.1187261318241362,0.26134246800213795]
["Sandnes",30178354.460000001,null,91191.56,null,330.9336353057235,0,330.9336353057235,8190668.9800000004,null,325.06,2.6844798066787456,1.8069388130571268E-2]
["Stavanger",null,null,null,null,0,0,0,null,null,null,0,0]
["Telemark",2401103,null,6350,null,378.12645669291339,0,378.12645669291339,4294393,null,353.71,-0.44087488033815259,6.9029591170488291E-2]
["Trondheim",36178457.68,null,101639.84,null,355.94760558458182,0,355.94760558458182,33527468.25,54669.59,331.15,7.9069180238504871E-2,7.4883302384363123E-2]
["Vestfold",null,null,null,null,0,0,0,null,null,null,0,0]
["Østfold",4557897,58589,14921.5,274,305.45836544583318,213.82846715328466,303.80612681385935,4660926,null,290.82,-2.2104834961979659E-2,4.4653486052745196E-2]
["Oslo",32598530,null,88662,null,367.67194513996975,0,367.67194513996975,25726128,null,358.5,0.26713705226064333,2.5584226331854254E-2]
["Landet i alt",{"$f":"SUM(B27:B38)","v":156159994.37},{"$f":"SUM(C27:C38)","v":58589},{"$f":"SUM(D27:D38)","v":472203.70999999996},{"$f":"SUM(E27:E38)","v":274},{"$f":"IF(D39=0,0,B39/D39)","v":330.70471718657188},{"$f":"IF(E39=0,0,C39/E39)","v":213.82846715328466},{"$f":"IF(D39+E39=0,0,(B39+C39)/(D39+E39))","v":330.63693813195977},{"$f":"SUM(I27:I38)","v":110202693.84999999},{"$f":"SUM(J27:J38)","v":653133.59},318.52999999999997,{"$f":"IF(I39=0,0,(B39-I39)/I39)","v":0.41702520069567262},{"$f":"IF(K39=0,0,(H39-K39)/K39)","v":3.8008784516245862E-2}]
[]
[]
[{"$f":"\"MÅLESTATISTIKK FOR BETONGFAGENE - GJENNOMSNITT HELE ÅRET  \"&FORS!$A$14","v":"MÅLESTATISTIKK FOR BETONGFAGENE - GJENNOMSNITT HELE ÅRET  2020"}]
[]
[null,"Målesum i kroner",null,"Timer",null,{"$f":"\"Fortjeneste hele  \"&FORS!$A$14-0","v":"Fortjeneste hele  2020"},null,null,{"$f":"\" Hele året  \"&FORS!$A$14-1","v":" Hele året  2019"},null,null,"Endringer i %"]
[null,"Innmålt m/","Innmålt m/","Innmålt m/","Innmålt m/","Innmålt m/","Innmålt m/","Gjennom-","Innmålt m/","Innmålt m/","Gjen.snitt","Innmålt m/","Gjen.snitt"]
[null,"overskudd","underskudd","overskudd","underskudd","overskudd","underskudd","snitt","overskudd","underskudd","fortjeneste","overskudd","fortjeneste"]
["Agder",{"$f":"SUMIFS(B$7:B$19,$A$7:$A$19,$A47)+SUMIFS(B$27:B$39,$A$27:$A$39,$A47)","v":13199404},{"$f":"SUMIFS(C$7:C$19,$A$7:$A$19,$A47)+SUMIFS(C$27:C$39,$A$27:$A$39,$A47)","v":330230},42869,1511,{"$f":"IF(D47=0,0,B47/D47)","v":307.90090741561499},{"$f":"IF(E47=0,0,C27/E47)","v":0},{"$f":"IF(D47+E47=0,0,(B47+C47)/(D47+E47))","v":304.85881027489859},{"$f":"SUMIFS(I$7:I$19,$A$7:$A$19,$A47)+SUMIFS(I$27:I$39,$A$27:$A$39,$A47)","v":5528758},{"$f":"SUMIFS(J$7:J$19,$A$7:$A$19,$A47)+SUMIFS(J$27:J$39,$A$27:$A$39,$A47)","v":277034},292.06,{"$f":"IF(I47=0,0,(B47-I47)/I47)","v":1.3874085282806736},{"$f":"IF(K47=0,0,(H47-K47)/K47)","v":4.3822537406350011E-2}]
["Bergen",{"$f":"SUMIFS($B$7:$B$19,$A$7:$A$19,A48)+SUMIFS($B$27:$B$39,$A$27:$A$39,A48)","v":58764687.510000005},0,197298.25,0,{"$f":"IF(D48=0,0,B48/D48)","v":297.84697791288067},{"$f":"IF(E48=0,0,C48/E48)","v":0},{"$f":"IF(D48+E48=0,0,(B48+C48)/(D48+E48))","v":297.84697791288067},{"$f":"SUMIFS(I$7:I$19,$A$7:$A$19,$A48)+SUMIFS(I$27:I$39,$A$27:$A$39,$A48)","v":36699856.32},0,283.31,{"$f":"IF(I48=0,0,(B48-I48)/I48)","v":0.60122391209405157},{"$f":"IF(K48=0,0,(H48-K48)/K48)","v":5.1311206497761011E-2}]
["Drammen - Bærum",0,0,0,0,0,0,0,0,0,null,0,0]
["Haugesund",17704319,0,62530.61,0,283.13043803666716,0,283.13043803666716,28352949,0,273.45999999999998,-0.3755739835034444,3.5363263499843409E-2]
["Hamar og Omegn",8852863,0,24294.35,0,364.40007656101113,0,364.40007656101113,5696367,321430,313.22000000000003,0.55412440947010611,0.16339977192073016]
["Sandnes",43686193.560000002,0,131713.01999999999,0,{"$f":"IF(D52=0,0,B52/D52)","v":331.67710800344571},0,{"$f":"IF(D52+E52=0,0,(B52+C52)/(D52+E52))","v":331.67710800344571},20300211.170000002,0,321.61,1.1520068532370837,3.1302223200291336E-2]
["Stavanger",0,0,0,0,0,0,0,0,0,null,0,0]
["Telemark",11442397,0,38595,0,296.47355875113357,0,296.47355875113357,9113261,0,336.75,0.25557657132830935,-0.11960338900925445]
["Trondheim",71921036.680000007,0,207825.72999999998,0,346.06416000559705,0,346.06416000559705,74929236.680000007,54669.59,336.31,-4.0147212667427906E-2,2.9003478949769686E-2]
["Vestfold",0,0,0,0,{"$f":"IF(D56=0,0,B56/D56)","v":0},0,0,0,0,null,0,0]
["Østfold",9465460,58589,31245.5,{"$f":"SUMIFS(E$7:E$19,$A$7:$A$19,$A57)+SUMIFS(E$27:E$39,$A$27:$A$39,$A57)","v":274},{"$f":"IF(D57=0,0,B57/D57)","v":302.9383431214095},213.82846715328466,302.16370818065008,10314073,4707718,267.66000000000003,-8.227719543966773E-2,0.12890872069285678]
["Oslo",58790367,602075,160359,2815,366.61719641554265,213.88099467140319,363.98226433132731,49868785,0,332.68,0.17890113023607854,9.4091211769049263E-2]
["Landet i alt",{"$f":"SUM(B47:B58)","v":293826727.75},{"$f":"SUM(C47:C58)","v":990894},{"$f":"SUM(D47:D58)","v":896730.46},{"$f":"SUM(E47:E58)","v":4600},{"$f":"IF(D59=0,0,B59/D59)","v":327.66448878072015},{"$f":"IF(E59=0,0,C59/E59)","v":215.4117391304348},{"$f":"IF(D59+E59=0,0,(B59+C59)/(D59+E59))","v":327.09159940073476},{"$f":"SUM(I47:I58)","v":240803497.17000002},{"$f":"SUM(J47:J58)","v":5360851.59},311.02,{"$f":"IF(I59=0,0,(B59-I59)/I59)","v":0.22019294239139384},{"$f":"IF(K59=0,0,(H59-K59)/K59)","v":5.1673845414233116E-2}]

{"sheet":"TØMRERE","index":3,"n_rows":59,"n_cols":13,"rows_kept":59,"cut":false,"hidden":false,"merged":[[1,0,1,12],[21,0,21,12],[41,0,41,12]]}
[]
[{"$f":"\"MÅLESTATISTIKK FOR TØMRERE - 1. HALVÅR \"&FORS!$A$14","v":"MÅLESTATISTIKK FOR TØMRERE - 1. HALVÅR 2020"}]
[]
[null,"Målesum i kroner",null,"Timer",null,{"$f":"\"Fortjeneste 1. halvår  \"&FORS!$A$14-0","v":"Fortjeneste 1. halvår  2020"},null,null,{"$f":"\" 1. halvår  \"&FORS!$A$14-1","v":" 1. halvår  2019"},null,null,"Endringer i %"]
[null,"Innmålt m/","Innmålt m/","Innmålt m/","Innmålt m/","Innmålt m/","Innmålt m/","Gjennom-","Innmålt m/","Innmålt m/","Gjen.snitt","Innmålt m/","Gjen.snitt"]
[null,"overskudd","underskudd","overskudd","underskudd","overskudd","underskudd","snitt","overskudd","underskudd","fortjeneste","overskudd","fortjeneste"]
["Agder",5334826,null,18389,null,{"$f":"IF(D7=0,0,B7/D7)","v":290.10963075751806},{"$f":"IF(E7=0,0,C7/E7)","v":0},{"$f":"IF(D7+E7=0,0,(B7+C7)/(D7+E7))","v":290.10963075751806},9438252,null,297.74,{"$f":"IF(I7=0,0,(B7-I7)/I7)","v":-0.43476546292682161},{"$f":"IF(K7=0,0,(H7-K7)/K7)","v":-2.56276255877005E-2}]
["Bergen",null,null,null,null,{"$f":"IF(D8=0,0,B8/D8)","v":0},0,{"$f":"IF(D8+E8=0,0,(B8+C8)/(D8+E8))","v":0},2660016.2000000002,null,275.35000000000002,{"$f":"IF(I8=0,0,(B8-I8)/I8)","v":-1},{"$f":"IF(K8=0,0,(H8-K8)/K8)","v":-1}]
["Drammen - Bærum",null,null,null,null,0,0,0,null,null,null,0,0]
["Haugesund",null,null,null,null,0,0,0,null,null,null,0,0]
["Hamar og Omegn",7624460,492756,25292,2252.98,301.45737782698086,218.71299345755401,294.689486069694,8030815.0499999998,null,280.92,-5.0599478069165572E-2,4.9015684428641543E-2]
["Sandnes",null,null,null,null,0,0,0,null,null,null,0,0]
["Stavanger",null,null,null,null,0,0,0,null,null,null,0,0]
["Telemark",15925174.6,null,50414,null,315.88793985797594,0,315.88793985797594,8607471,null,293.58,0.85015721807253253,7.598589773818365E-2]
["Trondheim",63067911.130000003,2445001,203543.22,11948.44,309.85021819935838,204.62930725684691,304.0159982525542,72830750.959999993,7115635.2599999998,287.05,-0.13404832026738162,5.9104679507243289E-2]
["Vestfold",755762,null,1650,null,458.03757575757578,0,458.03757575757578,531902,944328,155.29,0.42086700181612402,1.9495625974472006]
["Østfold",3160630,2279375,10032,10349.5,315.05482456140351,220.2401082177883,266.90896155827591,1869404,1597220,252.72,0.69071532959167736,5.6144988755444387E-2]
["Oslo",23790868.059999999,0,69165,null,343.97264599146968,0,343.97264599146968,41051761.490000002,null,330.94,-0.420466572042339,{"$f":"IF(K18=0,0,(H18-K18)/K18)","v":3.9380691338217436E-2}]
["Landet i alt",{"$f":"SUM(B7:B18)","v":119659631.79000001},{"$f":"SUM(C7:C18)","v":5217132},{"$f":"SUM(D7:D18)","v":378485.22},{"$f":"SUM(E7:E18)","v":24550.92},{"$f":"IF(D19=0,0,B19/D19)","v":316.15404107457624},{"$f":"IF(E19=0,0,C19/E19)","v":212.50250499777607},{"$f":"IF(D19+E19=0,0,(B19+C19)/(D19+E19))","v":309.84011456143861},{"$f":"SUM(I7:I18)","v":145020372.69999999},{"$f":"SUM(J7:J18)","v":9657183.2599999998},294.60000000000002,{"$f":"IF(I19=0,0,(B19-I19)/I19)","v":-0.17487709097578388},{"$f":"IF(K19=0,0,(H19-K19)/K19)","v":5.1731549767272872E-2}]
[]
[]
[{"$f":"\"MÅLESTATISTIKK FOR TØMRERE - 2. HALVÅR \"&FORS!$A$14","v":"MÅLESTATISTIKK FOR TØMRERE - 2. HALVÅR 2020"}]
[]
[null,"Målesum i kroner",null,"Timer",null,{"$f":"\"Fortjeneste 2. halvår  \"&FORS!$A$14-0","v":"Fortjeneste 2. halvår  2020"},null,null,{"$f":"\" 2. halvår  \"&FORS!$A$14-1","v":" 2. halvår  2019"},null,null,"Endringer i %"]
[null,"Innmålt m/","Innmålt m/","Innmålt m/","Innmålt m/","Innmålt m/","Innmålt m/","Gjennom-","Innmålt m/","Innmålt m/","Gjen.snitt","Innmålt m/","Gjen.snitt"]
[null,"overskudd","underskudd","overskudd","underskudd","overskudd","underskudd","snitt","overskudd","underskudd","fortjeneste","overskudd","fortjeneste"]
["Agder",3754412,null,12447,null,{"$f":"IF(D27=0,0,B27/D27)","v":301.63187916767095},0,{"$f":"IF(D27+E27=0,0,(B27+C27)/(D27+E27))","v":301.63187916767095},2790787,null,293.49,{"$f":"IF(I27=0,0,(B27-I27)/I27)","v":0.34528790624293432},{"$f":"IF(K27=0,0,(H27-K27)/K27)","v":2.7741589722549101E-2}]
["Bergen",null,null,null,null,0,0,{"$f":"IF(D28+E28=0,0,(B28+C28)/(D28+E28))","v":0},2930601.38,null,288.54000000000002,{"$f":"IF(I28=0,0,(B28-I28)/I28)","v":-1},{"$f":"IF(K28=0,0,(H28-K28)/K28)","v":-1}]
["Drammen - Bærum",null,null,null,null,0,0,0,null,null,null,0,0]
["Haugesund",null,null,null,null,0,0,0,null,null,null,0,0]
["Hamar og Omegn",16687447,337805,57079.87,1856.3,292.35257543508772,181.9775898292302,288.8761180103831,6457780,null,271.98,1.5840841589524572,6.2122648762346779E-2]
["Sandnes",1566462.38,null,5528.8,null,283.32773477065547,0,283.32773477065547,null,null,null,0,0]
["Stavanger",null,null,null,null,0,0,0,null,null,null,0,0]
["Telemark",10004015,2000000,30161,8500,331.68711249627,235.29411764705881,310.49416724864852,12072029,500000,286.88,-0.1713062485187867,8.2313745289488732E-2]
["Trondheim",71739144.280000001,1606123.69,232880.65,13139.04,308.0511166556775,122.24056628185924,298.12763348331998,78811131.769999996,4257097.8099999996,297.97000000000003,-8.9733357854048679E-2,5.2902467805468771E-4]
["Vestfold",null,null,null,null,0,0,0,2731236.8,397062.27,255.02,-1,-1]
["Østfold",10482940,37500,34880,167,300.54300458715596,224.55089820359282,300.18089993437383,9172323,776008,278.29000000000002,0.14288823016808283,7.8662186691486599E-2]
["Oslo",48046246.520000003,8470308.1300000008,134981.4,38789.33,355.94716397962981,218.36696148141772,325.23633094019925,54229915.229999997,null,376.22,-0.11402689242226931,-0.13551557349370255]
["Landet i alt",{"$f":"SUM(B27:B38)","v":162280667.18000001},{"$f":"SUM(C27:C38)","v":12451736.82},{"$f":"SUM(D27:D38)","v":507958.72},{"$f":"SUM(E27:E38)","v":62451.67},{"$f":"IF(D39=0,0,B39/D39)","v":319.47609282108596},{"$f":"IF(E39=0,0,C39/E39)","v":199.38196720760232},{"$f":"IF(D39+E39=0,0,(B39+C39)/(D39+E39))","v":306.32752674789111},{"$f":"SUM(I27:I38)","v":169195804.17999998},{"$f":"SUM(J27:J38)","v":5930168.0800000001},313.75,-4.087061752809934E-2,-2.3657285265685696E-2]
[]
[]
[{"$f":"\"MÅLESTATISTIKK FOR TØMRERE - GJENNOMSNITT HELE ÅRET  \"&FORS!$A$14","v":"MÅLESTATISTIKK FOR TØMRERE - GJENNOMSNITT HELE ÅRET  2020"}]
[]
[null,"Målesum i kroner",null,"Timer",null,{"$f":"\"Fortjeneste hele  \"&FORS!$A$14-0","v":"Fortjeneste hele  2020"},null,null,{"$f":"\" Hele året  \"&FORS!$A$14-1","v":" Hele året  2019"},null,null,"Endringer i %"]
[null,"Innmålt m/","Innmålt m/","Innmålt m/","Innmålt m/","Innmålt m/","Innmålt m/","Gjennom-","Innmålt m/","Innmålt m/","Gjen.snitt","Innmålt m/","Gjen.snitt"]
[null,"overskudd","underskudd","overskudd","underskudd","overskudd","underskudd","snitt","overskudd","underskudd","fortjeneste","overskudd","fortjeneste"]
["Agder",{"$f":"SUMIFS(B$7:B$19,$A$7:$A$19,$A47)+SUMIFS(B$27:B$39,$A$27:$A$39,$A47)","v":9089238},{"$f":"SUMIFS(C$7:C$19,$A$7:$A$19,$A47)+SUMIFS(C$27:C$39,$A$27:$A$39,$A47)","v":0},30836,0,{"$f":"IF(D47=0,0,B47/D47)","v":294.76060448826047},{"$f":"IF(E47=0,0,C27/E47)","v":0},{"$f":"IF(D47+E47=0,0,(B47+C47)/(D47+E47))","v":294.76060448826047},{"$f":"SUMIFS(I$7:I$19,$A$7:$A$19,$A47)+SUMIFS(I$27:I$39,$A$27:$A$39,$A47)","v":12229039},{"$f":"SUMIFS(J$7:J$19,$A$7:$A$19,$A47)+SUMIFS(J$27:J$39,$A$27:$A$39,$A47)","v":0},296.76,{"$f":"IF(I47=0,0,(B47-I47)/I47)","v":-0.25674961049678557},{"$f":"IF(K47=0,0,(H47-K47)/K47)","v":-6.7374157963995211E-3}]
["Bergen",{"$f":"SUMIFS($B$7:$B$19,$A$7:$A$19,A48)+SUMIFS($B$27:$B$39,$A$27:$A$39,A48)","v":0},0,0,0,{"$f":"IF(D48=0,0,B48/D48)","v":0},0,{"$f":"IF(D48+E48=0,0,(B48+C48)/(D48+E48))","v":0},{"$f":"SUMIFS(I$7:I$19,$A$7:$A$19,$A48)+SUMIFS(I$27:I$39,$A$27:$A$39,$A48)","v":5590617.5800000001},0,282.11,{"$f":"IF(I48=0,0,(B48-I48)/I48)","v":-1},{"$f":"IF(K48=0,0,(H48-K48)/K48)","v":-1}]
["Drammen - Bærum",0,0,0,0,0,0,0,0,0,null,0,0]
["Haugesund",0,0,0,0,0,0,0,0,0,null,0,0]
["Hamar og Omegn",24311907,830561,82371.87,4109.28,295.14817376368899,202.11837596853951,290.72772505916032,14488595.050000001,0,276.87,0.67800307180232766,5.0051378116662389E-2]
["Sandnes",1566462.38,0,5528.8,0,{"$f":"IF(D52=0,0,B52/D52)","v":283.32773477065547},0,{"$f":"IF(D52+E52=0,0,(B52+C52)/(D52+E52))","v":283.32773477065547},0,0,null,0,0]
["Stavanger",0,0,0,0,0,0,0,0,0,null,0,0]
["Telemark",25929189.600000001,2000000,80575,8500,321.80191870927712,235.29411764705881,313.54689419028909,20679500,500000,289.56,0.25385960008704278,8.2839115175746283E-2]
["Trondheim",134807055.41,4051124.69,436423.87,25087.480000000003,308.89019752746339,161.47993700443405,300.87706423688172,151641882.72999999,11372733.07,292.51,-0.11101700280241564,2.8604369891223315E-2]
["Vestfold",755762,0,1650,0,{"$f":"IF(D56=0,0,B56/D56)","v":458.03757575757578},0,458.03757575757578,3263138.8,1341390.27,211.48,-0.76839416086131551,1.1658671068544344]
["Østfold",13643570,2316875,44912,{"$f":"SUMIFS(E$7:E$19,$A$7:$A$19,$A57)+SUMIFS(E$27:E$39,$A$27:$A$39,$A57)","v":10516.5},{"$f":"IF(D57=0,0,B57/D57)","v":303.7845119344496},220.30856273475015,287.94654374554608,11041727,2373228,371.2,0.23563732376284977,-0.22428194034066248]
["Oslo",71837114.579999998,8470308.1300000008,204146.4,38789.33,351.89018557270663,218.36696148141772,330.57065220500914,95281676.719999999,0,355.28,-0.24605530619381821,-6.9548941102766368E-2]
["Landet i alt",{"$f":"SUM(B47:B58)","v":281940298.96999997},{"$f":"SUM(C47:C58)","v":17668868.82},{"$f":"SUM(D47:D58)","v":886443.94000000006},{"$f":"SUM(E47:E58)","v":87002.59},{"$f":"IF(D59=0,0,B59/D59)","v":318.05767544645852},{"$f":"IF(E59=0,0,C59/E59)","v":203.08440036095479},{"$f":"IF(D59+E59=0,0,(B59+C59)/(D59+E59))","v":307.7818437444119},{"$f":"SUM(I47:I58)","v":314216176.88},{"$f":"SUM(J47:J58)","v":15587351.34},304.47000000000003,{"$f":"IF(I59=0,0,(B59-I59)/I59)","v":-0.10271870223386452},{"$f":"IF(K59=0,0,(H59-K59)/K59)","v":1.0877405801595802E-2}]

{"sheet":"MALERE","index":4,"n_rows":59,"n_cols":13,"rows_kept":59,"cut":false,"hidden":false,"merged":[[1,0,1,12],[21,0,21,12],[41,0,41,12]]}
[]
[{"$f":"\"MÅLESTATISTIKK FOR MALERE - 1. HALVÅR \"&FORS!$A$14","v":"MÅLESTATISTIKK FOR MALERE - 1. HALVÅR 2020"}]
[]
[null,"Målesum i kroner",null,"Timer",null,{"$f":"\"Fortjeneste 1. halvår  \"&FORS!$A$14-0","v":"Fortjeneste 1. halvår  2020"},null,null,{"$f":"\" 1. halvår  \"&FORS!$A$14-1","v":" 1. halvår  2019"},null,null,"Endringer i %"]
[null,"Innmålt m/","Innmålt m/","Innmålt m/","Innmålt m/","Innmålt m/","Innmålt m/","Gjennom-","Innmålt m/","Innmålt m/","Gjen.snitt","Innmålt m/","Gjen.snitt"]
[null,"overskudd","underskudd","overskudd","underskudd","overskudd","underskudd","snitt","overskudd","underskudd","fortjeneste","overskudd","fortjeneste"]
["Agder",null,null,null,null,{"$f":"IF(D7=0,0,B7/D7)","v":0},{"$f":"IF(E7=0,0,C7/E7)","v":0},{"$f":"IF(D7+E7=0,0,(B7+C7)/(D7+E7))","v":0},null,null,0,{"$f":"IF(I7=0,0,(B7-I7)/I7)","v":0},{"$f":"IF(K7=0,0,(H7-K7)/K7)","v":0}]
["Bergen",2428780.9300000002,null,9428.18,null,{"$f":"IF(D8=0,0,B8/D8)","v":257.60867208729576},{"$f":"IF(E8=0,0,C8/E8)","v":0},{"$f":"IF(D8+E8=0,0,(B8+C8)/(D8+E8))","v":257.60867208729576},2027204.2,null,245.32,{"$f":"IF(I8=0,0,(B8-I8)/I8)","v":0.19809387233905704},{"$f":"IF(K8=0,0,(H8-K8)/K8)","v":5.0092418422043719E-2}]
["Drammen - Bærum",null,null,null,null,0,0,{"$f":"IF(D9+E9=0,0,(B9+C9)/(D9+E9))","v":0},null,null,null,{"$f":"IF(I9=0,0,(B9-I9)/I9)","v":0},0]
["Haugesund",null,null,null,null,0,0,0,null,null,null,0,0]
["Hamar og Omegn",898136,null,2279.5,null,{"$f":"IF(D11=0,0,B11/D11)","v":394.00570300504495},0,{"$f":"IF(D11+E11=0,0,(B11+C11)/(D11+E11))","v":394.00570300504495},2830789.65,null,333.07,-0.6827259842496598,0.18295164081137585]
["Sandnes",null,null,null,null,0,0,0,null,null,null,0,0]
["Stavanger",null,null,null,null,0,0,0,null,null,null,0,0]
["Telemark",288290,265600,656.5,1270,439.13175932977913,209.13385826771653,287.51103036594861,86656,null,381.74,2.3268325332348598,-0.24684070213771517]
["Trondheim",12613846,5938887,44331.15,31207.5,284.53685501052871,{"$f":"IF(E15=0,0,C15/E15)","v":190.30319634703196},245.60583224614157,19582839,3503061,246.2,-0.35587245546981211,-2.4133539961755258E-3]
["Vestfold",98674.06,null,247,null,399.49012145748986,0,399.49012145748986,423315.98,null,385.71,-0.76690211411343367,3.5726637778356496E-2]
["Østfold",null,null,null,null,0,0,0,null,null,null,0,0]
["Oslo",8923154,353931,29210,1688,305.48284833960975,209.67476303317537,300.24872160010358,10629649.92,390514.49,287.88,-0.1605411215649894,4.2964852022035517E-2]
["Landet i alt",{"$f":"SUM(B7:B18)","v":25250880.990000002},{"$f":"SUM(C7:C18)","v":6558418},{"$f":"SUM(D7:D18)","v":86152.33},{"$f":"SUM(E7:E18)","v":34165.5},{"$f":"IF(D19=0,0,B19/D19)","v":293.09574088129716},{"$f":"IF(E19=0,0,C19/E19)","v":191.96025230129808},{"$f":"IF(D19+E19=0,0,(B19+C19)/(D19+E19))","v":264.37726636193491},{"$f":"SUM(I7:I18)","v":35580454.75},{"$f":"SUM(J7:J18)","v":3893575.49},262.92,{"$f":"IF(I19=0,0,(B19-I19)/I19)","v":-0.29031595668405552},{"$f":"IF(K19=0,0,(H19-K19)/K19)","v":5.5426227062790913E-3}]
[]
[]
[{"$f":"\"MÅLESTATISTIKK FOR MALERE - 2. HALVÅR \"&FORS!$A$14","v":"MÅLESTATISTIKK FOR MALERE - 2. HALVÅR 2020"}]
[]
[null,"Målesum i kroner",null,"Timer",null,{"$f":"\"Fortjeneste 2. halvår  \"&FORS!$A$14-0","v":"Fortjeneste 2. halvår  2020"},null,null,{"$f":"\" 2. halvår  \"&FORS!$A$14-1","v":" 2. halvår  2019"},null,null,"Endringer i %"]
[null,"Innmålt m/","Innmålt m/","Innmålt m/","Innmålt m/","Innmålt m/","Innmålt m/","Gjennom-","Innmålt m/","Innmålt m/","Gjen.snitt","Innmålt m/","Gjen.snitt"]
[null,"overskudd","underskudd","overskudd","underskudd","overskudd","underskudd","snitt","overskudd","underskudd","fortjeneste","overskudd","fortjeneste"]
["Agder",null,null,null,null,{"$f":"IF(D27=0,0,B27/D27)","v":0},0,{"$f":"IF(D27+E27=0,0,(B27+C27)/(D27+E27))","v":0},null,null,0,{"$f":"IF(I27=0,0,(B27-I27)/I27)","v":0},{"$f":"IF(K27=0,0,(H27-K27)/K27)","v":0}]
["Bergen",5028908.8600000003,null,19744.5,null,254.69922560713113,0,{"$f":"IF(D28+E28=0,0,(B28+C28)/(D28+E28))","v":254.69922560713113},2074331.88,null,257.67,{"$f":"IF(I28=0,0,(B28-I28)/I28)","v":1.4243511409562875},{"$f":"IF(K28=0,0,(H28-K28)/K28)","v":-1.1529376306395349E-2}]
["Drammen - Bærum",null,null,null,null,0,0,{"$f":"IF(D29+E29=0,0,(B29+C29)/(D29+E29))","v":0},null,null,null,0,0]
["Haugesund",null,null,null,null,0,0,0,null,null,null,0,0]
["Hamar og Omegn",1351552,0,3370.36,0,401.01116794645083,0,401.01116794645083,592277,null,406.78,1.2819592859422195,-1.418170031355806E-2]
["Sandnes",null,null,null,null,0,0,0,null,null,null,0,0]
["Stavanger",null,null,null,null,0,0,0,null,null,null,0,0]
["Telemark",69534,null,162.5,null,427.90153846153845,0,427.90153846153845,194898,null,307.89999999999998,-0.64322876581596522,0.38974192420116427]
["Trondheim",16569952,7309458,55391.8,41266.480000000003,299.14088366870186,177.12821641196436,247.04981301136334,13616221,1533812,274.56,0.2169273692017778,-0.10019735937003446]
["Vestfold",328413,null,834,null,393.78057553956836,0,393.78057553956836,558551,null,348.22,-0.41202683371795951,0.13083848009754848]
["Østfold",null,0,null,null,0,0,0,null,null,null,0,0]
["Oslo",12091567,706194,38493,3397,314.12378874081003,207.88754783632618,305.50873716877538,9934668,null,277.16000000000003,0.21710831202411596,0.10228293104623812]
["Landet i alt",{"$f":"SUM(B27:B38)","v":35439926.859999999},{"$f":"SUM(C27:C38)","v":8015652},{"$f":"SUM(D27:D38)","v":117996.16},{"$f":"SUM(E27:E38)","v":44663.48},{"$f":"IF(D39=0,0,B39/D39)","v":300.34813726141596},{"$f":"IF(E39=0,0,C39/E39)","v":179.4676993373557},{"$f":"IF(D39+E39=0,0,(B39+C39)/(D39+E39))","v":267.15649229274084},{"$f":"SUM(I27:I38)","v":26970946.879999999},{"$f":"SUM(J27:J38)","v":1533812},277.38,0.31400380630611369,-3.6857407553749943E-2]
[]
[]
[{"$f":"\"MÅLESTATISTIKK FOR MALERE - GJENNOMSNITT HELE ÅRET  \"&FORS!$A$14","v":"MÅLESTATISTIKK FOR MALERE - GJENNOMSNITT HELE ÅRET  2020"}]
[]
[null,"Målesum i kroner",null,"Timer",null,{"$f":"\"Fortjeneste hele  \"&FORS!$A$14-0","v":"Fortjeneste hele  2020"},null,null,{"$f":"\" Hele året  \"&FORS!$A$14-1","v":" Hele året  2019"},null,null,"Endringer i %"]
[null,"Innmålt m/","Innmålt m/","Innmålt m/","Innmålt m/","Innmålt m/","Innmålt m/","Gjennom-","Innmålt m/","Innmålt m/","Gjen.snitt","Innmålt m/","Gjen.snitt"]
[null,"overskudd","underskudd","overskudd","underskudd","overskudd","underskudd","snitt","overskudd","underskudd","fortjeneste","overskudd","fortjeneste"]
["Agder",{"$f":"SUMIFS(B$7:B$19,$A$7:$A$19,$A47)+SUMIFS(B$27:B$39,$A$27:$A$39,$A47)","v":0},{"$f":"SUMIFS(C$7:C$19,$A$7:$A$19,$A47)+SUMIFS(C$27:C$39,$A$27:$A$39,$A47)","v":0},0,0,{"$f":"IF(D47=0,0,B47/D47)","v":0},{"$f":"IF(E47=0,0,C27/E47)","v":0},{"$f":"IF(D47+E47=0,0,(B47+C47)/(D47+E47))","v":0},{"$f":"SUMIFS(I$7:I$19,$A$7:$A$19,$A47)+SUMIFS(I$27:I$39,$A$27:$A$39,$A47)","v":0},{"$f":"SUMIFS(J$7:J$19,$A$7:$A$19,$A47)+SUMIFS(J$27:J$39,$A$27:$A$39,$A47)","v":0},0,{"$f":"IF(I47=0,0,(B47-I47)/I47)","v":0},{"$f":"IF(K47=0,0,(H47-K47)/K47)","v":0}]
["Bergen",{"$f":"SUMIFS($B$7:$B$19,$A$7:$A$19,A48)+SUMIFS($B$27:$B$39,$A$27:$A$39,A48)","v":7457689.790000001},0,29172.68,0,{"$f":"IF(D48=0,0,B48/D48)","v":255.63951580725532},0,{"$f":"IF(D48+E48=0,0,(B48+C48)/(D48+E48))","v":255.63951580725532},{"$f":"SUMIFS(I$7:I$19,$A$7:$A$19,$A48)+SUMIFS(I$27:I$39,$A$27:$A$39,$A48)","v":4101536.08},0,251.42,{"$f":"IF(I48=0,0,(B48-I48)/I48)","v":0.81826750869396248},{"$f":"IF(K48=0,0,(H48-K48)/K48)","v":1.6782737281263758E-2}]
["Drammen - Bærum",0,0,0,0,0,0,0,0,0,null,0,0]
["Haugesund",0,0,0,0,0,0,0,0,0,null,0,0]
["Hamar og Omegn",2249688,0,5649.8600000000006,0,398.18473378101402,0,398.18473378101402,3423066.65,0,343.85,-0.34278580289986466,0.15801871101065579]
["Sandnes",0,0,0,0,{"$f":"IF(D52=0,0,B52/D52)","v":0},0,{"$f":"IF(D52+E52=0,0,(B52+C52)/(D52+E52))","v":0},0,0,null,0,0]
["Stavanger",0,0,0,0,0,0,0,0,0,null,0,0]
["Telemark",357824,265600,819,1270,436.90354090354089,209.13385826771653,298.43178554332218,281554,0,327.39,0.27088942085710022,-8.8451737856006019E-2]
["Trondheim",29183798,13248345,99722.950000000012,72473.98000000001,292.64876339899689,182.80139989552109,246.41637339295187,33199060,5036873,266.89,-0.12094505085384948,-7.6711853599041244E-2]
["Vestfold",427087.06,0,1081,0,{"$f":"IF(D56=0,0,B56/D56)","v":395.08516188714151},0,395.08516188714151,981866.98,0,363.45,-0.56502553940657008,8.7041303857866348E-2]
["Østfold",0,0,0,{"$f":"SUMIFS(E$7:E$19,$A$7:$A$19,$A57)+SUMIFS(E$27:E$39,$A$27:$A$39,$A57)","v":0},{"$f":"IF(D57=0,0,B57/D57)","v":0},0,0,0,0,null,0,0]
["Oslo",21014721,1060125,67703,5085,310.39571363159683,208.48082595870207,303.27589712589986,20564317.920000002,390514.49,287.32,2.1902164795942727E-2,5.5533541437769271E-2]
["Landet i alt",{"$f":"SUM(B47:B58)","v":60690807.850000001},{"$f":"SUM(C47:C58)","v":14574070},{"$f":"SUM(D47:D58)","v":204148.49000000002},{"$f":"SUM(E47:E58)","v":78828.98000000001},{"$f":"IF(D59=0,0,B59/D59)","v":297.28756676084157},{"$f":"IF(E59=0,0,C59/E59)","v":184.88213344889149},{"$f":"IF(D59+E59=0,0,(B59+C59)/(D59+E59))","v":265.97480658089137},{"$f":"SUM(I47:I58)","v":62551401.630000003},{"$f":"SUM(J47:J58)","v":5427387.4900000002},277.02,{"$f":"IF(I59=0,0,(B59-I59)/I59)","v":-2.9745037385503603E-2},{"$f":"IF(K59=0,0,(H59-K59)/K59)","v":-3.9871465667130943E-2}]

{"sheet":"RØRLEGGERE","index":5,"n_rows":59,"n_cols":13,"rows_kept":59,"cut":false,"hidden":false,"merged":[[1,0,1,12],[21,0,21,12],[41,0,41,12]]}
[]
[{"$f":"\"MÅLESTATISTIKK FOR RØRLEGGERE - 1. HALVÅR \"&FORS!$A$14","v":"MÅLESTATISTIKK FOR RØRLEGGERE - 1. HALVÅR 2020"}]
[]
[null,"Målesum i kroner",null,"Timer",null,{"$f":"\"Fortjeneste 1. halvår  \"&FORS!$A$14-0","v":"Fortjeneste 1. halvår  2020"},null,null,{"$f":"\" 1. halvår  \"&FORS!$A$14-1","v":" 1. halvår  2019"},null,null,"Endringer i %"]
[null,"Innmålt m/","Innmålt m/","Innmålt m/","Innmålt m/","Innmålt m/","Innmålt m/","Gjennom-","Innmålt m/","Innmålt m/","Gjen.snitt","Innmålt m/","Gjen.snitt"]
[null,"overskudd","underskudd","overskudd","underskudd","overskudd","underskudd","snitt","overskudd","underskudd","fortjeneste","overskudd","fortjeneste"]
["Agder",null,null,null,null,{"$f":"IF(D7=0,0,B7/D7)","v":0},{"$f":"IF(E7=0,0,C7/E7)","v":0},{"$f":"IF(D7+E7=0,0,(B7+C7)/(D7+E7))","v":0},null,null,null,{"$f":"IF(I7=0,0,(B7-I7)/I7)","v":0},{"$f":"IF(K7=0,0,(H7-K7)/K7)","v":0}]
["Bergen",null,null,null,null,{"$f":"IF(D8=0,0,B8/D8)","v":0},0,{"$f":"IF(D8+E8=0,0,(B8+C8)/(D8+E8))","v":0},null,null,null,{"$f":"IF(I8=0,0,(B8-I8)/I8)","v":0},{"$f":"IF(K8=0,0,(H8-K8)/K8)","v":0}]
["Nordland",null,null,null,null,0,0,0,null,null,null,0,0]
["Haugesund",null,null,null,null,0,0,0,null,null,null,0,0]
["Hamar og Omegn",null,null,null,null,0,0,0,null,null,null,0,0]
["Sandnes",null,null,null,null,0,0,0,null,null,null,0,0]
["Stavanger",null,null,null,null,0,0,0,null,null,null,0,0]
["Telemark",null,null,null,null,0,0,0,null,null,null,0,0]
["Trondheim",7937562.4500000002,3667299.97,23970.89,16278.24,331.1334059769996,225.28848143288221,288.32579536501783,21919850.739999998,2040193.86,302.02999999999997,-0.6378824589569263,-4.5373653726391912E-2]
["Vestfold",null,null,null,null,0,0,0,null,null,null,0,0]
["Østfold",null,null,null,null,0,0,0,null,null,0,0,0]
["Oslo",30940663,1134425,96619.5,5127,320.23207530570949,221.26487224497757,315.24512391089621,7707737,7705847,259.87,3.0142343985011424,0.21308778970599224]
["Landet i alt",{"$f":"SUM(B7:B18)","v":38878225.450000003},{"$f":"SUM(C7:C18)","v":4801724.9700000007},{"$f":"SUM(D7:D18)","v":120590.39},{"$f":"SUM(E7:E18)","v":21405.239999999998},{"$f":"IF(D19=0,0,B19/D19)","v":322.39903569430368},{"$f":"IF(E19=0,0,C19/E19)","v":224.32474338059285},{"$f":"IF(D19+E19=0,0,(B19+C19)/(D19+E19))","v":307.61475138354609},{"$f":"SUM(I7:I18)","v":29627587.739999998},{"$f":"SUM(J7:J18)","v":9746040.8599999994},283.99,{"$f":"IF(I19=0,0,(B19-I19)/I19)","v":0.31223053969766101},{"$f":"IF(K19=0,0,(H19-K19)/K19)","v":8.3188673486904757E-2}]
[]
[]
[{"$f":"\"MÅLESTATISTIKK FOR RØRLEGGERE - 2. HALVÅR \"&FORS!$A$14","v":"MÅLESTATISTIKK FOR RØRLEGGERE - 2. HALVÅR 2020"}]
[]
[null,"Målesum i kroner",null,"Timer",null,{"$f":"\"Fortjeneste 2. halvår  \"&FORS!$A$14-0","v":"Fortjeneste 2. halvår  2020"},null,null,{"$f":"\" 2. halvår  \"&FORS!$A$14-1","v":" 2. halvår  2019"},null,null,"Endringer i %"]
[null,"Innmålt m/","Innmålt m/","Innmålt m/","Innmålt m/","Innmålt m/","Innmålt m/","Gjennom-","Innmålt m/","Innmålt m/","Gjen.snitt","Innmålt m/","Gjen.snitt"]
[null,"overskudd","underskudd","overskudd","underskudd","overskudd","underskudd","snitt","overskudd","underskudd","fortjeneste","overskudd","fortjeneste"]
["Agder",null,null,null,null,{"$f":"IF(D27=0,0,B27/D27)","v":0},0,{"$f":"IF(D27+E27=0,0,(B27+C27)/(D27+E27))","v":0},null,null,null,{"$f":"IF(I27=0,0,(B27-I27)/I27)","v":0},{"$f":"IF(K27=0,0,(H27-K27)/K27)","v":0}]
["Bergen",null,null,null,null,0,0,{"$f":"IF(D28+E28=0,0,(B28+C28)/(D28+E28))","v":0},null,null,null,{"$f":"IF(I28=0,0,(B28-I28)/I28)","v":0},{"$f":"IF(K28=0,0,(H28-K28)/K28)","v":0}]
["Nordland",null,424816.48,0,2105.5,0,201.76512942293991,201.76512942293991,null,null,null,0,0]
["Haugesund",null,null,null,null,0,0,0,null,null,0,0,0]
["Hamar og Omegn",null,null,null,null,0,0,0,null,null,0,0,0]
["Sandnes",null,null,null,null,0,0,0,null,null,null,0,0]
["Stavanger",null,null,null,null,0,0,0,null,null,0,0,0]
["Telemark",null,null,null,null,0,0,0,null,null,0,0,0]
["Trondheim",4383440.4400000004,6394354.9699999997,12924.03,28921.9,339.16978218094511,221.09041833351196,257.55898865194297,15340772.1,1886858.23,271.14999999999998,-0.7142620715941671,-5.0123589703326608E-2]
["Vestfold",null,null,null,null,0,0,0,null,null,null,0,0]
["Østfold",null,0,null,null,0,0,0,null,null,0,0,0]
["Oslo",28628301,993875,86070,4291,332.61648658069015,231.61850384525752,327.82036498046722,31421189,null,302.19,-8.888549698103404E-2,8.4815397532900558E-2]
["Landet i alt",{"$f":"SUM(B27:B38)","v":33011741.440000001},{"$f":"SUM(C27:C38)","v":7813046.4499999993},{"$f":"SUM(D27:D38)","v":98994.03},{"$f":"SUM(E27:E38)","v":35318.400000000001},{"$f":"IF(D39=0,0,B39/D39)","v":333.47204311209475},{"$f":"IF(E39=0,0,C39/E39)","v":221.21745180982148},{"$f":"IF(D39+E39=0,0,(B39+C39)/(D39+E39))","v":303.95390724447469},{"$f":"SUM(I27:I38)","v":46761961.100000001},{"$f":"SUM(J27:J38)","v":1886858.23},290.42,-0.29404711300698633,4.6601154343621914E-2]
[]
[]
[{"$f":"\"MÅLESTATISTIKK FOR RØRLEGGERE - GJENNOMSNITT HELE ÅRET  \"&FORS!$A$14","v":"MÅLESTATISTIKK FOR RØRLEGGERE - GJENNOMSNITT HELE ÅRET  2020"}]
[]
[null,"Målesum i kroner",null,"Timer",null,{"$f":"\"Fortjeneste hele  \"&FORS!$A$14-0","v":"Fortjeneste hele  2020"},null,null,{"$f":"\" Hele året  \"&FORS!$A$14-1","v":" Hele året  2019"},null,null,"Endringer i %"]
[null,"Innmålt m/","Innmålt m/","Innmålt m/","Innmålt m/","Innmålt m/","Innmålt m/","Gjennom-","Innmålt m/","Innmålt m/","Gjen.snitt","Innmålt m/","Gjen.snitt"]
[null,"overskudd","underskudd","overskudd","underskudd","overskudd","underskudd","snitt","overskudd","underskudd","fortjeneste","overskudd","fortjeneste"]
["Agder",{"$f":"SUMIFS(B$7:B$19,$A$7:$A$19,$A47)+SUMIFS(B$27:B$39,$A$27:$A$39,$A47)","v":0},{"$f":"SUMIFS(C$7:C$19,$A$7:$A$19,$A47)+SUMIFS(C$27:C$39,$A$27:$A$39,$A47)","v":0},0,0,{"$f":"IF(D47=0,0,B47/D47)","v":0},{"$f":"IF(E47=0,0,C27/E47)","v":0},{"$f":"IF(D47+E47=0,0,(B47+C47)/(D47+E47))","v":0},{"$f":"SUMIFS(I$7:I$19,$A$7:$A$19,$A47)+SUMIFS(I$27:I$39,$A$27:$A$39,$A47)","v":0},{"$f":"SUMIFS(J$7:J$19,$A$7:$A$19,$A47)+SUMIFS(J$27:J$39,$A$27:$A$39,$A47)","v":0},null,{"$f":"IF(I47=0,0,(B47-I47)/I47)","v":0},{"$f":"IF(K47=0,0,(H47-K47)/K47)","v":0}]
["Bergen",{"$f":"SUMIFS($B$7:$B$19,$A$7:$A$19,A48)+SUMIFS($B$27:$B$39,$A$27:$A$39,A48)","v":0},0,0,0,{"$f":"IF(D48=0,0,B48/D48)","v":0},0,{"$f":"IF(D48+E48=0,0,(B48+C48)/(D48+E48))","v":0},{"$f":"SUMIFS(I$7:I$19,$A$7:$A$19,$A48)+SUMIFS(I$27:I$39,$A$27:$A$39,$A48)","v":0},0,null,{"$f":"IF(I48=0,0,(B48-I48)/I48)","v":0},{"$f":"IF(K48=0,0,(H48-K48)/K48)","v":0}]
["Nordland",0,424816.48,0,2105.5,0,201.76512942293991,201.76512942293991,0,0,null,0,0]
["Haugesund",0,0,0,0,0,0,0,0,0,0,0,0]
["Hamar og Omegn",0,0,0,0,0,0,0,0,0,0,0,0]
["Sandnes",0,0,0,0,{"$f":"IF(D52=0,0,B52/D52)","v":0},0,{"$f":"IF(D52+E52=0,0,(B52+C52)/(D52+E52))","v":0},0,0,null,0,0]
["Stavanger",0,0,0,0,0,0,0,0,0,0,0,0]
["Telemark",0,0,0,0,0,0,0,0,0,0,0,0]
["Trondheim",12321002.890000001,10061654.939999999,36894.92,45200.14,333.94849182489082,222.60229592209228,272.64317524099499,37260622.839999996,3927052.09,288.3,-0.66932912144524948,-5.4307404644484976E-2]
["Vestfold",0,0,0,0,{"$f":"IF(D56=0,0,B56/D56)","v":0},0,0,0,0,null,0,0]
["Østfold",0,0,0,{"$f":"SUMIFS(E$7:E$19,$A$7:$A$19,$A57)+SUMIFS(E$27:E$39,$A$27:$A$39,$A57)","v":0},{"$f":"IF(D57=0,0,B57/D57)","v":0},0,0,0,0,0,0,0]
["Oslo",59568964,2128300,182689.5,9418,326.06670881468284,225.98216181779571,321.16010046458365,39128926,7705847,286.82,0.52237666835016117,0.11972700810467769]
["Landet i alt",{"$f":"SUM(B47:B58)","v":71889966.890000001},{"$f":"SUM(C47:C58)","v":12614771.42},{"$f":"SUM(D47:D58)","v":219584.41999999998},{"$f":"SUM(E47:E58)","v":56723.64},{"$f":"IF(D59=0,0,B59/D59)","v":327.39101840649715},{"$f":"IF(E59=0,0,C59/E59)","v":222.3900197519059},{"$f":"IF(D59+E59=0,0,(B59+C59)/(D59+E59))","v":305.83522720980346},{"$f":"SUM(I47:I58)","v":76389548.840000004},{"$f":"SUM(J47:J58)","v":11632899.09},287.51,{"$f":"IF(I59=0,0,(B59-I59)/I59)","v":-5.890310936937853E-2},{"$f":"IF(K59=0,0,(H59-K59)/K59)","v":6.3737703766141948E-2}]

{"sheet":"TAKTEKKERE","index":6,"n_rows":59,"n_cols":13,"rows_kept":59,"cut":false,"hidden":false,"merged":[[1,0,1,12],[21,0,21,12],[41,0,41,12]]}
[]
[{"$f":"\"MÅLESTATISTIKK FOR TAKTEKKERE - 1. HALVÅR \"&FORS!$A$14","v":"MÅLESTATISTIKK FOR TAKTEKKERE - 1. HALVÅR 2020"}]
[]
[null,"Målesum i kroner",null,"Timer",null,{"$f":"\"Fortjeneste 1. halvår  \"&FORS!$A$14-0","v":"Fortjeneste 1. halvår  2020"},null,null,{"$f":"\" 1. halvår  \"&FORS!$A$14-1","v":" 1. halvår  2019"},null,null,"Endringer i %"]
[null,"Innmålt m/","Innmålt m/","Innmålt m/","Innmålt m/","Innmålt m/","Innmålt m/","Gjennom-","Innmålt m/","Innmålt m/","Gjen.snitt","Innmålt m/","Gjen.snitt"]
[null,"overskudd","underskudd","overskudd","underskudd","overskudd","underskudd","snitt","overskudd","underskudd","fortjeneste","overskudd","fortjeneste"]
["Agder",0,null,0,null,{"$f":"IF(D7=0,0,B7/D7)","v":0},{"$f":"IF(E7=0,0,C7/E7)","v":0},{"$f":"IF(D7+E7=0,0,(B7+C7)/(D7+E7))","v":0},31052,null,295.73,{"$f":"IF(I7=0,0,(B7-I7)/I7)","v":-1},{"$f":"IF(K7=0,0,(H7-K7)/K7)","v":-1}]
["Bergen",262003.71,null,953.2,null,{"$f":"IF(D8=0,0,B8/D8)","v":274.86750944187997},0,{"$f":"IF(D8+E8=0,0,(B8+C8)/(D8+E8))","v":274.86750944187997},598395.35,null,227.2,{"$f":"IF(I8=0,0,(B8-I8)/I8)","v":-0.56215617317213451},{"$f":"IF(K8=0,0,(H8-K8)/K8)","v":0.20980417888151404}]
["Drammen - Bærum",null,null,null,null,0,0,0,null,null,null,{"$f":"IF(I9=0,0,(B9-I9)/I9)","v":0},0]
["Haugesund",null,null,null,null,0,0,0,null,null,null,0,0]
["Hamar og Omegn",1210598,136955,3135,658.5,386.15566188197766,207.98025816249051,355.22683537630155,642219.81999999995,null,353.06,0.88502123774379948,6.1373006749604851E-3]
["Sandnes",null,null,null,null,0,0,0,null,null,null,0,0]
["Stavanger",4632594.24,null,16048,null,288.6711266201396,0,288.6711266201396,4556716.09,582107,314,1.6651937162931819E-2,-8.0665201846689169E-2]
["Telemark",1191176,null,2979,null,399.85767035918093,0,399.85767035918093,678205,null,361.71,0.75636570063623831,0.10546479322988292]
["Trondheim",3268824.26,495868.81,10503.1,4634.8999999999996,311.22471079966863,106.98587024531274,248.69157550535076,3714665.51,432615.08,301.36,-0.12002191012886111,-0.17476912826735219]
["Vestfold",null,null,null,null,0,0,0,null,null,null,0,0]
["Østfold",null,null,null,null,0,0,0,null,null,null,0,0]
["Oslo",3369047.7,317516.03000000003,9407.9,1739.7,358.10836637294193,182.5119445881474,330.70470146040407,3147493.76,384909.92,325.69,7.0390589114305485E-2,1.539716128958233E-2]
["Landet i alt",{"$f":"SUM(B7:B18)","v":13934243.91},{"$f":"SUM(C7:C18)","v":950339.84000000008},{"$f":"SUM(D7:D18)","v":43026.200000000004},{"$f":"SUM(E7:E18)","v":7033.0999999999995},{"$f":"IF(D19=0,0,B19/D19)","v":323.85485843509298},{"$f":"IF(E19=0,0,C19/E19)","v":135.12389131392987},{"$f":"IF(D19+E19=0,0,(B19+C19)/(D19+E19))","v":297.33903090934149},{"$f":"SUM(I7:I18)","v":13368747.529999999},{"$f":"SUM(J7:J18)","v":1399632},311.52999999999997,{"$f":"IF(I19=0,0,(B19-I19)/I19)","v":4.2299877287008715E-2},{"$f":"IF(K19=0,0,(H19-K19)/K19)","v":-4.5552496037808511E-2}]
[]
[]
[{"$f":"\"MÅLESTATISTIKK FOR TAKTEKKERE - 2. HALVÅR \"&FORS!$A$14","v":"MÅLESTATISTIKK FOR TAKTEKKERE - 2. HALVÅR 2020"}]
[]
[null,"Målesum i kroner",null,"Timer",null,{"$f":"\"Fortjeneste 2. halvår  \"&FORS!$A$14-0","v":"Fortjeneste 2. halvår  2020"},null,null,{"$f":"\" 2. halvår  \"&FORS!$A$14-1","v":" 2. halvår  2019"},null,null,"Endringer i %"]
[null,"Innmålt m/","Innmålt m/","Innmålt m/","Innmålt m/","Innmålt m/","Innmålt m/","Gjennom-","Innmålt m/","Innmålt m/","Gjen.snitt","Innmålt m/","Gjen.snitt"]
[null,"overskudd","underskudd","overskudd","underskudd","overskudd","underskudd","snitt","overskudd","underskudd","fortjeneste","overskudd","fortjeneste"]
["Agder",137045,null,533,null,{"$f":"IF(D27=0,0,B27/D27)","v":257.12007504690433},0,{"$f":"IF(D27+E27=0,0,(B27+C27)/(D27+E27))","v":257.12007504690433},null,null,null,{"$f":"IF(I27=0,0,(B27-I27)/I27)","v":0},{"$f":"IF(K27=0,0,(H27-K27)/K27)","v":0}]
["Bergen",326745.87,null,1249.2,null,261.56409702209413,0,{"$f":"IF(D28+E28=0,0,(B28+C28)/(D28+E28))","v":261.56409702209413},345436.27,null,285.7,{"$f":"IF(I28=0,0,(B28-I28)/I28)","v":-5.4106651857953485E-2},{"$f":"IF(K28=0,0,(H28-K28)/K28)","v":-8.4479884416891346E-2}]
["Drammen - Bærum",null,null,null,null,0,0,0,null,null,null,0,0]
["Haugesund",null,null,null,null,0,0,0,null,null,null,0,0]
["Hamar og Omegn",744563,50985,1621,242.1,459.32325724861198,210.59479553903347,427.00230798132145,910470,16167,408.88,-0.18222127033290497,4.4321825428784621E-2]
["Sandnes",null,null,null,null,0,0,0,null,null,null,0,0]
["Stavanger",4022427.07,null,12931,null,311.06852292939448,0,311.06852292939448,3865294,579766,287.95,4.0652294495580374E-2,8.0286587704096149E-2]
["Telemark",420459,null,1127,null,373.07808340727593,0,373.07808340727593,933348,null,358.29,-0.54951529333110483,4.1274061255619485E-2]
["Trondheim",3258692.57,222188,11231.55,1122.5999999999999,290.13738709260969,197.92267949403174,281.75799791972736,2983168.5,350459.7,349.59,9.2359539865079637E-2,-0.1940330160481496]
["Vestfold",null,null,null,null,0,0,0,null,null,null,0,0]
["Østfold",null,0,null,null,0,0,0,null,null,null,0,0]
["Oslo",2821959.11,207750.72,6926.7,1063.2,407.40310826223163,195.40135440180586,379.19245922977763,3753132.77,315163.38,348.61,-0.24810570716900063,8.7726855884161709E-2]
["Landet i alt",{"$f":"SUM(B27:B38)","v":11731891.619999999},{"$f":"SUM(C27:C38)","v":480923.72},{"$f":"SUM(D27:D38)","v":35619.449999999997},{"$f":"SUM(E27:E38)","v":2427.8999999999996},{"$f":"IF(D39=0,0,B39/D39)","v":329.36756800006737},{"$f":"IF(E39=0,0,C39/E39)","v":198.08217801392152},{"$f":"IF(D39+E39=0,0,(B39+C39)/(D39+E39))","v":320.98990705003109},{"$f":"SUM(I27:I38)","v":12790849.539999999},{"$f":"SUM(J27:J38)","v":1261556.08},328.92,-8.2790272584193025E-2,-2.4109488477346841E-2]
[]
[]
[{"$f":"\"MÅLESTATISTIKK FOR TAKTEKKERE - GJENNOMSNITT HELE ÅRET  \"&FORS!$A$14","v":"MÅLESTATISTIKK FOR TAKTEKKERE - GJENNOMSNITT HELE ÅRET  2020"}]
[]
[null,"Målesum i kroner",null,"Timer",null,{"$f":"\"Fortjeneste hele  \"&FORS!$A$14-0","v":"Fortjeneste hele  2020"},null,null,{"$f":"\" Hele året  \"&FORS!$A$14-1","v":" Hele året  2019"},null,null,"Endringer i %"]
[null,"Innmålt m/","Innmålt m/","Innmålt m/","Innmålt m/","Innmålt m/","Innmålt m/","Gjennom-","Innmålt m/","Innmålt m/","Gjen.snitt","Innmålt m/","Gjen.snitt"]
[null,"overskudd","underskudd","overskudd","underskudd","overskudd","underskudd","snitt","overskudd","underskudd","fortjeneste","overskudd","fortjeneste"]
["Agder",{"$f":"SUMIFS(B$7:B$19,$A$7:$A$19,$A47)+SUMIFS(B$27:B$39,$A$27:$A$39,$A47)","v":137045},{"$f":"SUMIFS(C$7:C$19,$A$7:$A$19,$A47)+SUMIFS(C$27:C$39,$A$27:$A$39,$A47)","v":0},533,0,{"$f":"IF(D47=0,0,B47/D47)","v":257.12007504690433},{"$f":"IF(E47=0,0,C27/E47)","v":0},{"$f":"IF(D47+E47=0,0,(B47+C47)/(D47+E47))","v":257.12007504690433},{"$f":"SUMIFS(I$7:I$19,$A$7:$A$19,$A47)+SUMIFS(I$27:I$39,$A$27:$A$39,$A47)","v":31052},{"$f":"SUMIFS(J$7:J$19,$A$7:$A$19,$A47)+SUMIFS(J$27:J$39,$A$27:$A$39,$A47)","v":0},295.73,{"$f":"IF(I47=0,0,(B47-I47)/I47)","v":3.4134033234574264},{"$f":"IF(K47=0,0,(H47-K47)/K47)","v":-0.1305580257434}]
["Bergen",{"$f":"SUMIFS($B$7:$B$19,$A$7:$A$19,A48)+SUMIFS($B$27:$B$39,$A$27:$A$39,A48)","v":588749.57999999996},0,2202.4,0,{"$f":"IF(D48=0,0,B48/D48)","v":267.32182164911001},0,{"$f":"IF(D48+E48=0,0,(B48+C48)/(D48+E48))","v":267.32182164911001},{"$f":"SUMIFS(I$7:I$19,$A$7:$A$19,$A48)+SUMIFS(I$27:I$39,$A$27:$A$39,$A48)","v":943831.62},0,245.6,{"$f":"IF(I48=0,0,(B48-I48)/I48)","v":-0.37621333347573166},{"$f":"IF(K48=0,0,(H48-K48)/K48)","v":8.8443899222760636E-2}]
["Drammen - Bærum",0,0,0,0,0,0,0,0,0,null,0,0]
["Haugesund",0,0,0,0,0,0,0,0,0,null,0,0]
["Hamar og Omegn",1955161,187940,4756,900.6,411.0935660218671,208.68310015545191,378.86734080543079,1552689.8199999998,16167,384.02,0.25920900286446152,-1.3417684481457207E-2]
["Sandnes",0,0,0,0,{"$f":"IF(D52=0,0,B52/D52)","v":0},0,{"$f":"IF(D52+E52=0,0,(B52+C52)/(D52+E52))","v":0},0,0,null,0,0]
["Stavanger",8655021.3100000005,0,28979,0,298.66528555160636,0,298.66528555160636,8422010.0899999999,1161873,301.36,2.7666936694444245E-2,-8.9418451300559264E-3]
["Telemark",1611635,0,4106,0,392.50730638090602,0,392.50730638090602,1611553,0,359.72,5.0882595856295137E-5,9.11467429692705E-2]
["Trondheim",6527516.8300000001,718056.81,21734.65,5757.5,300.32767171314003,124.71677116804169,263.5506368181463,6697834.0099999998,783074.78,321.10000000000002,-2.5428695268606652E-2,-0.17922567169683498]
["Vestfold",0,0,0,0,{"$f":"IF(D56=0,0,B56/D56)","v":0},0,0,0,0,null,0,0]
["Østfold",0,0,0,{"$f":"SUMIFS(E$7:E$19,$A$7:$A$19,$A57)+SUMIFS(E$27:E$39,$A$27:$A$39,$A57)","v":0},{"$f":"IF(D57=0,0,B57/D57)","v":0},0,0,0,0,null,0,0]
["Oslo",6191006.8100000005,525266.75,16334.599999999999,2802.9,379.01184051032783,187.40117378429483,350.94832449379493,6900626.5299999993,700073.3,337.57,-0.10283410019582655,3.9631260164691574E-2]
["Landet i alt",{"$f":"SUM(B47:B58)","v":25666135.530000001},{"$f":"SUM(C47:C58)","v":1431263.56},{"$f":"SUM(D47:D58)","v":78645.649999999994},{"$f":"SUM(E47:E58)","v":9461},{"$f":"IF(D59=0,0,B59/D59)","v":326.35162313490957},{"$f":"IF(E59=0,0,C59/E59)","v":151.28036782581123},{"$f":"IF(D59+E59=0,0,(B59+C59)/(D59+E59))","v":307.55225729272422},{"$f":"SUM(I47:I58)","v":26159597.07},{"$f":"SUM(J47:J58)","v":2661188.08},319.77,{"$f":"IF(I59=0,0,(B59-I59)/I59)","v":-1.8863499261076312E-2},{"$f":"IF(K59=0,0,(H59-K59)/K59)","v":-3.8207907894035595E-2}]

{"sheet":"MURERE","index":7,"n_rows":59,"n_cols":13,"rows_kept":59,"cut":false,"hidden":false,"merged":[[1,0,1,12],[21,0,21,12],[41,0,41,12]]}
[]
[{"$f":"\"MÅLESTATISTIKK FOR MURERE - 1. HALVÅR \"&FORS!$A$14","v":"MÅLESTATISTIKK FOR MURERE - 1. HALVÅR 2020"}]
[]
[null,"Målesum i kroner",null,"Timer",null,{"$f":"\"Fortjeneste 1. halvår  \"&FORS!$A$14-0","v":"Fortjeneste 1. halvår  2020"},null,null,{"$f":"\" 1. halvår  \"&FORS!$A$14-1","v":" 1. halvår  2019"},null,null,"Endringer i %"]
[null,"Innmålt m/","Innmålt m/","Innmålt m/","Innmålt m/","Innmålt m/","Innmålt m/","Gjennom-","Innmålt m/","Innmålt m/","Gjen.snitt","Innmålt m/","Gjen.snitt"]
[null,"overskudd","underskudd","overskudd","underskudd","overskudd","underskudd","snitt","overskudd","underskudd","fortjeneste","overskudd","fortjeneste"]
["Agder",null,null,null,null,{"$f":"IF(D7=0,0,B7/D7)","v":0},{"$f":"IF(E7=0,0,C7/E7)","v":0},{"$f":"IF(D7+E7=0,0,(B7+C7)/(D7+E7))","v":0},null,null,0,{"$f":"IF(I7=0,0,(B7-I7)/I7)","v":0},{"$f":"IF(K7=0,0,(H7-K7)/K7)","v":0}]
["Bergen",null,null,null,null,{"$f":"IF(D8=0,0,B8/D8)","v":0},0,{"$f":"IF(D8+E8=0,0,(B8+C8)/(D8+E8))","v":0},null,null,null,{"$f":"IF(I8=0,0,(B8-I8)/I8)","v":0},{"$f":"IF(K8=0,0,(H8-K8)/K8)","v":0}]
["Drammen - Bærum",null,null,null,null,0,0,0,null,null,0,0,0]
["Haugesund",null,null,null,null,0,0,0,null,null,null,0,0]
["Hamar og Omegn",null,null,null,null,0,0,0,null,null,0,0,0]
["Sandnes",null,null,null,null,0,0,0,null,null,0,0,0]
["Stavanger",759319.41,null,2349.5,null,323.18340497978295,0,323.18340497978295,1548129,null,329.42,-0.50952445823313175,-1.8932047295905124E-2]
["Telemark",null,null,null,null,0,0,0,null,null,null,0,0]
["Trondheim",1553467.15,null,5416.83,null,286.78528770517073,0,286.78528770517073,2992235.33,125699.13,329.42,-0.48083389884979405,-0.12942356959149195]
["Vestfold",null,null,null,null,0,0,0,null,null,null,0,0]
["Østfold",1433240,0,4391,null,326.40400819858803,0,326.40400819858803,1541298,null,325.48,-7.0108441067204388E-2,2.838909298844821E-3]
["Oslo",12114296,337216,36601,1457,330.98265074724736,231.44543582704188,327.17200063061642,10317640,null,309.04000000000002,0.17413439507484268,5.8672018608000268E-2]
["Landet i alt",{"$f":"SUM(B7:B18)","v":15860322.560000001},{"$f":"SUM(C7:C18)","v":337216},{"$f":"SUM(D7:D18)","v":48758.33},{"$f":"SUM(E7:E18)","v":1457},{"$f":"IF(D19=0,0,B19/D19)","v":325.28436802490978},{"$f":"IF(E19=0,0,C19/E19)","v":231.44543582704188},{"$f":"IF(D19+E19=0,0,(B19+C19)/(D19+E19))","v":322.56162729588755},{"$f":"SUM(I7:I18)","v":16399302.33},{"$f":"SUM(J7:J18)","v":125699.13},311.45999999999998,{"$f":"IF(I19=0,0,(B19-I19)/I19)","v":-3.286601827042477E-2},{"$f":"IF(K19=0,0,(H19-K19)/K19)","v":3.5643830013123892E-2}]
[]
[]
[{"$f":"\"MÅLESTATISTIKK FOR MURERE - 2. HALVÅR \"&FORS!$A$14","v":"MÅLESTATISTIKK FOR MURERE - 2. HALVÅR 2020"}]
[]
[null,"Målesum i kroner",null,"Timer",null,{"$f":"\"Fortjeneste 2. halvår  \"&FORS!$A$14-0","v":"Fortjeneste 2. halvår  2020"},null,null,{"$f":"\" 2. halvår  \"&FORS!$A$14-1","v":" 2. halvår  2019"},null,null,"Endringer i %"]
[null,"Innmålt m/","Innmålt m/","Innmålt m/","Innmålt m/","Innmålt m/","Innmålt m/","Gjennom-","Innmålt m/","Innmålt m/","Gjen.snitt","Innmålt m/","Gjen.snitt"]
[null,"overskudd","underskudd","overskudd","underskudd","overskudd","underskudd","snitt","overskudd","underskudd","fortjeneste","overskudd","fortjeneste"]
["Agder",null,null,null,null,{"$f":"IF(D27=0,0,B27/D27)","v":0},0,{"$f":"IF(D27+E27=0,0,(B27+C27)/(D27+E27))","v":0},null,null,0,{"$f":"IF(I27=0,0,(B27-I27)/I27)","v":0},{"$f":"IF(K27=0,0,(H27-K27)/K27)","v":0}]
["Bergen",165664.82,null,452,null,366.51508849557524,0,{"$f":"IF(D28+E28=0,0,(B28+C28)/(D28+E28))","v":366.51508849557524},null,null,null,{"$f":"IF(I28=0,0,(B28-I28)/I28)","v":0},{"$f":"IF(K28=0,0,(H28-K28)/K28)","v":0}]
["Drammen - Bærum",null,null,null,null,0,0,0,null,null,0,0,0]
["Haugesund",null,null,null,null,0,0,0,null,null,null,0,0]
["Hamar og Omegn",null,null,null,null,0,0,0,null,null,0,0,0]
["Sandnes",null,null,null,null,0,0,0,null,null,null,0,0]
["Stavanger",109708.36,null,337.5,null,325.0618074074074,0,325.0618074074074,222026,null,272.76,-0.50587606856854606,0.19175028379310533]
["Telemark",null,null,null,null,0,0,0,null,null,null,0,0]
["Trondheim",2635021.58,null,8816.23,null,298.88303503878643,0,298.88303503878643,3803430.08,847742.77,272.39,-0.30719862740318865,9.7261408417293027E-2]
["Vestfold",null,null,null,null,0,0,0,null,null,null,0,0]
["Østfold",2201290,0,6025,null,365.35933609958505,0,365.35933609958505,2236147,null,367.03,-1.558797342035206E-2,-4.5518456268286581E-3]
["Oslo",8741782,173256,26150,772,334.29376673040156,224.42487046632124,331.14322858628628,11994209,234550,331.74,-0.27116644373964138,-1.7989130454986585E-3]
["Landet i alt",{"$f":"SUM(B27:B38)","v":13853466.76},{"$f":"SUM(C27:C38)","v":173256},{"$f":"SUM(D27:D38)","v":41780.729999999996},{"$f":"SUM(E27:E38)","v":772},{"$f":"IF(D39=0,0,B39/D39)","v":331.57550765628082},{"$f":"IF(E39=0,0,C39/E39)","v":224.42487046632124},{"$f":"IF(D39+E39=0,0,(B39+C39)/(D39+E39))","v":329.63155971426511},{"$f":"SUM(I27:I38)","v":18255812.079999998},{"$f":"SUM(J27:J38)","v":1082292.77},317.83,-0.24114760278579725,3.71316732664164E-2]
[]
[]
[{"$f":"\"MÅLESTATISTIKK FOR MURERE - GJENNOMSNITT HELE ÅRET  \"&FORS!$A$14","v":"MÅLESTATISTIKK FOR MURERE - GJENNOMSNITT HELE ÅRET  2020"}]
[]
[null,"Målesum i kroner",null,"Timer",null,{"$f":"\"Fortjeneste hele  \"&FORS!$A$14-0","v":"Fortjeneste hele  2020"},null,null,{"$f":"\" Hele året  \"&FORS!$A$14-1","v":" Hele året  2019"},null,null,"Endringer i %"]
[null,"Innmålt m/","Innmålt m/","Innmålt m/","Innmålt m/","Innmålt m/","Innmålt m/","Gjennom-","Innmålt m/","Innmålt m/","Gjen.snitt","Innmålt m/","Gjen.snitt"]
[null,"overskudd","underskudd","overskudd","underskudd","overskudd","underskudd","snitt","overskudd","underskudd","fortjeneste","overskudd","fortjeneste"]
["Agder",{"$f":"SUMIFS(B$7:B$19,$A$7:$A$19,$A47)+SUMIFS(B$27:B$39,$A$27:$A$39,$A47)","v":0},{"$f":"SUMIFS(C$7:C$19,$A$7:$A$19,$A47)+SUMIFS(C$27:C$39,$A$27:$A$39,$A47)","v":0},0,0,{"$f":"IF(D47=0,0,B47/D47)","v":0},{"$f":"IF(E47=0,0,C27/E47)","v":0},{"$f":"IF(D47+E47=0,0,(B47+C47)/(D47+E47))","v":0},{"$f":"SUMIFS(I$7:I$19,$A$7:$A$19,$A47)+SUMIFS(I$27:I$39,$A$27:$A$39,$A47)","v":0},{"$f":"SUMIFS(J$7:J$19,$A$7:$A$19,$A47)+SUMIFS(J$27:J$39,$A$27:$A$39,$A47)","v":0},0,{"$f":"IF(I47=0,0,(B47-I47)/I47)","v":0},{"$f":"IF(K47=0,0,(H47-K47)/K47)","v":0}]
["Bergen",{"$f":"SUMIFS($B$7:$B$19,$A$7:$A$19,A48)+SUMIFS($B$27:$B$39,$A$27:$A$39,A48)","v":165664.82},0,452,0,{"$f":"IF(D48=0,0,B48/D48)","v":366.51508849557524},0,{"$f":"IF(D48+E48=0,0,(B48+C48)/(D48+E48))","v":366.51508849557524},{"$f":"SUMIFS(I$7:I$19,$A$7:$A$19,$A48)+SUMIFS(I$27:I$39,$A$27:$A$39,$A48)","v":0},0,null,{"$f":"IF(I48=0,0,(B48-I48)/I48)","v":0},{"$f":"IF(K48=0,0,(H48-K48)/K48)","v":0}]
["Drammen - Bærum",0,0,0,0,0,0,0,0,0,0,0,0]
["Haugesund",0,0,0,0,0,0,0,0,0,null,0,0]
["Hamar og Omegn",0,0,0,0,0,0,0,0,0,0,0,0]
["Sandnes",0,0,0,0,{"$f":"IF(D52=0,0,B52/D52)","v":0},0,{"$f":"IF(D52+E52=0,0,(B52+C52)/(D52+E52))","v":0},0,0,0,0,0]
["Stavanger",869027.77,0,2687,0,323.41934127279495,0,323.41934127279495,1770155,0,321.06,-0.50906685007810049,7.3485992424934584E-3]
["Telemark",0,0,0,0,0,0,0,0,0,null,0,0]
["Trondheim",4188488.73,0,14233.06,0,294.27886413743778,0,294.27886413743778,6795665.4100000001,973441.9,281.99,-0.38365289088004118,4.3579077759628958E-2]
["Vestfold",0,0,0,0,{"$f":"IF(D56=0,0,B56/D56)","v":0},0,0,0,0,null,0,0]
["Østfold",3634530,0,10416,{"$f":"SUMIFS(E$7:E$19,$A$7:$A$19,$A57)+SUMIFS(E$27:E$39,$A$27:$A$39,$A57)","v":0},{"$f":"IF(D57=0,0,B57/D57)","v":348.9372119815668},0,348.9372119815668,3777445,0,348.86,-3.7833773886846798E-2,2.2132655382328342E-4]
["Oslo",20856078,510472,62751,2229,332.36248027919873,229.01390758187529,328.81732840874116,22311849,234550,320.95,-6.5246542319285145E-2,2.4512629408758913E-2]
["Landet i alt",{"$f":"SUM(B47:B58)","v":29713789.32},{"$f":"SUM(C47:C58)","v":510472},{"$f":"SUM(D47:D58)","v":90539.06},{"$f":"SUM(E47:E58)","v":2229},{"$f":"IF(D59=0,0,B59/D59)","v":328.18751729916352},{"$f":"IF(E59=0,0,C59/E59)","v":229.01390758187529},{"$f":"IF(D59+E59=0,0,(B59+C59)/(D59+E59))","v":325.8046068873274},{"$f":"SUM(I47:I58)","v":34655114.409999996},{"$f":"SUM(J47:J58)","v":1207991.8999999999},314.2,{"$f":"IF(I59=0,0,(B59-I59)/I59)","v":-0.14258573876109149},{"$f":"IF(K59=0,0,(H59-K59)/K59)","v":3.6933822047509252E-2}]

{"sheet":"BLIKK OG VENTILASJON","index":8,"n_rows":59,"n_cols":13,"rows_kept":59,"cut":false,"hidden":false,"merged":[[1,0,1,12],[21,0,21,12],[41,0,41,12]]}
[]
[{"$f":"\"MÅLESTATISTIKK FOR BLIKK- OG VENTILASJONSARBEID - 1. HALVÅR \"&FORS!$A$14","v":"MÅLESTATISTIKK FOR BLIKK- OG VENTILASJONSARBEID - 1. HALVÅR 2020"}]
[]
[null,"Målesum i kroner",null,"Timer",null,{"$f":"\"Fortjeneste 1. halvår  \"&FORS!$A$14-0","v":"Fortjeneste 1. halvår  2020"},null,null,{"$f":"\" 1. halvår  \"&FORS!$A$14-1","v":" 1. halvår  2019"},null,null,"Endringer i %"]
[null,"Innmålt m/","Innmålt m/","Innmålt m/","Innmålt m/","Innmålt m/","Innmålt m/","Gjennom-","Innmålt m/","Innmålt m/","Gjen.snitt","Innmålt m/","Gjen.snitt"]
[null,"overskudd","underskudd","overskudd","underskudd","overskudd","underskudd","snitt","overskudd","underskudd","fortjeneste","overskudd","fortjeneste"]
["Agder",null,null,null,null,{"$f":"IF(D7=0,0,B7/D7)","v":0},{"$f":"IF(E7=0,0,C7/E7)","v":0},{"$f":"IF(D7+E7=0,0,(B7+C7)/(D7+E7))","v":0},null,null,null,{"$f":"IF(I7=0,0,(B7-I7)/I7)","v":0},{"$f":"IF(K7=0,0,(H7-K7)/K7)","v":0}]
["Bergen",null,null,null,null,{"$f":"IF(D8=0,0,B8/D8)","v":0},0,{"$f":"IF(D8+E8=0,0,(B8+C8)/(D8+E8))","v":0},null,null,null,{"$f":"IF(I8=0,0,(B8-I8)/I8)","v":0},{"$f":"IF(K8=0,0,(H8-K8)/K8)","v":0}]
["Drammen - Bærum",null,null,null,null,0,0,0,null,null,null,0,0]
["Haugesund",null,null,null,null,0,0,0,null,null,null,0,0]
["Hamar og Omegn",null,null,null,null,0,0,0,null,null,null,0,0]
["Sandnes",null,null,null,null,0,0,0,null,null,null,0,0]
["Stavanger",null,null,null,null,0,0,0,null,null,null,0,0]
["Telemark",null,null,null,null,0,0,0,null,null,null,0,0]
["Trondheim",null,0,null,null,0,0,0,null,null,null,0,0]
["Vestfold",null,null,null,null,0,0,0,null,null,null,0,0]
["Østfold",null,null,null,null,0,0,0,null,null,null,0,0]
["Oslo",null,null,null,null,0,0,0,null,null,null,0,0]
["Landet i alt",{"$f":"SUM(B7:B18)","v":0},{"$f":"SUM(C7:C18)","v":0},{"$f":"SUM(D7:D18)","v":0},{"$f":"SUM(E7:E18)","v":0},{"$f":"IF(D19=0,0,B19/D19)","v":0},{"$f":"IF(E19=0,0,C19/E19)","v":0},{"$f":"IF(D19+E19=0,0,(B19+C19)/(D19+E19))","v":0},{"$f":"SUM(I7:I18)","v":0},{"$f":"SUM(J7:J18)","v":0},null,{"$f":"IF(I19=0,0,(B19-I19)/I19)","v":0},{"$f":"IF(K19=0,0,(H19-K19)/K19)","v":0}]
[]
[]
[{"$f":"\"MÅLESTATISTIKK FOR BLIKK- OG VENTILASJONSARBEID - 2. HALVÅR \"&FORS!$A$14","v":"MÅLESTATISTIKK FOR BLIKK- OG VENTILASJONSARBEID - 2. HALVÅR 2020"}]
[]
[null,"Målesum i kroner",null,"Timer",null,{"$f":"\"Fortjeneste 2. halvår  \"&FORS!$A$14-0","v":"Fortjeneste 2. halvår  2020"},null,null,{"$f":"\" 2. halvår  \"&FORS!$A$14-1","v":" 2. halvår  2019"},null,null,"Endringer i %"]
[null,"Innmålt m/","Innmålt m/","Innmålt m/","Innmålt m/","Innmålt m/","Innmålt m/","Gjennom-","Innmålt m/","Innmålt m/","Gjen.snitt","Innmålt m/","Gjen.snitt"]
[null,"overskudd","underskudd","overskudd","underskudd","overskudd","underskudd","snitt","overskudd","underskudd","fortjeneste","overskudd","fortjeneste"]
["Agder",null,null,null,null,{"$f":"IF(D27=0,0,B27/D27)","v":0},0,{"$f":"IF(D27+E27=0,0,(B27+C27)/(D27+E27))","v":0},null,null,null,{"$f":"IF(I27=0,0,(B27-I27)/I27)","v":0},{"$f":"IF(K27=0,0,(H27-K27)/K27)","v":0}]
["Bergen",null,null,null,null,0,0,{"$f":"IF(D28+E28=0,0,(B28+C28)/(D28+E28))","v":0},null,null,null,{"$f":"IF(I28=0,0,(B28-I28)/I28)","v":0},{"$f":"IF(K28=0,0,(H28-K28)/K28)","v":0}]
["Drammen - Bærum",null,null,null,null,0,0,0,null,null,null,0,0]
["Haugesund",null,null,null,null,0,0,0,null,null,null,0,0]
["Hamar og Omegn",null,null,null,null,0,0,0,null,null,null,0,0]
["Sandnes",null,null,null,null,0,0,0,null,null,null,0,0]
["Stavanger",null,null,null,null,0,0,0,null,null,null,0,0]
["Telemark",null,null,null,null,0,0,0,null,null,null,0,0]
["Trondheim",247052.49,0,904.9,null,273.0163443474417,0,273.0163443474417,null,null,null,0,0]
["Vestfold",null,null,null,null,0,0,0,null,null,null,0,0]
["Østfold",null,0,null,null,0,0,0,null,null,null,0,0]
["Oslo",null,null,null,null,0,0,0,null,null,null,0,0]
["Landet i alt",{"$f":"SUM(B27:B38)","v":247052.49},{"$f":"SUM(C27:C38)","v":0},{"$f":"SUM(D27:D38)","v":904.9},{"$f":"SUM(E27:E38)","v":0},{"$f":"IF(D39=0,0,B39/D39)","v":273.0163443474417},{"$f":"IF(E39=0,0,C39/E39)","v":0},{"$f":"IF(D39+E39=0,0,(B39+C39)/(D39+E39))","v":273.0163443474417},{"$f":"SUM(I27:I38)","v":0},{"$f":"SUM(J27:J38)","v":0},null,0,0]
[]
[]
[{"$f":"\"MÅLESTATISTIKK FOR BLIKK- OG VENTILASJONSARBEID - GJENNOMSNITT HELE ÅRET  \"&FORS!$A$14","v":"MÅLESTATISTIKK FOR BLIKK- OG VENTILASJONSARBEID - GJENNOMSNITT HELE ÅRET  2020"}]
[]
[null,"Målesum i kroner",null,"Timer",null,{"$f":"\"Fortjeneste hele  \"&FORS!$A$14-0","v":"Fortjeneste hele  2020"},null,null,{"$f":"\" Hele året  \"&FORS!$A$14-1","v":" Hele året  2019"},null,null,"Endringer i %"]
[null,"Innmålt m/","Innmålt m/","Innmålt m/","Innmålt m/","Innmålt m/","Innmålt m/","Gjennom-","Innmålt m/","Innmålt m/","Gjen.snitt","Innmålt m/","Gjen.snitt"]
[null,"overskudd","underskudd","overskudd","underskudd","overskudd","underskudd","snitt","overskudd","underskudd","fortjeneste","overskudd","fortjeneste"]
["Agder",{"$f":"SUMIFS(B$7:B$19,$A$7:$A$19,$A47)+SUMIFS(B$27:B$39,$A$27:$A$39,$A47)","v":0},{"$f":"SUMIFS(C$7:C$19,$A$7:$A$19,$A47)+SUMIFS(C$27:C$39,$A$27:$A$39,$A47)","v":0},0,0,{"$f":"IF(D47=0,0,B47/D47)","v":0},{"$f":"IF(E47=0,0,C27/E47)","v":0},{"$f":"IF(D47+E47=0,0,(B47+C47)/(D47+E47))","v":0},{"$f":"SUMIFS(I$7:I$19,$A$7:$A$19,$A47)+SUMIFS(I$27:I$39,$A$27:$A$39,$A47)","v":0},{"$f":"SUMIFS(J$7:J$19,$A$7:$A$19,$A47)+SUMIFS(J$27:J$39,$A$27:$A$39,$A47)","v":0},null,{"$f":"IF(I47=0,0,(B47-I47)/I47)","v":0},{"$f":"IF(K47=0,0,(H47-K47)/K47)","v":0}]
["Bergen",{"$f":"SUMIFS($B$7:$B$19,$A$7:$A$19,A48)+SUMIFS($B$27:$B$39,$A$27:$A$39,A48)","v":0},0,0,0,{"$f":"IF(D48=0,0,B48/D48)","v":0},0,{"$f":"IF(D48+E48=0,0,(B48+C48)/(D48+E48))","v":0},{"$f":"SUMIFS(I$7:I$19,$A$7:$A$19,$A48)+SUMIFS(I$27:I$39,$A$27:$A$39,$A48)","v":0},0,null,{"$f":"IF(I48=0,0,(B48-I48)/I48)","v":0},{"$f":"IF(K48=0,0,(H48-K48)/K48)","v":0}]
["Drammen - Bærum",0,0,0,0,0,0,0,0,0,null,0,0]
["Haugesund",0,0,0,0,0,0,0,0,0,null,0,0]
["Hamar og Omegn",0,0,0,0,0,0,0,0,0,null,0,0]
["Sandnes",0,0,0,0,{"$f":"IF(D52=0,0,B52/D52)","v":0},0,{"$f":"IF(D52+E52=0,0,(B52+C52)/(D52+E52))","v":0},0,0,null,0,0]
["Stavanger",0,0,0,0,0,0,0,0,0,null,0,0]
["Telemark",0,0,0,0,0,0,0,0,0,null,0,0]
["Trondheim",247052.49,0,904.9,0,273.0163443474417,0,273.0163443474417,0,0,null,0,0]
["Vestfold",0,0,0,0,{"$f":"IF(D56=0,0,B56/D56)","v":0},0,0,0,0,null,0,0]
["Østfold",0,0,0,{"$f":"SUMIFS(E$7:E$19,$A$7:$A$19,$A57)+SUMIFS(E$27:E$39,$A$27:$A$39,$A57)","v":0},{"$f":"IF(D57=0,0,B57/D57)","v":0},0,0,0,0,null,0,0]
["Oslo",0,0,0,0,0,0,0,0,0,null,0,0]
["Landet i alt",{"$f":"SUM(B47:B58)","v":247052.49},{"$f":"SUM(C47:C58)","v":0},{"$f":"SUM(D47:D58)","v":904.9},{"$f":"SUM(E47:E58)","v":0},{"$f":"IF(D59=0,0,B59/D59)","v":273.0163443474417},{"$f":"IF(E59=0,0,C59/E59)","v":0},{"$f":"IF(D59+E59=0,0,(B59+C59)/(D59+E59))","v":273.0163443474417},{"$f":"SUM(I47:I58)","v":0},{"$f":"SUM(J47:J58)","v":0},null,{"$f":"IF(I59=0,0,(B59-I59)/I59)","v":0},{"$f":"IF(K59=0,0,(H59-K59)/K59)","v":0}]

{"sheet":"ISOLATØR","index":9,"n_rows":59,"n_cols":13,"rows_kept":59,"cut":false,"hidden":false,"merged":[[1,0,1,12],[21,0,21,12],[41,0,41,12]]}
[]
[{"$f":"\"MÅLESTATISTIKK FOR ISOLATØRER - 1. HALVÅR \"&FORS!$A$14","v":"MÅLESTATISTIKK FOR ISOLATØRER - 1. HALVÅR 2020"}]
[]
[null,"Målesum i kroner",null,"Timer",null,{"$f":"\"Fortjeneste 1. halvår  \"&FORS!$A$14-0","v":"Fortjeneste 1. halvår  2020"},null,null,{"$f":"\" 1. halvår  \"&FORS!$A$14-1","v":" 1. halvår  2019"},null,null,"Endringer i %"]
[null,"Innmålt m/","Innmålt m/","Innmålt m/","Innmålt m/","Innmålt m/","Innmålt m/","Gjennom-","Innmålt m/","Innmålt m/","Gjen.snitt","Innmålt m/","Gjen.snitt"]
[null,"overskudd","underskudd","overskudd","underskudd","overskudd","underskudd","snitt","overskudd","underskudd","fortjeneste","overskudd","fortjeneste"]
["Agder",null,null,null,null,{"$f":"IF(D7=0,0,B7/D7)","v":0},{"$f":"IF(E7=0,0,C7/E7)","v":0},{"$f":"IF(D7+E7=0,0,(B7+C7)/(D7+E7))","v":0},null,null,null,{"$f":"IF(I7=0,0,(B7-I7)/I7)","v":0},{"$f":"IF(K7=0,0,(H7-K7)/K7)","v":0}]
["Bergen",null,null,null,null,{"$f":"IF(D8=0,0,B8/D8)","v":0},0,{"$f":"IF(D8+E8=0,0,(B8+C8)/(D8+E8))","v":0},null,null,null,{"$f":"IF(I8=0,0,(B8-I8)/I8)","v":0},{"$f":"IF(K8=0,0,(H8-K8)/K8)","v":0}]
["Drammen - Bærum",null,null,null,null,0,0,0,null,null,null,0,0]
["Haugesund",null,null,null,null,0,0,0,null,null,null,0,0]
["Hamar og Omegn",null,null,null,null,0,0,0,null,null,null,0,0]
["Sandnes",null,null,null,null,0,0,0,null,null,null,0,0]
["Stavanger",null,null,null,null,0,0,0,null,null,null,0,0]
["Telemark",null,null,null,null,0,0,0,null,null,null,0,0]
["Trondheim",null,null,null,null,0,0,0,null,null,null,0,0]
["Vestfold",null,null,null,null,0,0,0,null,null,null,0,0]
["Østfold",null,null,null,null,0,0,0,null,null,null,0,0]
["Oslo",null,null,null,null,0,0,0,null,null,null,0,0]
["Landet i alt",{"$f":"SUM(B7:B18)","v":0},{"$f":"SUM(C7:C18)","v":0},{"$f":"SUM(D7:D18)","v":0},{"$f":"SUM(E7:E18)","v":0},{"$f":"IF(D19=0,0,B19/D19)","v":0},{"$f":"IF(E19=0,0,C19/E19)","v":0},{"$f":"IF(D19+E19=0,0,(B19+C19)/(D19+E19))","v":0},{"$f":"SUM(I7:I18)","v":0},{"$f":"SUM(J7:J18)","v":0},null,{"$f":"IF(I19=0,0,(B19-I19)/I19)","v":0},{"$f":"IF(K19=0,0,(H19-K19)/K19)","v":0}]
[]
[]
[{"$f":"\"MÅLESTATISTIKK FOR ISOLATØRER - 2. HALVÅR \"&FORS!$A$14","v":"MÅLESTATISTIKK FOR ISOLATØRER - 2. HALVÅR 2020"}]
[]
[null,"Målesum i kroner",null,"Timer",null,{"$f":"\"Fortjeneste 2. halvår  \"&FORS!$A$14-0","v":"Fortjeneste 2. halvår  2020"},null,null,{"$f":"\" 2. halvår  \"&FORS!$A$14-1","v":" 2. halvår  2019"},null,null,"Endringer i %"]
[null,"Innmålt m/","Innmålt m/","Innmålt m/","Innmålt m/","Innmålt m/","Innmålt m/","Gjennom-","Innmålt m/","Innmålt m/","Gjen.snitt","Innmålt m/","Gjen.snitt"]
[null,"overskudd","underskudd","overskudd","underskudd","overskudd","underskudd","snitt","overskudd","underskudd","fortjeneste","overskudd","fortjeneste"]
["Agder",null,null,null,null,{"$f":"IF(D27=0,0,B27/D27)","v":0},0,{"$f":"IF(D27+E27=0,0,(B27+C27)/(D27+E27))","v":0},null,null,null,{"$f":"IF(I27=0,0,(B27-I27)/I27)","v":0},{"$f":"IF(K27=0,0,(H27-K27)/K27)","v":0}]
["Bergen",null,null,null,null,0,0,{"$f":"IF(D28+E28=0,0,(B28+C28)/(D28+E28))","v":0},null,null,null,{"$f":"IF(I28=0,0,(B28-I28)/I28)","v":0},{"$f":"IF(K28=0,0,(H28-K28)/K28)","v":0}]
["Drammen - Bærum",null,null,null,null,0,0,0,null,null,null,0,0]
["Haugesund",null,null,null,null,0,0,0,null,null,null,0,0]
["Hamar og Omegn",null,null,null,null,0,0,0,null,null,null,0,0]
["Sandnes",null,null,null,null,0,0,0,null,null,null,0,0]
["Stavanger",null,null,null,null,0,0,0,null,null,null,0,0]
["Telemark",null,null,null,null,0,0,0,null,null,null,0,0]
["Trondheim",null,null,null,null,0,0,0,null,null,null,0,0]
["Vestfold",null,null,null,null,0,0,0,null,null,null,0,0]
["Østfold",null,0,null,null,0,0,0,null,null,null,0,0]
["Oslo",null,null,null,null,0,0,0,null,null,null,0,0]
["Landet i alt",{"$f":"SUM(B27:B38)","v":0},{"$f":"SUM(C27:C38)","v":0},{"$f":"SUM(D27:D38)","v":0},{"$f":"SUM(E27:E38)","v":0},{"$f":"IF(D39=0,0,B39/D39)","v":0},{"$f":"IF(E39=0,0,C39/E39)","v":0},{"$f":"IF(D39+E39=0,0,(B39+C39)/(D39+E39))","v":0},{"$f":"SUM(I27:I38)","v":0},{"$f":"SUM(J27:J38)","v":0},null,0,0]
[]
[]
[{"$f":"\"MÅLESTATISTIKK FOR ISOLATØRER - GJENNOMSNITT HELE ÅRET  \"&FORS!$A$14","v":"MÅLESTATISTIKK FOR ISOLATØRER - GJENNOMSNITT HELE ÅRET  2020"}]
[]
[null,"Målesum i kroner",null,"Timer",null,{"$f":"\"Fortjeneste hele  \"&FORS!$A$14-0","v":"Fortjeneste hele  2020"},null,null,{"$f":"\" Hele året  \"&FORS!$A$14-1","v":" Hele året  2019"},null,null,"Endringer i %"]
[null,"Innmålt m/","Innmålt m/","Innmålt m/","Innmålt m/","Innmålt m/","Innmålt m/","Gjennom-","Innmålt m/","Innmålt m/","Gjen.snitt","Innmålt m/","Gjen.snitt"]
[null,"overskudd","underskudd","overskudd","underskudd","overskudd","underskudd","snitt","overskudd","underskudd","fortjeneste","overskudd","fortjeneste"]
["Agder",{"$f":"SUMIFS(B$7:B$19,$A$7:$A$19,$A47)+SUMIFS(B$27:B$39,$A$27:$A$39,$A47)","v":0},{"$f":"SUMIFS(C$7:C$19,$A$7:$A$19,$A47)+SUMIFS(C$27:C$39,$A$27:$A$39,$A47)","v":0},0,0,{"$f":"IF(D47=0,0,B47/D47)","v":0},{"$f":"IF(E47=0,0,C27/E47)","v":0},{"$f":"IF(D47+E47=0,0,(B47+C47)/(D47+E47))","v":0},{"$f":"SUMIFS(I$7:I$19,$A$7:$A$19,$A47)+SUMIFS(I$27:I$39,$A$27:$A$39,$A47)","v":0},{"$f":"SUMIFS(J$7:J$19,$A$7:$A$19,$A47)+SUMIFS(J$27:J$39,$A$27:$A$39,$A47)","v":0},null,{"$f":"IF(I47=0,0,(B47-I47)/I47)","v":0},{"$f":"IF(K47=0,0,(H47-K47)/K47)","v":0}]
["Bergen",{"$f":"SUMIFS($B$7:$B$19,$A$7:$A$19,A48)+SUMIFS($B$27:$B$39,$A$27:$A$39,A48)","v":0},0,0,0,{"$f":"IF(D48=0,0,B48/D48)","v":0},0,{"$f":"IF(D48+E48=0,0,(B48+C48)/(D48+E48))","v":0},{"$f":"SUMIFS(I$7:I$19,$A$7:$A$19,$A48)+SUMIFS(I$27:I$39,$A$27:$A$39,$A48)","v":0},0,null,{"$f":"IF(I48=0,0,(B48-I48)/I48)","v":0},{"$f":"IF(K48=0,0,(H48-K48)/K48)","v":0}]
["Drammen - Bærum",0,0,0,0,0,0,0,0,0,null,0,0]
["Haugesund",0,0,0,0,0,0,0,0,0,null,0,0]
["Hamar og Omegn",0,0,0,0,0,0,0,0,0,null,0,0]
["Sandnes",0,0,0,0,{"$f":"IF(D52=0,0,B52/D52)","v":0},0,{"$f":"IF(D52+E52=0,0,(B52+C52)/(D52+E52))","v":0},0,0,null,0,0]
["Stavanger",0,0,0,0,0,0,0,0,0,null,0,0]
["Telemark",0,0,0,0,0,0,0,0,0,null,0,0]
["Trondheim",0,0,0,0,0,0,0,0,0,null,0,0]
["Vestfold",0,0,0,0,{"$f":"IF(D56=0,0,B56/D56)","v":0},0,0,0,0,null,0,0]
["Østfold",0,0,0,{"$f":"SUMIFS(E$7:E$19,$A$7:$A$19,$A57)+SUMIFS(E$27:E$39,$A$27:$A$39,$A57)","v":0},{"$f":"IF(D57=0,0,B57/D57)","v":0},0,0,0,0,null,0,0]
["Oslo",0,0,0,0,0,0,0,0,0,null,0,0]
["Landet i alt",{"$f":"SUM(B47:B58)","v":0},{"$f":"SUM(C47:C58)","v":0},{"$f":"SUM(D47:D58)","v":0},{"$f":"SUM(E47:E58)","v":0},{"$f":"IF(D59=0,0,B59/D59)","v":0},{"$f":"IF(E59=0,0,C59/E59)","v":0},{"$f":"IF(D59+E59=0,0,(B59+C59)/(D59+E59))","v":0},{"$f":"SUM(I47:I58)","v":0},{"$f":"SUM(J47:J58)","v":0},null,{"$f":"IF(I59=0,0,(B59-I59)/I59)","v":0},{"$f":"IF(K59=0,0,(H59-K59)/K59)","v":0}]